{"text_format":"1","workbook":"xlsx","n_sheets":4,"sheets":["Effizienz-Faktor-Neu","Graphik-Effizienz-Faktor","Graphik-V° vs. TPL","Graphik Brennraum vs. Gasdruck"],"not_rendered":{"charts":3,"images":1,"macros":1,"external_links":0,"defined_names":6,"comments":1,"pivot_tables":0},"unopened":[],"bounds":{"document_bytes":16777216,"sheet_cells":100000,"rows_first":2000,"rows_last":500,"rows_between":2000,"halvings":0,"cell_chars":16384,"cell_head_chars":4096},"cells_cut":0,"cells_raw":0,"read":"whole","date_system":"1900"}

{"sheet":"Effizienz-Faktor-Neu","index":0,"n_rows":155,"n_cols":22,"rows_kept":155,"cut":false,"hidden":false,"merged":[]}
[]
[null,null,null,null,null,null,null,null,null,null,null,null,null,null,null,null,null,null,null,"Copyright© by\nGian-Marchet® 2008\nAlle Rechte vorbehalten\nAll Rights reserved"]
["Rang","Effizienz-Faktor","Patrone","Hülsenvolumen randvoll","Brennraum Effektiv","Brennraum Faktor","Maximal zulässiger Gasdruck\ngemäss CIP","Effektiver Gasdruck","Gasdruck Faktor","Ladungsmasse","Pulver-Sorte","Geschossmasse\nin Gramm","Geschossmasse\nin Grains","Kaliber","BC","V°","V200","E°","E200","Gasdruck CIP /\nBrennraum Faktor /\nGasdruck Faktor","V° *V° / Ladungsmasse / 10000","Lauflänge"]
[1,{"$f":"(T4*U4*L4/10000)*(T4/6000)","v":132.23219516654459},".376 Steyr",4.95,3.8460000000000001,{"$f":"E4/D4","v":0.77696969696969698},4300,3594,{"$f":"H4/G4","v":0.83581395348837206},54,"R901",{"$f":"$E$146","v":15.5},{"$f":"$F$146","v":239},{"$f":"$D$146","v":0.375},{"$f":"$G$146","v":0.4},794,{"$f":"P4*$H$146","v":667.75400000000002},{"$f":"P4^2*L4/2000","v":4885.8789999999999},{"$f":"Q4^2*L4/2000","v":3455.6893849990001},{"$f":"(G4/F4/I4)","v":6621.4752095926915},{"$f":"(P4^2/J4/1000)","v":11.674740740740742},600]
[2,{"$f":"(T5*U5*L5/10000)*(T5/6000)","v":113.48717338956372},".416/323 Gian-Marchet®",5.0010000000000003,4.0709999999999997,{"$f":"E5/D5","v":0.81403719256148754},4400,4010,{"$f":"H5/G5","v":0.91136363636363638},55,"N120",{"$f":"$E$144","v":17.5},{"$f":"$F$144","v":270},{"$f":"$D$144","v":0.41599999999999998},{"$f":"$G$144","v":0.375},780,{"$f":"P5*$H$144","v":646.62},{"$f":"P5^2*L5/2000","v":5323.5},{"$f":"Q5^2*L5/2000","v":3658.5274635000001},{"$f":"(G5/F5/I5)","v":5930.8471635943315},{"$f":"(P5^2/J5/1000)","v":11.061818181818182},600]
[3,{"$f":"(T6*U6*L6/10000)*(T6/6000)","v":108.17700389339612},".416/323 Gian-Marchet®",5.0010000000000003,4.0709999999999997,{"$f":"E6/D6","v":0.81403719256148754},4400,4398,{"$f":"H6/G6","v":0.99954545454545451},45.9,"R910",{"$f":"$E$144","v":17.5},{"$f":"$F$144","v":270},{"$f":"$D$144","v":0.41599999999999998},{"$f":"$G$144","v":0.375},763,{"$f":"P6*$H$144","v":632.52699999999993},{"$f":"P6^2*L6/2000","v":5093.9787500000002},{"$f":"Q6^2*L6/2000","v":3500.7910501287497},{"$f":"(G6/F6/I6)","v":5407.6164452053827},{"$f":"(P6^2/J6/1000)","v":12.683420479302834},600]
[4,{"$f":"(T7*U7*L7/10000)*(T7/6000)","v":106.63169865253798},".376 Steyr",4.95,3.8460000000000001,{"$f":"E7/D7","v":0.77696969696969698},4300,4050,{"$f":"H7/G7","v":0.94186046511627908},53,"N130",{"$f":"$E$146","v":15.5},{"$f":"$F$146","v":239},{"$f":"$D$146","v":0.375},{"$f":"$G$146","v":0.4},796,{"$f":"P7*$H$146","v":669.43599999999992},{"$f":"P7^2*L7/2000","v":4910.5240000000003},{"$f":"Q7^2*L7/2000","v":3473.1203252439991},{"$f":"(G7/F7/I7)","v":5875.9461489570695},{"$f":"(P7^2/J7/1000)","v":11.955018867924528},600]
[5,{"$f":"(T8*U8*L8/10000)*(T8/6000)","v":102.02217532677469},"10,3x72 Gian-Marchet®",6.351,5.5229999999999997,{"$f":"E8/D8","v":0.86962683042040623},4300,3571,{"$f":"H8/G8","v":0.83046511627906971},74,"R901",{"$f":"$E$145","v":16.5},{"$f":"$F$145","v":254},{"$f":"$D$145","v":0.41299999999999998},{"$f":"$G$145","v":0.34499999999999997},880,{"$f":"P8*$H$145","v":711.92000000000007},{"$f":"P8^2*L8/2000","v":6388.8},{"$f":"Q8^2*L8/2000","v":4181.3482128000005},{"$f":"(G8/F8/I8)","v":5954.0726636245781},{"$f":"(P8^2/J8/1000)","v":10.464864864864865},685]
[6,{"$f":"(T9*U9*L9/10000)*(T9/6000)","v":100.28259087905903},".416 Taylor",5.8440000000000003,4.8849999999999998,{"$f":"E9/D9","v":0.83590006844626963},4400,4027,{"$f":"H9/G9","v":0.91522727272727278},70,"R901",{"$f":"$E$144","v":17.5},{"$f":"$F$144","v":270},{"$f":"$D$144","v":0.41599999999999998},{"$f":"$G$144","v":0.375},853,{"$f":"P9*$H$144","v":707.13699999999994},{"$f":"P9^2*L9/2000","v":6366.5787499999997},{"$f":"Q9^2*L9/2000","v":4375.3739467287496},{"$f":"(G9/F9/I9)","v":5751.3442400948161},{"$f":"(P9^2/J9/1000)","v":10.394414285714285},650]
[7,{"$f":"(T10*U10*L10/10000)*(T10/6000)","v":95.966025047624413},".416 Taylor",5.8440000000000003,4.8849999999999998,{"$f":"E10/D10","v":0.83590006844626963},4400,4114,{"$f":"H10/G10","v":0.93500000000000005},67,"N130",{"$f":"$E$144","v":17.5},{"$f":"$F$144","v":270},{"$f":"$D$144","v":0.41599999999999998},{"$f":"$G$144","v":0.375},834,{"$f":"P10*$H$144","v":691.38599999999997},{"$f":"P10^2*L10/2000","v":6086.1149999999998},{"$f":"Q10^2*L10/2000","v":4182.6277587149998},{"$f":"(G10/F10/I10)","v":5629.7188271419109},{"$f":"(P10^2/J10/1000)","v":10.381432835820895},650]
[8,{"$f":"(T11*U11*L11/10000)*(T11/6000)","v":93.633004916881035},".416 Remington Magnum",6.8760000000000003,5.923,{"$f":"E11/D11","v":0.86140197789412443},4300,3706,{"$f":"H11/G11","v":0.86186046511627912},75.5,"N130",{"$f":"$E$144","v":17.5},{"$f":"$F$144","v":270},{"$f":"$D$144","v":0.41599999999999998},{"$f":"$G$144","v":0.375},850,{"$f":"P11*$H$144","v":704.65},{"$f":"P11^2*L11/2000","v":6321.875},{"$f":"Q11^2*L11/2000","v":4344.6516968749993},{"$f":"(G11/F11/I11)","v":5791.961035483343},{"$f":"(P11^2/J11/1000)","v":9.5695364238410594},650]
[9,{"$f":"(T12*U12*L12/10000)*(T12/6000)","v":92.166509710854285},".375 Holland & Holland Magnum",6.1879999999999997,5.0590000000000002,{"$f":"E12/D12","v":0.81755009696186176},4300,3906,{"$f":"H12/G12","v":0.90837209302325583},69.5,"R902",{"$f":"$E$146","v":15.5},{"$f":"$F$146","v":239},{"$f":"$D$146","v":0.375},{"$f":"$G$146","v":0.4},860,{"$f":"P12*$H$146","v":723.26},{"$f":"P12^2*L12/2000","v":5731.9},{"$f":"Q12^2*L12/2000","v":4054.0639638999996},{"$f":"(G12/F12/I12)","v":5790.1564407376454},{"$f":"(P12^2/J12/1000)","v":10.641726618705036},627]
[10,{"$f":"(T13*U13*L13/10000)*(T13/6000)","v":86.423664125652394},".375 Holland & Holland Magnum",6.1879999999999997,5.0590000000000002,{"$f":"E13/D13","v":0.81755009696186176},4300,4043,{"$f":"H13/G13","v":0.94023255813953488},66,"N133",{"$f":"$E$146","v":15.5},{"$f":"$F$146","v":239},{"$f":"$D$146","v":0.375},{"$f":"$G$146","v":0.4},840,{"$f":"P13*$H$146","v":706.43999999999994},{"$f":"P13^2*L13/2000","v":5468.4},{"$f":"Q13^2*L13/2000","v":3867.6954203999994},{"$f":"(G13/F13/I13)","v":5593.9527720804463},{"$f":"(P13^2/J13/1000)","v":10.69090909090909},627]
[11,{"$f":"(T14*U14*L14/10000)*(T14/6000)","v":84.212024655224766},"9,3x64",5.7140000000000004,4.9939999999999998,{"$f":"E14/D14","v":0.87399369968498419},4400,3924,{"$f":"H14/G14","v":0.89181818181818184},70,"R902",{"$f":"$E$147","v":13},{"$f":"$F$147","v":200},{"$f":"$D$147","v":0.36599999999999999},{"$f":"$G$147","v":0.4},924,{"$f":"P14*$H$147","v":758.60399999999993},{"$f":"P14^2*L14/2000","v":5549.5439999999999},{"$f":"Q14^2*L14/2000","v":3740.620187303999},{"$f":"(G14/F14/I14)","v":5645.0533708748153},{"$f":"(P14^2/J14/1000)","v":12.1968},650]
[12,{"$f":"(T15*U15*L15/10000)*(T15/6000)","v":83.210203135332648},"9,3x64",5.7140000000000004,4.9939999999999998,{"$f":"E15/D15","v":0.87399369968498419},4400,3936,{"$f":"H15/G15","v":0.89454545454545453},69.5,"N140",{"$f":"$E$147","v":13},{"$f":"$F$147","v":200},{"$f":"$D$147","v":0.36599999999999999},{"$f":"$G$147","v":0.4},918,{"$f":"P15*$H$147","v":753.678},{"$f":"P15^2*L15/2000","v":5477.7060000000001},{"$f":"Q15^2*L15/2000","v":3692.1984299459996},{"$f":"(G15/F15/I15)","v":5627.8428423050755},{"$f":"(P15^2/J15/1000)","v":12.125525179856115},650]
[13,{"$f":"(T16*U16*L16/10000)*(T16/6000)","v":81.469320630561924},".416 Remington Magnum",6.8760000000000003,5.923,{"$f":"E16/D16","v":0.86140197789412443},4300,4059,{"$f":"H16/G16","v":0.94395348837209303},82,"R901",{"$f":"$E$144","v":17.5},{"$f":"$F$144","v":270},{"$f":"$D$144","v":0.41599999999999998},{"$f":"$G$144","v":0.375},905,{"$f":"P16*$H$144","v":750.245},{"$f":"P16^2*L16/2000","v":7166.46875},{"$f":"Q16^2*L16/2000","v":4925.09115021875},{"$f":"(G16/F16/I16)","v":5288.2502087955827},{"$f":"(P16^2/J16/1000)","v":9.9881097560975611},650]
[14,{"$f":"(T17*U17*L17/10000)*(T17/6000)","v":81.201220680456771},".375 Holland & Holland Magnum",6.1879999999999997,5.0590000000000002,{"$f":"E17/D17","v":0.81755009696186176},4300,4189,{"$f":"H17/G17","v":0.97418604651162788},71,"R902",{"$f":"$E$146","v":15.5},{"$f":"$F$146","v":239},{"$f":"$D$146","v":0.375},{"$f":"$G$146","v":0.4},875,{"$f":"P17*$H$146","v":735.875},{"$f":"P17^2*L17/2000","v":5933.59375},{"$f":"Q17^2*L17/2000","v":4196.7181210937497},{"$f":"(G17/F17/I17)","v":5398.9856905039978},{"$f":"(P17^2/J17/1000)","v":10.783450704225352},627]
[15,{"$f":"(T18*U18*L18/10000)*(T18/6000)","v":80.247567037388549},".338 Winchester Magnum",5.532,4.6769999999999996,{"$f":"E18/D18","v":0.84544468546637741},4300,3876,{"$f":"H18/G18","v":0.90139534883720929},70,"N550",{"$f":"$E$149","v":12.7},{"$f":"$F$149","v":196},{"$f":"$D$149","v":0.33800000000000002},{"$f":"$G$149","v":0.46},913,{"$f":"P18*$H$149","v":780.61500000000001},{"$f":"P18^2*L18/2000","v":5293.1631499999994},{"$f":"Q18^2*L18/2000","v":3869.4345917287496},{"$f":"(G18/F18/I18)","v":5642.4529232374225},{"$f":"(P18^2/J18/1000)","v":11.908128571428572},650]
[16,{"$f":"(T19*U19*L19/10000)*(T19/6000)","v":79.937904707671024},"10,3x72 Gian-Marchet®",6.351,5.5229999999999997,{"$f":"E19/D19","v":0.86962683042040623},4300,4071,{"$f":"H19/G19","v":0.94674418604651167},73,"N130",{"$f":"$E$145","v":16.5},{"$f":"$F$145","v":254},{"$f":"$D$145","v":0.41299999999999998},{"$f":"$G$145","v":0.34499999999999997},882,{"$f":"P19*$H$145","v":713.53800000000001},{"$f":"P19^2*L19/2000","v":6417.8729999999996},{"$f":"Q19^2*L19/2000","v":4200.375938913},{"$f":"(G19/F19/I19)","v":5222.793780840916},{"$f":"(P19^2/J19/1000)","v":10.656493150684932},685]
[17,{"$f":"(T20*U20*L20/10000)*(T20/6000)","v":79.412171052802151},".416 Remington Magnum",6.8760000000000003,5.923,{"$f":"E20/D20","v":0.86140197789412443},4300,4003,{"$f":"H20/G20","v":0.93093023255813956},83,"R901",{"$f":"$E$145","v":16.5},{"$f":"$F$145","v":254},{"$f":"$D$145","v":0.41299999999999998},{"$f":"$G$145","v":0.34499999999999997},913,{"$f":"P20*$H$145","v":738.61700000000008},{"$f":"P20^2*L20/2000","v":6876.9442499999996},{"$f":"Q20^2*L20/2000","v":4500.8293496842516},{"$f":"(G20/F20/I20)","v":5362.2302267052883},{"$f":"(P20^2/J20/1000)","v":10.042999999999999},650]
[18,{"$f":"(T21*U21*L21/10000)*(T21/6000)","v":78.804796976988939},".308 Winchester",3.6360000000000001,3.056,{"$f":"E21/D21","v":0.84048404840484048},4150,3837,{"$f":"H21/G21","v":0.9245783132530121},43,"R901",{"$f":"$E$151","v":9},{"$f":"$F$151","v":140},{"$f":"$D$151","v":0.308},{"$f":"$G$151","v":0.38},890,{"$f":"P21*$H$151","v":740.48},{"$f":"P21^2*L21/2000","v":3564.45},{"$f":"Q21^2*L21/2000","v":2467.3978368000003},{"$f":"(G21/F21/I21)","v":5340.4139154853474},{"$f":"(P21^2/J21/1000)","v":18.420930232558142},600]
[19,{"$f":"(T22*U22*L22/10000)*(T22/6000)","v":78.180031605465615},".416 Remington Magnum",6.8760000000000003,5.923,{"$f":"E22/D22","v":0.86140197789412443},4300,4046,{"$f":"H22/G22","v":0.94093023255813957},86,"R902",{"$f":"$E$144","v":17.5},{"$f":"$F$144","v":270},{"$f":"$D$144","v":0.41599999999999998},{"$f":"$G$144","v":0.375},905,{"$f":"P22*$H$144","v":750.245},{"$f":"P22^2*L22/2000","v":7166.46875},{"$f":"Q22^2*L22/2000","v":4925.09115021875},{"$f":"(G22/F22/I22)","v":5305.2416207368433},{"$f":"(P22^2/J22/1000)","v":9.5235465116279059},650]
[20,{"$f":"(T23*U23*L23/10000)*(T23/6000)","v":78.166206863228339},"9,3x64",5.7140000000000004,4.9939999999999998,{"$f":"E23/D23","v":0.87399369968498419},4400,4195,{"$f":"H23/G23","v":0.95340909090909087},68,"R901",{"$f":"$E$147","v":13},{"$f":"$F$147","v":200},{"$f":"$D$147","v":0.36599999999999999},{"$f":"$G$147","v":0.4},938,{"$f":"P23*$H$147","v":770.09799999999996},{"$f":"P23^2*L23/2000","v":5718.9859999999999},{"$f":"Q23^2*L23/2000","v":3854.8310424259994},{"$f":"(G23/F23/I23)","v":5280.378886129387},{"$f":"(P23^2/J23/1000)","v":12.938882352941176},650]
[21,{"$f":"(T24*U24*L24/10000)*(T24/6000)","v":77.997673902309614},".375 Ruger",6.4249999999999998,5.2990000000000004,{"$f":"E24/D24","v":0.82474708171206235},4400,4395,{"$f":"H24/G24","v":0.9988636363636364},73.5,"R902",{"$f":"$E$146","v":15.5},{"$f":"$F$146","v":239},{"$f":"$D$146","v":0.375},{"$f":"$G$146","v":0.4},882,{"$f":"P24*$H$146","v":741.76199999999994},{"$f":"P24^2*L24/2000","v":6028.9110000000001},{"$f":"Q24^2*L24/2000","v":4264.1342009910004},{"$f":"(G24/F24/I24)","v":5341.0382236672458},{"$f":"(P24^2/J24/1000)","v":10.584},627]
[22,{"$f":"(T25*U25*L25/10000)*(T25/6000)","v":74.054005816955566},"8x68S",5.5839999999999996,4.7830000000000004,{"$f":"E25/D25","v":0.85655444126074509},4400,4101,{"$f":"H25/G25","v":0.93204545454545451},71,"N550",{"$f":"$E$150","v":11.34},{"$f":"$F$150","v":175},{"$f":"$D$150","v":0.32300000000000001},{"$f":"$G$150","v":0.44},957,{"$f":"P25*$H$150","v":815.36400000000003},{"$f":"P25^2*L25/2000","v":5192.8638300000002},{"$f":"Q25^2*L25/2000","v":3769.5206256523206},{"$f":"(G25/F25/I25)","v":5511.3832554264491},{"$f":"(P25^2/J25/1000)","v":12.899281690140846},630]
[23,{"$f":"(T26*U26*L26/10000)*(T26/6000)","v":72.534243045128335},".375 Ruger",6.4249999999999998,5.2990000000000004,{"$f":"E26/D26","v":0.82474708171206235},4400,4394,{"$f":"H26/G26","v":0.99863636363636366},78,"N540",{"$f":"$E$146","v":15.5},{"$f":"$F$146","v":239},{"$f":"$D$146","v":0.375},{"$f":"$G$146","v":0.4},876,{"$f":"P26*$H$146","v":736.71600000000001},{"$f":"P26^2*L26/2000","v":5947.1639999999998},{"$f":"Q26^2*L26/2000","v":4206.3161010840004},{"$f":"(G26/F26/I26)","v":5342.2537535315305},{"$f":"(P26^2/J26/1000)","v":9.8381538461538458},627]
[24,{"$f":"(T27*U27*L27/10000)*(T27/6000)","v":70.70669208975707},".308 Winchester",3.6360000000000001,3.056,{"$f":"E27/D27","v":0.84048404840484048},4150,4077,{"$f":"H27/G27","v":0.98240963855421681},41.5,"N130",{"$f":"$E$151","v":9},{"$f":"$F$151","v":140},{"$f":"$D$151","v":0.308},{"$f":"$G$151","v":0.38},880,{"$f":"P27*$H$151","v":732.16},{"$f":"P27^2*L27/2000","v":3484.8},{"$f":"Q27^2*L27/2000","v":2412.2621951999995},{"$f":"(G27/F27/I27)","v":5026.0407637275648},{"$f":"(P27^2/J27/1000)","v":18.660240963855419},600]
[25,{"$f":"(T28*U28*L28/10000)*(T28/6000)","v":70.587710240402771},"10,57 Meteor",8.3109999999999999,7.3550000000000004,{"$f":"E28/D28","v":0.88497172422091208},4400,4315,{"$f":"H28/G28","v":0.98068181818181821},102,"R902",{"$f":"$E$144","v":17.5},{"$f":"$F$144","v":270},{"$f":"$D$144","v":0.41599999999999998},{"$f":"$G$144","v":0.375},980,{"$f":"P28*$H$144","v":812.42},{"$f":"P28^2*L28/2000","v":8403.5},{"$f":"Q28^2*L28/2000","v":5775.2297435},{"$f":"(G28/F28/I28)","v":5069.850560035542},{"$f":"(P28^2/J28/1000)","v":9.4156862745098042},685]
[25,{"$f":"(T29*U29*L29/10000)*(T29/6000)","v":70.285195237660147},"10,57 Meteor",8.3109999999999999,7.3550000000000004,{"$f":"E29/D29","v":0.88497172422091208},4400,4181,{"$f":"H29/G29","v":0.9502272727272727},108,"R907",{"$f":"$E$144","v":17.5},{"$f":"$F$144","v":270},{"$f":"$D$144","v":0.41599999999999998},{"$f":"$G$144","v":0.375},975,{"$f":"P29*$H$144","v":808.27499999999998},{"$f":"P29^2*L29/2000","v":8317.96875},{"$f":"Q29^2*L29/2000","v":5716.4491617187496},{"$f":"(G29/F29/I29)","v":5232.3379972622251},{"$f":"(P29^2/J29/1000)","v":8.8020833333333339},685]
[26,{"$f":"(T30*U30*L30/10000)*(T30/6000)","v":70.15126082988786},"7mm-08",3.5059999999999998,2.9630000000000001,{"$f":"E30/D30","v":0.84512264689104399},4150,3958,{"$f":"H30/G30","v":0.95373493975903612},41.5,"R902",{"$f":"$E$153","v":8.3000000000000007},{"$f":"$F$153","v":128},{"$f":"$D$153","v":0.28399999999999997},{"$f":"$G$153","v":0.44},891,{"$f":"P30*$H$153","v":760.91399999999999},{"$f":"P30^2*L30/2000","v":3294.6061500000005},{"$f":"Q30^2*L30/2000","v":2402.8089788934003},{"$f":"(G30/F30/I30)","v":5148.736471390368},{"$f":"(P30^2/J30/1000)","v":19.129662650602413},600]
[27,{"$f":"(T31*U31*L31/10000)*(T31/6000)","v":68.890782187844692},"8x64S",4.5129999999999999,3.8540000000000001,{"$f":"E31/D31","v":0.85397739862619104},4050,3750,{"$f":"H31/G31","v":0.92592592592592593},52,"R902",{"$f":"$E$150","v":11.34},{"$f":"$F$150","v":175},{"$f":"$D$150","v":0.32300000000000001},{"$f":"$G$150","v":0.44},850,{"$f":"P31*$H$150","v":724.19999999999993},{"$f":"P31^2*L31/2000","v":4096.5749999999998},{"$f":"Q31^2*L31/2000","v":2973.7201787999993},{"$f":"(G31/F31/I31)","v":5121.91541255838},{"$f":"(P31^2/J31/1000)","v":13.89423076923077},600]
[28,{"$f":"(T32*U32*L32/10000)*(T32/6000)","v":68.839699076287133},".378 Weatherby Magnum",9.0250000000000004,7.8540000000000001,{"$f":"E32/D32","v":0.87024930747922435},4400,4231,{"$f":"H32/G32","v":0.96159090909090905},109,"N550",{"$f":"$E$146","v":15.5},{"$f":"$F$146","v":239},{"$f":"$D$146","v":0.375},{"$f":"$G$146","v":0.4},1025,{"$f":"P32*$H$146","v":862.02499999999998},{"$f":"P32^2*L32/2000","v":8142.34375},{"$f":"Q32^2*L32/2000","v":5758.9250298437491},{"$f":"(G32/F32/I32)","v":5257.976506603587},{"$f":"(P32^2/J32/1000)","v":9.6387614678899087},685]
[29,{"$f":"(T33*U33*L33/10000)*(T33/6000)","v":68.826541164116037},".300 Weatherby Magnum",6.4859999999999998,6.0460000000000003,{"$f":"E33/D33","v":0.93216157878507566},4400,3506,{"$f":"H33/G33","v":0.79681818181818187},73.599999999999994,"R903",{"$f":"$E$151","v":9},{"$f":"$F$151","v":140},{"$f":"$D$151","v":0.308},{"$f":"$G$151","v":0.38},981,{"$f":"P33*$H$151","v":816.19200000000001},{"$f":"P33^2*L33/2000","v":4330.6244999999999},{"$f":"Q33^2*L33/2000","v":2997.7622138880001},{"$f":"(G33/F33/I33)","v":5923.8253066101497},{"$f":"(P33^2/J33/1000)","v":13.075557065217392},630]
[30,{"$f":"(T34*U34*L34/10000)*(T34/6000)","v":68.507575171577983},".300 WSM",5.2990000000000004,4.7270000000000003,{"$f":"E34/D34","v":0.89205510473674277},4300,3712,{"$f":"H34/G34","v":0.86325581395348838},64.5,"R907",{"$f":"$E$151","v":9},{"$f":"$F$151","v":140},{"$f":"$D$151","v":0.308},{"$f":"$G$151","v":0.38},972,{"$f":"P34*$H$151","v":808.70399999999995},{"$f":"P34^2*L34/2000","v":4251.5280000000002},{"$f":"Q34^2*L34/2000","v":2943.0097182719996},{"$f":"(G34/F34/I34)","v":5583.8952267969044},{"$f":"(P34^2/J34/1000)","v":14.647813953488372},650]
[31,{"$f":"(T35*U35*L35/10000)*(T35/6000)","v":68.18372035720418},"7mm-08",3.5059999999999998,2.9630000000000001,{"$f":"E35/D35","v":0.84512264689104399},4150,4126,{"$f":"H35/G35","v":0.99421686746987947},40,"R901",{"$f":"$E$153","v":8.3000000000000007},{"$f":"$F$153","v":128},{"$f":"$D$153","v":0.28399999999999997},{"$f":"$G$153","v":0.44},899,{"$f":"P35*$H$153","v":767.74599999999998},{"$f":"P35^2*L35/2000","v":3354.0341500000004},{"$f":"Q35^2*L35/2000","v":2446.1507701414002},{"$f":"(G35/F35/I35)","v":4939.0932995063204},{"$f":"(P35^2/J35/1000)","v":20.205025000000003},600]
[32,{"$f":"(T36*U36*L36/10000)*(T36/6000)","v":67.689661471884406},".375 Remington Ultra Magnum",7.5970000000000004,6.4980000000000002,{"$f":"E36/D36","v":0.85533763327629331},4400,4332,{"$f":"H36/G36","v":0.9845454545454545},90.5,"R903",{"$f":"$E$146","v":15.5},{"$f":"$F$146","v":239},{"$f":"$D$146","v":0.375},{"$f":"$G$146","v":0.4},932,{"$f":"P36*$H$146","v":783.81200000000001},{"$f":"P36^2*L36/2000","v":6731.8360000000002},{"$f":"Q36^2*L36/2000","v":4761.2996979159998},{"$f":"(G36/F36/I36)","v":5224.9161401178344},{"$f":"(P36^2/J36/1000)","v":9.5980552486187847},660]
[33,{"$f":"(T37*U37*L37/10000)*(T37/6000)","v":67.44520423222103},"7mm-08",3.5059999999999998,2.9630000000000001,{"$f":"E37/D37","v":0.84512264689104399},4150,4119,{"$f":"H37/G37","v":0.99253012048192768},38,"N130",{"$f":"$E$153","v":8.3000000000000007},{"$f":"$F$153","v":128},{"$f":"$D$153","v":0.28399999999999997},{"$f":"$G$153","v":0.44},870,{"$f":"P37*$H$153","v":742.98},{"$f":"P37^2*L37/2000","v":3141.1350000000007},{"$f":"Q37^2*L37/2000","v":2290.8800136600003},{"$f":"(G37/F37/I37)","v":4947.4870001852578},{"$f":"(P37^2/J37/1000)","v":19.918421052631579},600]
[34,{"$f":"(T38*U38*L38/10000)*(T38/6000)","v":67.343777066960641},".416 Weatherby Magnum",9.09,8.1379999999999999,{"$f":"E38/D38","v":0.89526952695269524},4400,4289,{"$f":"H38/G38","v":0.97477272727272724},109,"R902",{"$f":"$E$144","v":17.5},{"$f":"$F$144","v":270},{"$f":"$D$144","v":0.41599999999999998},{"$f":"$G$144","v":0.375},995,{"$f":"P38*$H$144","v":824.8549999999999},{"$f":"P38^2*L38/2000","v":8662.71875},{"$f":"Q38^2*L38/2000","v":5953.3754964687478},{"$f":"(G38/F38/I38)","v":5041.914821967368},{"$f":"(P38^2/J38/1000)","v":9.0827981651376142},685]
[35,{"$f":"(T39*U39*L39/10000)*(T39/6000)","v":67.022149178150414},".284 Winchester",5.3239999999999998,4.7510000000000003,{"$f":"E39/D39","v":0.89237415477084903},4400,4181,{"$f":"H39/G39","v":0.9502272727272727},49,"R902",{"$f":"$E$153","v":8.3000000000000007},{"$f":"$F$153","v":128},{"$f":"$D$153","v":0.28399999999999997},{"$f":"$G$153","v":0.44},939,{"$f":"P39*$H$153","v":801.90599999999995},{"$f":"P39^2*L39/2000","v":3659.1421500000006},{"$f":"Q39^2*L39/2000","v":2668.6709162693996},{"$f":"(G39/F39/I39)","v":5188.934657495538},{"$f":"(P39^2/J39/1000)","v":17.994306122448979},600]
[36,{"$f":"(T40*U40*L40/10000)*(T40/6000)","v":66.928375551907578},".338 Lapua Magnum",7.3369999999999997,6.6859999999999999,{"$f":"E40/D40","v":0.91127163690881829},4700,4623,{"$f":"H40/G40","v":0.98361702127659578},91,"R907",{"$f":"$E$149","v":12.7},{"$f":"$F$149","v":196},{"$f":"$D$149","v":0.33800000000000002},{"$f":"$G$149","v":0.46},1023,{"$f":"P40*$H$149","v":874.66499999999996},{"$f":"P40^2*L40/2000","v":6645.4591499999997},{"$f":"Q40^2*L40/2000","v":4857.9967751287495},{"$f":"(G40/F40/I40)","v":5243.5325615416787},{"$f":"(P40^2/J40/1000)","v":11.500318681318682},650]
[37,{"$f":"(T41*U41*L41/10000)*(T41/6000)","v":66.755384459747631},"8x68S",5.5839999999999996,4.7830000000000004,{"$f":"E41/D41","v":0.85655444126074509},4400,4326,{"$f":"H41/G41","v":0.98318181818181816},68,"R907",{"$f":"$E$150","v":11.34},{"$f":"$F$150","v":175},{"$f":"$D$150","v":0.32300000000000001},{"$f":"$G$150","v":0.44},938,{"$f":"P41*$H$150","v":799.17599999999993},{"$f":"P41^2*L41/2000","v":4988.7154799999998},{"$f":"Q41^2*L41/2000","v":3621.3285217939197},{"$f":"(G41/F41/I41)","v":5224.7301734867933},{"$f":"(P41^2/J41/1000)","v":12.938882352941176},630]
[38,{"$f":"(T42*U42*L42/10000)*(T42/6000)","v":66.56471031428849},".375 Remington Ultra Magnum",7.5970000000000004,6.4980000000000002,{"$f":"E42/D42","v":0.85533763327629331},4400,4321,{"$f":"H42/G42","v":0.98204545454545455},95.5,"N550",{"$f":"$E$146","v":15.5},{"$f":"$F$146","v":239},{"$f":"$D$146","v":0.375},{"$f":"$G$146","v":0.4},947,{"$f":"P42*$H$146","v":796.42700000000002},{"$f":"P42^2*L42/2000","v":6950.2697500000004},{"$f":"Q42^2*L42/2000","v":4915.79373904975},{"$f":"(G42/F42/I42)","v":5238.2172457742317},{"$f":"(P42^2/J42/1000)","v":9.3906701570680635},660]
[39,{"$f":"(T43*U43*L43/10000)*(T43/6000)","v":65.97020179438563},".375 Remington Ultra Magnum",7.5970000000000004,6.4980000000000002,{"$f":"E43/D43","v":0.85533763327629331},4400,4350,{"$f":"H43/G43","v":0.98863636363636365},91.5,"R907",{"$f":"$E$146","v":15.5},{"$f":"$F$146","v":239},{"$f":"$D$146","v":0.375},{"$f":"$G$146","v":0.4},929,{"$f":"P43*$H$146","v":781.28899999999999},{"$f":"P43^2*L43/2000","v":6688.5677500000002},{"$f":"Q43^2*L43/2000","v":4730.6968867877495},{"$f":"(G43/F43/I43)","v":5203.2957974690707},{"$f":"(P43^2/J43/1000)","v":9.432142076502732},660]
[40,{"$f":"(T44*U44*L44/10000)*(T44/6000)","v":65.953433621889104},".338 Lapua Magnum",7.3369999999999997,6.6859999999999999,{"$f":"E44/D44","v":0.91127163690881829},4700,4692,{"$f":"H44/G44","v":0.99829787234042555},90,"R903",{"$f":"$E$149","v":12.7},{"$f":"$F$149","v":196},{"$f":"$D$149","v":0.33800000000000002},{"$f":"$G$149","v":0.46},1025,{"$f":"P44*$H$149","v":876.375},{"$f":"P44^2*L44/2000","v":6671.46875},{"$f":"Q44^2*L44/2000","v":4877.0104429687499},{"$f":"(G44/F44/I44)","v":5166.4217885778298},{"$f":"(P44^2/J44/1000)","v":11.673611111111111},650]
[41,{"$f":"(T45*U45*L45/10000)*(T45/6000)","v":65.603505560185155},"9,3x62 Drückjagd",5.0170000000000003,4.298,{"$f":"E45/D45","v":0.85668726330476375},3900,3649,{"$f":"H45/G45","v":0.93564102564102569},57.5,"N140",{"$f":"$E$148","v":14.5},{"$f":"$F$148","v":224},{"$f":"$D$148","v":0.36599999999999999},{"$f":"$G$148","v":0.33},812,{"$f":"P45*$H$148","v":665.02799999999991},{"$f":"P45^2*L45/2000","v":4780.2439999999997},{"$f":"Q45^2*L45/2000","v":3206.4012456839987},{"$f":"(G45/F45/I45)","v":4865.5623314380391},{"$f":"(P45^2/J45/1000)","v":11.466852173913043},570]
[42,{"$f":"(T46*U46*L46/10000)*(T46/6000)","v":65.51157895203005},".378 Weatherby Magnum",9.0250000000000004,7.8540000000000001,{"$f":"E46/D46","v":0.87024930747922435},4400,4205,{"$f":"H46/G46","v":0.95568181818181819},106,"R907",{"$f":"$E$146","v":15.5},{"$f":"$F$146","v":239},{"$f":"$D$146","v":0.375},{"$f":"$G$146","v":0.4},980,{"$f":"P46*$H$146","v":824.18},{"$f":"P46^2*L46/2000","v":7443.1},{"$f":"Q46^2*L46/2000","v":5264.3632110999988},{"$f":"(G46/F46/I46)","v":5290.4871817930507},{"$f":"(P46^2/J46/1000)","v":9.060377358490566},685]
[43,{"$f":"(T47*U47*L47/10000)*(T47/6000)","v":65.208641569067524},".338 Lapua Magnum",7.3369999999999997,6.6859999999999999,{"$f":"E47/D47","v":0.91127163690881829},4700,4678,{"$f":"H47/G47","v":0.99531914893617024},95,"N550",{"$f":"$E$149","v":12.7},{"$f":"$F$149","v":196},{"$f":"$D$149","v":0.33800000000000002},{"$f":"$G$149","v":0.46},1044,{"$f":"P47*$H$149","v":892.62},{"$f":"P47^2*L47/2000","v":6921.0935999999992},{"$f":"Q47^2*L47/2000","v":5059.4924489400009},{"$f":"(G47/F47/I47)","v":5181.8835040630993},{"$f":"(P47^2/J47/1000)","v":11.47301052631579},650]
[44,{"$f":"(T48*U48*L48/10000)*(T48/6000)","v":65.060284042298292},"9,3x62",5.0170000000000003,4.298,{"$f":"E48/D48","v":0.85668726330476375},3900,3588,{"$f":"H48/G48","v":0.92},55.5,"N130",{"$f":"$E$147","v":13},{"$f":"$F$147","v":200},{"$f":"$D$147","v":0.36599999999999999},{"$f":"$G$147","v":0.4},825,{"$f":"P48*$H$147","v":677.32499999999993},{"$f":"P48^2*L48/2000","v":4424.0625},{"$f":"Q48^2*L48/2000","v":2981.9995115624993},{"$f":"(G48/F48/I48)","v":4948.2823153337249},{"$f":"(P48^2/J48/1000)","v":12.263513513513514},570]
[45,{"$f":"(T49*U49*L49/10000)*(T49/6000)","v":64.91533294318512},"8x64S",4.5129999999999999,3.8540000000000001,{"$f":"E49/D49","v":0.85397739862619104},4050,3822,{"$f":"H49/G49","v":0.94370370370370371},53,"N140",{"$f":"$E$150","v":11.34},{"$f":"$F$150","v":175},{"$f":"$D$150","v":0.32300000000000001},{"$f":"$G$150","v":0.44},849,{"$f":"P49*$H$150","v":723.34799999999996},{"$f":"P49^2*L49/2000","v":4086.9416699999997},{"$f":"Q49^2*L49/2000","v":2966.7273060196794},{"$f":"(G49/F49/I49)","v":5025.4272101239994},{"$f":"(P49^2/J49/1000)","v":13.600018867924527},600]
[46,{"$f":"(T50*U50*L50/10000)*(T50/6000)","v":64.134880725273248},".338 Winchester Magnum",5.532,4.9569999999999999,{"$f":"E50/D50","v":0.89605929139551699},4300,4295,{"$f":"H50/G50","v":0.99883720930232556},63.5,"R907",{"$f":"$E$149","v":12.7},{"$f":"$F$149","v":196},{"$f":"$D$149","v":0.33800000000000002},{"$f":"$G$149","v":0.46},913,{"$f":"P50*$H$149","v":780.61500000000001},{"$f":"P50^2*L50/2000","v":5293.1631499999994},{"$f":"Q50^2*L50/2000","v":3869.4345917287496},{"$f":"(G50/F50/I50)","v":4804.3760742854201},{"$f":"(P50^2/J50/1000)","v":13.127070866141732},650]
[47,{"$f":"(T51*U51*L51/10000)*(T51/6000)","v":63.553343122146046},"9,3x62",5.0170000000000003,4.298,{"$f":"E51/D51","v":0.85668726330476375},3900,3649,{"$f":"H51/G51","v":0.93564102564102569},59,"R901",{"$f":"$E$147","v":13},{"$f":"$F$147","v":200},{"$f":"$D$147","v":0.36599999999999999},{"$f":"$G$147","v":0.4},855,{"$f":"P51*$H$147","v":701.95499999999993},{"$f":"P51^2*L51/2000","v":4751.6625000000004},{"$f":"Q51^2*L51/2000","v":3202.8153431624992},{"$f":"(G51/F51/I51)","v":4865.5623314380391},{"$f":"(P51^2/J51/1000)","v":12.390254237288136},570]
[48,{"$f":"(T52*U52*L52/10000)*(T52/6000)","v":63.022812663888274},".338 Winchester Magnum",5.532,4.9569999999999999,{"$f":"E52/D52","v":0.89605929139551699},4300,4309,{"$f":"H52/G52","v":1.0020930232558141},63.5,"R902",{"$f":"$E$149","v":12.7},{"$f":"$F$149","v":196},{"$f":"$D$149","v":0.33800000000000002},{"$f":"$G$149","v":0.46},908,{"$f":"P52*$H$149","v":776.34},{"$f":"P52^2*L52/2000","v":5235.3463999999994},{"$f":"Q52^2*L52/2000","v":3827.1691020600006},{"$f":"(G52/F52/I52)","v":4788.7665906372422},{"$f":"(P52^2/J52/1000)","v":12.983685039370078},650]
[49,{"$f":"(T53*U53*L53/10000)*(T53/6000)","v":62.442046637333803},"8x57IS",4.0910000000000002,3.6019999999999999,{"$f":"E53/D53","v":0.88046932290393543},3900,3537,{"$f":"H53/G53","v":0.90692307692307694},49.5,"N140",{"$f":"$E$150","v":11.34},{"$f":"$F$150","v":175},{"$f":"$D$150","v":0.32300000000000001},{"$f":"$G$150","v":0.44},828,{"$f":"P53*$H$150","v":705.45600000000002},{"$f":"P53^2*L53/2000","v":3887.2612799999997},{"$f":"Q53^2*L53/2000","v":2821.7785121971201},{"$f":"(G53/F53/I53)","v":4884.0480196893732},{"$f":"(P53^2/J53/1000)","v":13.850181818181818},630]
[50,{"$f":"(T54*U54*L54/10000)*(T54/6000)","v":62.205639614151792},"9,3x62",5.0170000000000003,4.298,{"$f":"E54/D54","v":0.85668726330476375},3900,3630,{"$f":"H54/G54","v":0.93076923076923079},62.2,"R902",{"$f":"$E$147","v":13},{"$f":"$F$147","v":200},{"$f":"$D$147","v":0.36599999999999999},{"$f":"$G$147","v":0.4},864,{"$f":"P54*$H$147","v":709.34399999999994},{"$f":"P54^2*L54/2000","v":4852.2240000000002},{"$f":"Q54^2*L54/2000","v":3270.5979171839995},{"$f":"(G54/F54/I54)","v":4891.0294620984587},{"$f":"(P54^2/J54/1000)","v":12.001543408360128},570]
[51,{"$f":"(T55*U55*L55/10000)*(T55/6000)","v":61.352034631074481},"7x64",4.4800000000000004,3.891,{"$f":"E55/D55","v":0.86852678571428565},4150,3947,{"$f":"H55/G55","v":0.95108433734939757},50.5,"H335",{"$f":"$E$153","v":8.3000000000000007},{"$f":"$F$153","v":128},{"$f":"$D$153","v":0.28399999999999997},{"$f":"$G$153","v":0.44},942,{"$f":"P55*$H$153","v":804.46799999999996},{"$f":"P55^2*L55/2000","v":3682.5606000000002},{"$f":"Q55^2*L55/2000","v":2685.7503665496006},{"$f":"(G55/F55/I55)","v":5023.9562665872809},{"$f":"(P55^2/J55/1000)","v":17.571564356435644},630]
[52,{"$f":"(T56*U56*L56/10000)*(T56/6000)","v":61.058138277703129},"7x64",4.4800000000000004,3.891,{"$f":"E56/D56","v":0.86852678571428565},4150,3972,{"$f":"H56/G56","v":0.95710843373493981},50,"R902",{"$f":"$E$153","v":8.3000000000000007},{"$f":"$F$153","v":128},{"$f":"$D$153","v":0.28399999999999997},{"$f":"$G$153","v":0.44},941,{"$f":"P56*$H$153","v":803.61400000000003},{"$f":"P56^2*L56/2000","v":3674.7461500000004},{"$f":"Q56^2*L56/2000","v":2680.0511631334007},{"$f":"(G56/F56/I56)","v":4992.3351924018116},{"$f":"(P56^2/J56/1000)","v":17.709619999999997},630]
[53,{"$f":"(T57*U57*L57/10000)*(T57/6000)","v":60.850505875983508},".260 Remington",3.4740000000000002,2.9860000000000002,{"$f":"E57/D57","v":0.85952792170408754},4150,4102,{"$f":"H57/G57","v":0.98843373493975906},40,"R902",{"$f":"$E$155","v":7.2},{"$f":"$F$155","v":116},{"$f":"$D$155","v":0.26400000000000001},{"$f":"$G$155","v":0.46},922,{"$f":"P57*$H$155","v":792.92},{"$f":"P57^2*L57/2000","v":3060.3024},{"$f":"Q57^2*L57/2000","v":2263.3996550400002},{"$f":"(G57/F57/I57)","v":4884.7298280975119},{"$f":"(P57^2/J57/1000)","v":21.252099999999999},600]
[54,{"$f":"(T58*U58*L58/10000)*(T58/6000)","v":60.775575016005149},"10,3x74R",5.9089999999999998,5.1319999999999997,{"$f":"E58/D58","v":0.86850566931798945},3500,3024,{"$f":"H58/G58","v":0.86399999999999999},67,"R901",{"$f":"$E$145","v":16.5},{"$f":"$F$145","v":254},{"$f":"$D$145","v":0.41299999999999998},{"$f":"$G$145","v":0.34499999999999997},825,{"$f":"P58*$H$145","v":667.42500000000007},{"$f":"P58^2*L58/2000","v":5615.15625},{"$f":"Q58^2*L58/2000","v":3675.013077656251},{"$f":"(G58/F58/I58)","v":4664.2481091769878},{"$f":"(P58^2/J58/1000)","v":10.158582089552239},650]
[55,{"$f":"(T59*U59*L59/10000)*(T59/6000)","v":60.399215764776173},"7x64",4.4800000000000004,3.891,{"$f":"E59/D59","v":0.86852678571428565},4150,3910,{"$f":"H59/G59","v":0.94216867469879517},53.5,"R903",{"$f":"$E$153","v":8.3000000000000007},{"$f":"$F$153","v":128},{"$f":"$D$153","v":0.28399999999999997},{"$f":"$G$153","v":0.44},953,{"$f":"P59*$H$153","v":813.86199999999997},{"$f":"P59^2*L59/2000","v":3769.0673500000003},{"$f":"Q59^2*L59/2000","v":2748.8411234325999},{"$f":"(G59/F59/I59)","v":5071.4975407212269},{"$f":"(P59^2/J59/1000)","v":16.975869158878503},630]
[56,{"$f":"(T60*U60*L60/10000)*(T60/6000)","v":60.040703053935388},".260 Remington",3.4740000000000002,2.9860000000000002,{"$f":"E60/D60","v":0.85952792170408754},4150,4104,{"$f":"H60/G60","v":0.98891566265060238},40.5,"IMR4064",{"$f":"$E$155","v":7.2},{"$f":"$F$155","v":116},{"$f":"$D$155","v":0.26400000000000001},{"$f":"$G$155","v":0.46},922,{"$f":"P60*$H$155","v":792.92},{"$f":"P60^2*L60/2000","v":3060.3024},{"$f":"Q60^2*L60/2000","v":2263.3996550400002},{"$f":"(G60/F60/I60)","v":4882.3493554717343},{"$f":"(P60^2/J60/1000)","v":20.989728395061729},600]
[57,{"$f":"(T61*U61*L61/10000)*(T61/6000)","v":59.732089932684168},"8x57IS",4.0910000000000002,3.6019999999999999,{"$f":"E61/D61","v":0.88046932290393543},3900,3749,{"$f":"H61/G61","v":0.96128205128205124},50.5,"IMR4895",{"$f":"$E$150","v":11.34},{"$f":"$F$150","v":175},{"$f":"$D$150","v":0.32300000000000001},{"$f":"$G$150","v":0.44},867,{"$f":"P61*$H$150","v":738.68399999999997},{"$f":"P61^2*L61/2000","v":4262.0766299999996},{"$f":"Q61^2*L61/2000","v":3093.8584740235201},{"$f":"(G61/F61/I61)","v":4607.8628555991763},{"$f":"(P61^2/J61/1000)","v":14.884930693069307},630]
[58,{"$f":"(T62*U62*L62/10000)*(T62/6000)","v":59.730868565580742},"7x64",4.4800000000000004,3.891,{"$f":"E62/D62","v":0.86852678571428565},4150,3945,{"$f":"H62/G62","v":0.95060240963855425},50.5,"N140",{"$f":"$E$153","v":8.3000000000000007},{"$f":"$F$153","v":128},{"$f":"$D$153","v":0.28399999999999997},{"$f":"$G$153","v":0.44},929,{"$f":"P62*$H$153","v":793.36599999999999},{"$f":"P62^2*L62/2000","v":3581.6201500000002},{"$f":"Q62^2*L62/2000","v":2612.1328813174005},{"$f":"(G62/F62/I62)","v":5026.5032659619765},{"$f":"(P62^2/J62/1000)","v":17.089920792079205},630]
[59,{"$f":"(T63*U63*L63/10000)*(T63/6000)","v":59.212666892393749},"7mm STW",6.3630000000000004,5.8,{"$f":"E63/D63","v":0.91151972340091147},4600,4173,{"$f":"H63/G63","v":0.90717391304347827},82,"R905",{"$f":"$E$153","v":8.3000000000000007},{"$f":"$F$153","v":128},{"$f":"$D$153","v":0.28399999999999997},{"$f":"$G$153","v":0.44},1065,{"$f":"P63*$H$153","v":909.51},{"$f":"P63^2*L63/2000","v":4707.0337499999996},{"$f":"Q63^2*L63/2000","v":3432.9150264150003},{"$f":"(G63/F63/I63)","v":5562.8994273531816},{"$f":"(P63^2/J63/1000)","v":13.832012195121951},650]
[60,{"$f":"(T64*U64*L64/10000)*(T64/6000)","v":58.816829043380714},"8x57IS",4.0910000000000002,3.6019999999999999,{"$f":"E64/D64","v":0.88046932290393543},3900,3862,{"$f":"H64/G64","v":0.9902564102564102},47,"H322",{"$f":"$E$150","v":11.34},{"$f":"$F$150","v":175},{"$f":"$D$150","v":0.32300000000000001},{"$f":"$G$150","v":0.44},855,{"$f":"P64*$H$150","v":728.46},{"$f":"P64^2*L64/2000","v":4144.9117500000002},{"$f":"Q64^2*L64/2000","v":3008.8080189719999},{"$f":"(G64/F64/I64)","v":4473.0393178770873},{"$f":"(P64^2/J64/1000)","v":15.553723404255319},630]
[61,{"$f":"(T65*U65*L65/10000)*(T65/6000)","v":58.734889503885874},"8x57IS",4.0910000000000002,3.6019999999999999,{"$f":"E65/D65","v":0.88046932290393543},3900,3785,{"$f":"H65/G65","v":0.97051282051282051},49,"R902",{"$f":"$E$150","v":11.34},{"$f":"$F$150","v":175},{"$f":"$D$150","v":0.32300000000000001},{"$f":"$G$150","v":0.44},855,{"$f":"P65*$H$150","v":728.46},{"$f":"P65^2*L65/2000","v":4144.9117500000002},{"$f":"Q65^2*L65/2000","v":3008.8080189719999},{"$f":"(G65/F65/I65)","v":4564.0364189276916},{"$f":"(P65^2/J65/1000)","v":14.918877551020408},630]
[62,{"$f":"(T66*U66*L66/10000)*(T66/6000)","v":58.506663370222014},"9,3x62",5.0170000000000003,4.298,{"$f":"E66/D66","v":0.85668726330476375},3900,3730,{"$f":"H66/G66","v":0.95641025641025645},58.5,"N133",{"$f":"$E$147","v":13},{"$f":"$F$147","v":200},{"$f":"$D$147","v":0.36599999999999999},{"$f":"$G$147","v":0.4},835,{"$f":"P66*$H$147","v":685.53499999999997},{"$f":"P66^2*L66/2000","v":4531.9624999999996},{"$f":"Q66^2*L66/2000","v":3054.7285354624996},{"$f":"(G66/F66/I66)","v":4759.9026668679371},{"$f":"(P66^2/J66/1000)","v":11.918376068376068},570]
[63,{"$f":"(T67*U67*L67/10000)*(T67/6000)","v":57.918961907724594},"7,5x55",4.4020000000000001,3.855,{"$f":"E67/D67","v":0.87573830077237613},3800,3509,{"$f":"H67/G67","v":0.92342105263157892},51,"R902",{"$f":"$E$152","v":9.8000000000000007},{"$f":"$F$152","v":142},{"$f":"$D$152","v":0.307},{"$f":"$G$152","v":0.42},905,{"$f":"P67*$H$152","v":762.91499999999996},{"$f":"P67^2*L67/2000","v":4013.2225000000003},{"$f":"Q67^2*L67/2000","v":2851.9925564025002},{"$f":"(G67/F67/I67)","v":4699.0436672199967},{"$f":"(P67^2/J67/1000)","v":16.059313725490195},620]
[64,{"$f":"(T68*U68*L68/10000)*(T68/6000)","v":57.775099490438663},".300 WSM",5.2990000000000004,4.7270000000000003,{"$f":"E68/D68","v":0.89205510473674277},4300,4267,{"$f":"H68/G68","v":0.99232558139534888},62,"R902",{"$f":"$E$151","v":9},{"$f":"$F$151","v":140},{"$f":"$D$151","v":0.308},{"$f":"$G$151","v":0.38},1006,{"$f":"P68*$H$151","v":836.99199999999996},{"$f":"P68^2*L68/2000","v":4554.1620000000003},{"$f":"Q68^2*L68/2000","v":3152.5002362879995},{"$f":"(G68/F68/I68)","v":4857.6093465831045},{"$f":"(P68^2/J68/1000)","v":16.323161290322581},650]
[65,{"$f":"(T69*U69*L69/10000)*(T69/6000)","v":57.347413196020241},"7mm WSM",5.0010000000000003,4.4710000000000001,{"$f":"E69/D69","v":0.89402119576084782},4450,4343,{"$f":"H69/G69","v":0.97595505617977529},63.5,"N550",{"$f":"$E$153","v":8.3000000000000007},{"$f":"$F$153","v":128},{"$f":"$D$153","v":0.28399999999999997},{"$f":"$G$153","v":0.44},1006,{"$f":"P69*$H$153","v":859.12400000000002},{"$f":"P69^2*L69/2000","v":4199.9494000000004},{"$f":"Q69^2*L69/2000","v":3063.0902966104004},{"$f":"(G69/F69/I69)","v":5100.1432827298067},{"$f":"(P69^2/J69/1000)","v":15.937574803149605},600]
[66,{"$f":"(T70*U70*L70/10000)*(T70/6000)","v":56.679218962477997},".260 Remington",3.4740000000000002,2.9860000000000002,{"$f":"E70/D70","v":0.85952792170408754},4150,4101,{"$f":"H70/G70","v":0.98819277108433734},42.5,"N540",{"$f":"$E$155","v":7.2},{"$f":"$F$155","v":116},{"$f":"$D$155","v":0.26400000000000001},{"$f":"$G$155","v":0.46},917,{"$f":"P70*$H$155","v":788.62},{"$f":"P70^2*L70/2000","v":3027.2003999999997},{"$f":"Q70^2*L70/2000","v":2238.9174158400001},{"$f":"(G70/F70/I70)","v":4885.9209351026566},{"$f":"(P70^2/J70/1000)","v":19.785623529411765},600]
[67,{"$f":"(T71*U71*L71/10000)*(T71/6000)","v":56.629026377931694},"7mm WSM",5.0010000000000003,4.4710000000000001,{"$f":"E71/D71","v":0.89402119576084782},4450,4433,{"$f":"H71/G71","v":0.99617977528089885},60.5,"R903",{"$f":"$E$153","v":8.3000000000000007},{"$f":"$F$153","v":128},{"$f":"$D$153","v":0.28399999999999997},{"$f":"$G$153","v":0.44},996,{"$f":"P71*$H$153","v":850.58399999999995},{"$f":"P71^2*L71/2000","v":4116.8664000000008},{"$f":"Q71^2*L71/2000","v":3002.4965353824},{"$f":"(G71/F71/I71)","v":4996.5987540932892},{"$f":"(P71^2/J71/1000)","v":16.396958677685951},600]
[68,{"$f":"(T72*U72*L72/10000)*(T72/6000)","v":56.275897755747486},"7mm Remington Magnum",5.3239999999999998,4.7510000000000003,{"$f":"E72/D72","v":0.89237415477084903},4300,4101,{"$f":"H72/G72","v":0.95372093023255811},61.5,"R903",{"$f":"$E$153","v":8.3000000000000007},{"$f":"$F$153","v":128},{"$f":"$D$153","v":0.28399999999999997},{"$f":"$G$153","v":0.44},990,{"$f":"P72*$H$153","v":845.46},{"$f":"P72^2*L72/2000","v":4067.4150000000004},{"$f":"Q72^2*L72/2000","v":2966.4308381400006},{"$f":"(G72/F72/I72)","v":5052.4282904852844},{"$f":"(P72^2/J72/1000)","v":15.936585365853658},630]
[69,{"$f":"(T73*U73*L73/10000)*(T73/6000)","v":55.9711669047499},"8x57IS",4.0910000000000002,3.6019999999999999,{"$f":"E73/D73","v":0.88046932290393543},3900,3866,{"$f":"H73/G73","v":0.99128205128205127},47.8,"Benchmark",{"$f":"$E$150","v":11.34},{"$f":"$F$150","v":175},{"$f":"$D$150","v":0.32300000000000001},{"$f":"$G$150","v":0.44},842,{"$f":"P73*$H$150","v":717.38400000000001},{"$f":"P73^2*L73/2000","v":4019.8258799999999},{"$f":"Q73^2*L73/2000","v":2918.0076855955199},{"$f":"(G73/F73/I73)","v":4468.4112378792843},{"$f":"(P73^2/J73/1000)","v":14.831882845188286},630]
[70,{"$f":"(T74*U74*L74/10000)*(T74/6000)","v":55.871445421863363},"8x57IS",4.0910000000000002,3.6019999999999999,{"$f":"E74/D74","v":0.88046932290393543},3900,3778,{"$f":"H74/G74","v":0.9687179487179487},50.5,"N140",{"$f":"$E$150","v":11.34},{"$f":"$F$150","v":175},{"$f":"$D$150","v":0.32300000000000001},{"$f":"$G$150","v":0.44},845,{"$f":"P74*$H$150","v":719.93999999999994},{"$f":"P74^2*L74/2000","v":4048.5217499999999},{"$f":"Q74^2*L74/2000","v":2938.8381324119996},{"$f":"(G74/F74/I74)","v":4572.492812504318},{"$f":"(P74^2/J74/1000)","v":14.139108910891089},630]
[71,{"$f":"(T75*U75*L75/10000)*(T75/6000)","v":55.58110683576006},"8mm Remington Magnum",6.4249999999999998,5.95,{"$f":"E75/D75","v":0.92607003891050588},4400,4315,{"$f":"H75/G75","v":0.98068181818181821},76.5,"R907",{"$f":"$E$150","v":11.34},{"$f":"$F$150","v":175},{"$f":"$D$150","v":0.32300000000000001},{"$f":"$G$150","v":0.44},979,{"$f":"P75*$H$150","v":834.10799999999995},{"$f":"P75^2*L75/2000","v":5434.3604699999996},{"$f":"Q75^2*L75/2000","v":3944.8240026148796},{"$f":"(G75/F75/I75)","v":4844.8542800666028},{"$f":"(P75^2/J75/1000)","v":12.528640522875818},670]
[72,{"$f":"(T76*U76*L76/10000)*(T76/6000)","v":55.17470249934054},"8x57IS",4.0910000000000002,3.6019999999999999,{"$f":"E76/D76","v":0.88046932290393543},3900,3875,{"$f":"H76/G76","v":0.99358974358974361},50,"Norma 201",{"$f":"$E$150","v":11.34},{"$f":"$F$150","v":175},{"$f":"$D$150","v":0.32300000000000001},{"$f":"$G$150","v":0.44},857,{"$f":"P76*$H$150","v":730.16399999999999},{"$f":"P76^2*L76/2000","v":4164.3258299999998},{"$f":"Q76^2*L76/2000","v":3022.9007773003195},{"$f":"(G76/F76/I76)","v":4458.0329924235639},{"$f":"(P76^2/J76/1000)","v":14.688979999999999},630]
[73,{"$f":"(T77*U77*L77/10000)*(T77/6000)","v":55.146653631876703},".270 Winchester",4.383,3.9460000000000002,{"$f":"E77/D77","v":0.90029660050193938},4300,4085,{"$f":"H77/G77","v":0.95},54,"R904",{"$f":"$E$154","v":8},{"$f":"$F$154","v":123},{"$f":"$D$154","v":0.27700000000000002},{"$f":"$G$154","v":0.44},940,{"$f":"P77*$H$154","v":803.69999999999993},{"$f":"P77^2*L77/2000","v":3534.4},{"$f":"Q77^2*L77/2000","v":2583.7347599999998},{"$f":"(G77/F77/I77)","v":5027.5828954037397},{"$f":"(P77^2/J77/1000)","v":16.362962962962964},600]
[74,{"$f":"(T78*U78*L78/10000)*(T78/6000)","v":55.080056632478438},".300 WSM",5.2990000000000004,4.7270000000000003,{"$f":"E78/D78","v":0.89205510473674277},4300,4269,{"$f":"H78/G78","v":0.99279069767441863},64.2,"N150",{"$f":"$E$151","v":9},{"$f":"$F$151","v":140},{"$f":"$D$151","v":0.308},{"$f":"$G$151","v":0.38},1000,{"$f":"P78*$H$151","v":832},{"$f":"P78^2*L78/2000","v":4500},{"$f":"Q78^2*L78/2000","v":3115.0079999999998},{"$f":"(G78/F78/I78)","v":4855.3335867580481},{"$f":"(P78^2/J78/1000)","v":15.576323987538942},650]
[75,{"$f":"(T79*U79*L79/10000)*(T79/6000)","v":54.832919905425783},"6,5x64 Brenneke",4.3499999999999996,3.8639999999999999,{"$f":"E79/D79","v":0.88827586206896558},4300,4210,{"$f":"H79/G79","v":0.97906976744186047},53.5,"IMR4350",{"$f":"$E$155","v":7.2},{"$f":"$F$155","v":116},{"$f":"$D$155","v":0.26400000000000001},{"$f":"$G$155","v":0.46},1000,{"$f":"P79*$H$155","v":860},{"$f":"P79^2*L79/2000","v":3600},{"$f":"Q79^2*L79/2000","v":2662.56},{"$f":"(G79/F79/I79)","v":4944.3243681857748},{"$f":"(P79^2/J79/1000)","v":18.691588785046729},650]
[76,{"$f":"(T80*U80*L80/10000)*(T80/6000)","v":54.264161954038329},"7x64",4.4800000000000004,3.891,{"$f":"E80/D80","v":0.86852678571428565},4150,4160,{"$f":"H80/G80","v":1.0024096385542169},54.5,"R903",{"$f":"$E$153","v":8.3000000000000007},{"$f":"$F$153","v":128},{"$f":"$D$153","v":0.28399999999999997},{"$f":"$G$153","v":0.44},970,{"$f":"P80*$H$153","v":828.38},{"$f":"P80^2*L80/2000","v":3904.7350000000006},{"$f":"Q80^2*L80/2000","v":2847.7857112600004},{"$f":"(G80/F80/I80)","v":4766.7200442836529},{"$f":"(P80^2/J80/1000)","v":17.264220183486238},630]
[77,{"$f":"(T81*U81*L81/10000)*(T81/6000)","v":54.122631056031544},"6,5x64 Brenneke",4.3499999999999996,3.8639999999999999,{"$f":"E81/D81","v":0.88827586206896558},4300,4201,{"$f":"H81/G81","v":0.97697674418604652},54,"N550",{"$f":"$E$155","v":7.2},{"$f":"$F$155","v":116},{"$f":"$D$155","v":0.26400000000000001},{"$f":"$G$155","v":0.46},996,{"$f":"P81*$H$155","v":856.56},{"$f":"P81^2*L81/2000","v":3571.2575999999999},{"$f":"Q81^2*L81/2000","v":2641.3021209599997},{"$f":"(G81/F81/I81)","v":4954.9168269607499},{"$f":"(P81^2/J81/1000)","v":18.370666666666668},650]
[78,{"$f":"(T82*U82*L82/10000)*(T82/6000)","v":53.526835070900539},".300 Winchester Magnum",5.7910000000000004,5.2119999999999997,{"$f":"E82/D82","v":0.9000172681747538},4300,4289,{"$f":"H82/G82","v":0.99744186046511629},66.5,"R902",{"$f":"$E$151","v":9},{"$f":"$F$151","v":140},{"$f":"$D$151","v":0.308},{"$f":"$G$151","v":0.38},1017,{"$f":"P82*$H$151","v":846.14400000000001},{"$f":"P82^2*L82/2000","v":4654.3005000000003},{"$f":"Q82^2*L82/2000","v":3221.8185093119996},{"$f":"(G82/F82/I82)","v":4789.9394424366756},{"$f":"(P82^2/J82/1000)","v":15.553218045112782},650]
[79,{"$f":"(T83*U83*L83/10000)*(T83/6000)","v":53.424844584608856},"6,5x64 Brenneke",4.3499999999999996,3.8639999999999999,{"$f":"E83/D83","v":0.88827586206896558},4300,4244,{"$f":"H83/G83","v":0.98697674418604653},52,"R907",{"$f":"$E$155","v":7.2},{"$f":"$F$155","v":116},{"$f":"$D$155","v":0.26400000000000001},{"$f":"$G$155","v":0.46},981,{"$f":"P83*$H$155","v":843.66},{"$f":"P83^2*L83/2000","v":3464.4996000000001},{"$f":"Q83^2*L83/2000","v":2562.34390416},{"$f":"(G83/F83/I83)","v":4904.7138525122782},{"$f":"(P83^2/J83/1000)","v":18.506942307692309},650]
[80,{"$f":"(T84*U84*L84/10000)*(T84/6000)","v":52.717674236653558},"7mm Weatherby Magnum",5.681,5.117,{"$f":"E84/D84","v":0.90072170392536521},4400,4360,{"$f":"H84/G84","v":0.99090909090909096},67,"R907",{"$f":"$E$153","v":8.3000000000000007},{"$f":"$F$153","v":128},{"$f":"$D$153","v":0.28399999999999997},{"$f":"$G$153","v":0.44},1025,{"$f":"P84*$H$153","v":875.35},{"$f":"P84^2*L84/2000","v":4360.09375},{"$f":"Q84^2*L84/2000","v":3179.8861333750006},{"$f":"(G84/F84/I84)","v":4929.7879168735981},{"$f":"(P84^2/J84/1000)","v":15.680970149253731},650]
[81,{"$f":"(T85*U85*L85/10000)*(T85/6000)","v":52.398403159185634},".300 Winchester Magnum",5.7910000000000004,5.2119999999999997,{"$f":"E85/D85","v":0.9000172681747538},4300,4271,{"$f":"H85/G85","v":0.99325581395348839},66.5,"N140",{"$f":"$E$151","v":9},{"$f":"$F$151","v":140},{"$f":"$D$151","v":0.308},{"$f":"$G$151","v":0.38},1002,{"$f":"P85*$H$151","v":833.66399999999999},{"$f":"P85^2*L85/2000","v":4518.018},{"$f":"Q85^2*L85/2000","v":3127.4804920319998},{"$f":"(G85/F85/I85)","v":4810.1264969821823},{"$f":"(P85^2/J85/1000)","v":15.097804511278195},650]
[82,{"$f":"(T86*U86*L86/10000)*(T86/6000)","v":52.228121003003722},"7x57",3.831,3.387,{"$f":"E86/D86","v":0.88410336726703209},3900,3769,{"$f":"H86/G86","v":0.96641025641025646},44.7,"R902",{"$f":"$E$153","v":8.3000000000000007},{"$f":"$F$153","v":128},{"$f":"$D$153","v":0.28399999999999997},{"$f":"$G$153","v":0.44},900,{"$f":"P86*$H$153","v":768.6},{"$f":"P86^2*L86/2000","v":3361.5000000000005},{"$f":"Q86^2*L86/2000","v":2451.5957340000004},{"$f":"(G86/F86/I86)","v":4564.5716853328431},{"$f":"(P86^2/J86/1000)","v":18.120805369127517},600]
[83,{"$f":"(T87*U87*L87/10000)*(T87/6000)","v":51.461929648951049},".30-06 Springfield",4.383,3.9460000000000002,{"$f":"E87/D87","v":0.90029660050193938},4050,3910,{"$f":"H87/G87","v":0.96543209876543212},54.5,"N140",{"$f":"$E$151","v":9},{"$f":"$F$151","v":140},{"$f":"$D$151","v":0.308},{"$f":"$G$151","v":0.38},928,{"$f":"P87*$H$151","v":772.096},{"$f":"P87^2*L87/2000","v":3875.328},{"$f":"Q87^2*L87/2000","v":2682.595049472},{"$f":"(G87/F87/I87)","v":4659.5897234144322},{"$f":"(P87^2/J87/1000)","v":15.801541284403669},600]
[84,{"$f":"(T88*U88*L88/10000)*(T88/6000)","v":51.246441413691215},".30-06 Springfield",4.383,3.9460000000000002,{"$f":"E88/D88","v":0.90029660050193938},4050,3955,{"$f":"H88/G88","v":0.97654320987654319},55,"N150",{"$f":"$E$151","v":9},{"$f":"$F$151","v":140},{"$f":"$D$151","v":0.308},{"$f":"$G$151","v":0.38},941,{"$f":"P88*$H$151","v":782.91199999999992},{"$f":"P88^2*L88/2000","v":3984.6644999999999},{"$f":"Q88^2*L88/2000","v":2758.2803988479995},{"$f":"(G88/F88/I88)","v":4606.5728997599062},{"$f":"(P88^2/J88/1000)","v":16.099654545454545},600]
[85,{"$f":"(T89*U89*L89/10000)*(T89/6000)","v":50.982227021097579},"9,3x74R",5.3890000000000002,4.6689999999999996,{"$f":"E89/D89","v":0.86639450732974566},3400,2958,{"$f":"H89/G89","v":0.87},60,"R902",{"$f":"$E$147","v":13},{"$f":"$F$147","v":200},{"$f":"$D$147","v":0.36599999999999999},{"$f":"$G$147","v":0.4},833,{"$f":"P89*$H$147","v":683.89299999999992},{"$f":"P89^2*L89/2000","v":4510.2785000000003},{"$f":"Q89^2*L89/2000","v":3040.1126304184991},{"$f":"(G89/F89/I89)","v":4510.7003148671974},{"$f":"(P89^2/J89/1000)","v":11.564816666666667},650]
[86,{"$f":"(T90*U90*L90/10000)*(T90/6000)","v":50.712503520980029},".30-06 Springfield",4.383,3.9460000000000002,{"$f":"E90/D90","v":0.90029660050193938},4050,4005,{"$f":"H90/G90","v":0.98888888888888893},54.2,"R902",{"$f":"$E$151","v":9},{"$f":"$F$151","v":140},{"$f":"$D$151","v":0.308},{"$f":"$G$151","v":0.38},941,{"$f":"P90*$H$151","v":782.91199999999992},{"$f":"P90^2*L90/2000","v":3984.6644999999999},{"$f":"Q90^2*L90/2000","v":2758.2803988479995},{"$f":"(G90/F90/I90)","v":4549.0626263546637},{"$f":"(P90^2/J90/1000)","v":16.337287822878228},600]
[87,{"$f":"(T91*U91*L91/10000)*(T91/6000)","v":50.620581174628803},"7,5x55",4.4020000000000001,3.855,{"$f":"E91/D91","v":0.87573830077237613},3800,3688,{"$f":"H91/G91","v":0.97052631578947368},54,"N140",{"$f":"$E$152","v":9.8000000000000007},{"$f":"$F$152","v":142},{"$f":"$D$152","v":0.307},{"$f":"$G$152","v":0.42},915,{"$f":"P91*$H$152","v":771.34500000000003},{"$f":"P91^2*L91/2000","v":4102.4025000000001},{"$f":"Q91^2*L91/2000","v":2915.3682342225002},{"$f":"(G91/F91/I91)","v":4470.9718623305225},{"$f":"(P91^2/J91/1000)","v":15.504166666666666},620]
[88,{"$f":"(T92*U92*L92/10000)*(T92/6000)","v":50.521105283727067},"9,3x74R",5.3890000000000002,4.6689999999999996,{"$f":"E92/D92","v":0.86639450732974566},3400,3057,{"$f":"H92/G92","v":0.89911764705882358},54,"N130",{"$f":"$E$147","v":13},{"$f":"$F$147","v":200},{"$f":"$D$147","v":0.36599999999999999},{"$f":"$G$147","v":0.4},813,{"$f":"P92*$H$147","v":667.47299999999996},{"$f":"P92^2*L92/2000","v":4296.2984999999999},{"$f":"Q92^2*L92/2000","v":2895.8813372384993},{"$f":"(G92/F92/I92)","v":4364.6226795476514},{"$f":"(P92^2/J92/1000)","v":12.240166666666665},650]
[89,{"$f":"(T93*U93*L93/10000)*(T93/6000)","v":50.518224411155316},"9,3x74R",5.3890000000000002,4.6689999999999996,{"$f":"E93/D93","v":0.86639450732974566},3400,3002,{"$f":"H93/G93","v":0.88294117647058823},56,"N133",{"$f":"$E$147","v":13},{"$f":"$F$147","v":200},{"$f":"$D$147","v":0.36599999999999999},{"$f":"$G$147","v":0.4},813,{"$f":"P93*$H$147","v":667.47299999999996},{"$f":"P93^2*L93/2000","v":4296.2984999999999},{"$f":"Q93^2*L93/2000","v":2895.8813372384993},{"$f":"(G93/F93/I93)","v":4444.5874521576188},{"$f":"(P93^2/J93/1000)","v":11.803017857142857},650]
[90,{"$f":"(T94*U94*L94/10000)*(T94/6000)","v":50.234847554141602},"6,5x65 RWS",4.5449999999999999,4.0570000000000004,{"$f":"E94/D94","v":0.89262926292629274},4150,4025,{"$f":"H94/G94","v":0.96987951807228912},55,"N550",{"$f":"$E$155","v":7.2},{"$f":"$F$155","v":116},{"$f":"$D$155","v":0.26400000000000001},{"$f":"$G$155","v":0.46},1001,{"$f":"P94*$H$155","v":860.86},{"$f":"P94^2*L94/2000","v":3607.2036000000003},{"$f":"Q94^2*L94/2000","v":2667.8877825600002},{"$f":"(G94/F94/I94)","v":4793.5712678186765},{"$f":"(P94^2/J94/1000)","v":18.2182},650]
[91,{"$f":"(T95*U95*L95/10000)*(T95/6000)","v":49.597523658769887},".30 R Blaser",4.87,4.4370000000000003,{"$f":"E95/D95","v":0.91108829568788507},4050,3987,{"$f":"H95/G95","v":0.98444444444444446},58.5,"R902",{"$f":"$E$151","v":9},{"$f":"$F$151","v":140},{"$f":"$D$151","v":0.308},{"$f":"$G$151","v":0.38},974,{"$f":"P95*$H$151","v":810.36799999999994},{"$f":"P95^2*L95/2000","v":4269.0420000000004},{"$f":"Q95^2*L95/2000","v":2955.1333294079991},{"$f":"(G95/F95/I95)","v":4515.4739719504205},{"$f":"(P95^2/J95/1000)","v":16.216683760683761},650]
[92,{"$f":"(T96*U96*L96/10000)*(T96/6000)","v":49.488566597878545},"8x75RS",5.2590000000000003,4.6050000000000004,{"$f":"E96/D96","v":0.8756417569880206},3800,3750,{"$f":"H96/G96","v":0.98684210526315785},58.5,"R902",{"$f":"$E$150","v":11.34},{"$f":"$F$150","v":175},{"$f":"$D$150","v":0.32300000000000001},{"$f":"$G$150","v":0.44},890,{"$f":"P96*$H$150","v":758.28},{"$f":"P96^2*L96/2000","v":4491.2070000000003},{"$f":"Q96^2*L96/2000","v":3260.1851261279999},{"$f":"(G96/F96/I96)","v":4397.5365906623238},{"$f":"(P96^2/J96/1000)","v":13.54017094017094},650]
[93,{"$f":"(T97*U97*L97/10000)*(T97/6000)","v":49.170464609650594},"7x66 SE von Hofe",6.0380000000000003,5.47,{"$f":"E97/D97","v":0.90592911560119238},4400,4348,{"$f":"H97/G97","v":0.98818181818181816},75.5,"R904",{"$f":"$E$153","v":8.3000000000000007},{"$f":"$F$153","v":128},{"$f":"$D$153","v":0.28399999999999997},{"$f":"$G$153","v":0.44},1054,{"$f":"P97*$H$153","v":900.11599999999999},{"$f":"P97^2*L97/2000","v":4610.3014000000003},{"$f":"Q97^2*L97/2000","v":3362.3665758423999},{"$f":"(G97/F97/I97)","v":4914.9782454771284},{"$f":"(P97^2/J97/1000)","v":14.714119205298013},650]
[94,{"$f":"(T98*U98*L98/10000)*(T98/6000)","v":48.675919381321279},"6,5-284Norma",4.2850000000000001,3.903,{"$f":"E98/D98","v":0.91085180863477244},4100,3992,{"$f":"H98/G98","v":0.97365853658536583},50.5,"R903",{"$f":"$E$155","v":7.2},{"$f":"$F$155","v":116},{"$f":"$D$155","v":0.26400000000000001},{"$f":"$G$155","v":0.46},979,{"$f":"P98*$H$155","v":841.93999999999994},{"$f":"P98^2*L98/2000","v":3450.3876},{"$f":"Q98^2*L98/2000","v":2551.9066689599999},{"$f":"(G98/F98/I98)","v":4623.0592109147838},{"$f":"(P98^2/J98/1000)","v":18.979029702970298},650]
[95,{"$f":"(T99*U99*L99/10000)*(T99/6000)","v":48.617994289130976},".300 Weatherby Magnum",6.4859999999999998,6.0460000000000003,{"$f":"E99/D99","v":0.93216157878507566},4400,4368,{"$f":"H99/G99","v":0.99272727272727268},74,"R902",{"$f":"$E$151","v":9},{"$f":"$F$151","v":140},{"$f":"$D$151","v":0.308},{"$f":"$G$151","v":0.38},1030,{"$f":"P99*$H$151","v":856.95999999999992},{"$f":"P99^2*L99/2000","v":4774.05},{"$f":"Q99^2*L99/2000","v":3304.7119871999994},{"$f":"(G99/F99/I99)","v":4754.792015791023},{"$f":"(P99^2/J99/1000)","v":14.336486486486487},630]
[96,{"$f":"(T100*U100*L100/10000)*(T100/6000)","v":48.596859457844062},".270 Winchester",4.383,3.9460000000000002,{"$f":"E100/D100","v":0.90029660050193938},4300,4121,{"$f":"H100/G100","v":0.95837209302325577},61.5,"MRP",{"$f":"$E$154","v":8},{"$f":"$F$154","v":123},{"$f":"$D$154","v":0.27700000000000002},{"$f":"$G$154","v":0.44},950,{"$f":"P100*$H$154","v":812.25},{"$f":"P100^2*L100/2000","v":3610},{"$f":"Q100^2*L100/2000","v":2639.0002500000001},{"$f":"(G100/F100/I100)","v":4983.6632195399852},{"$f":"(P100^2/J100/1000)","v":14.674796747967479},600]
[97,{"$f":"(T101*U101*L101/10000)*(T101/6000)","v":48.563738571712072},"7,5x55",4.4020000000000001,3.855,{"$f":"E101/D101","v":0.87573830077237613},3800,3710,{"$f":"H101/G101","v":0.97631578947368425},55.5,"R907",{"$f":"$E$152","v":9.8000000000000007},{"$f":"$F$152","v":142},{"$f":"$D$152","v":0.307},{"$f":"$G$152","v":0.42},914,{"$f":"P101*$H$152","v":770.50199999999995},{"$f":"P101^2*L101/2000","v":4093.4404000000004},{"$f":"Q101^2*L101/2000","v":2908.9993268195999},{"$f":"(G101/F101/I101)","v":4444.4593607210154},{"$f":"(P101^2/J101/1000)","v":15.05218018018018},620]
[98,{"$f":"(T102*U102*L102/10000)*(T102/6000)","v":48.052402417023636},"8x75RS",5.2590000000000003,4.6050000000000004,{"$f":"E102/D102","v":0.8756417569880206},3800,3729,{"$f":"H102/G102","v":0.98131578947368425},63,"R903",{"$f":"$E$150","v":11.34},{"$f":"$F$150","v":175},{"$f":"$D$150","v":0.32300000000000001},{"$f":"$G$150","v":0.44},905,{"$f":"P102*$H$150","v":771.06},{"$f":"P102^2*L102/2000","v":4643.8717500000002},{"$f":"Q102^2*L102/2000","v":3371.0050788119997},{"$f":"(G102/F102/I102)","v":4422.3014789444114},{"$f":"(P102^2/J102/1000)","v":13.000396825396825},650]
[99,{"$f":"(T103*U103*L103/10000)*(T103/6000)","v":47.526298887374246},"7x65R",4.2439999999999998,3.7509999999999999,{"$f":"E103/D103","v":0.88383600377002824},3800,3599,{"$f":"H103/G103","v":0.94710526315789478},53,"R903",{"$f":"$E$153","v":8.3000000000000007},{"$f":"$F$153","v":128},{"$f":"$D$153","v":0.28399999999999997},{"$f":"$G$153","v":0.44},940,{"$f":"P103*$H$153","v":802.76},{"$f":"P103^2*L103/2000","v":3666.9400000000005},{"$f":"Q103^2*L103/2000","v":2674.3580130400001},{"$f":"(G103/F103/I103)","v":4539.5589239553719},{"$f":"(P103^2/J103/1000)","v":16.671698113207547},650]
[100,{"$f":"(T104*U104*L104/10000)*(T104/6000)","v":47.131384223327423},"7x66 SE von Hofe",6.0380000000000003,5.47,{"$f":"E104/D104","v":0.90592911560119238},4400,4332,{"$f":"H104/G104","v":0.9845454545454545},78,"R904",{"$f":"$E$153","v":8.3000000000000007},{"$f":"$F$153","v":128},{"$f":"$D$153","v":0.28399999999999997},{"$f":"$G$153","v":0.44},1045,{"$f":"P104*$H$153","v":892.43},{"$f":"P104^2*L104/2000","v":4531.9037500000004},{"$f":"Q104^2*L104/2000","v":3305.1899153349996},{"$f":"(G104/F104/I104)","v":4933.1314430596849},{"$f":"(P104^2/J104/1000)","v":14.000320512820513},650]
[101,{"$f":"(T105*U105*L105/10000)*(T105/6000)","v":46.94409622058388},"6,5-284Norma",4.2850000000000001,3.903,{"$f":"E105/D105","v":0.91085180863477244},4100,4026,{"$f":"H105/G105","v":0.98195121951219511},53.5,"N550",{"$f":"$E$155","v":7.2},{"$f":"$F$155","v":116},{"$f":"$D$155","v":0.26400000000000001},{"$f":"$G$155","v":0.46},998,{"$f":"P105*$H$155","v":858.28},{"$f":"P105^2*L105/2000","v":3585.6143999999999},{"$f":"Q105^2*L105/2000","v":2651.9204102399999},{"$f":"(G105/F105/I105)","v":4584.0169821092441},{"$f":"(P105^2/J105/1000)","v":18.616897196261682},650]
[102,{"$f":"(T106*U106*L106/10000)*(T106/6000)","v":46.766508881804931},".300 Weatherby Magnum",6.4859999999999998,6.0460000000000003,{"$f":"E106/D106","v":0.93216157878507566},4400,4368,{"$f":"H106/G106","v":0.99272727272727268},75,"N140",{"$f":"$E$151","v":9},{"$f":"$F$151","v":140},{"$f":"$D$151","v":0.308},{"$f":"$G$151","v":0.38},1017,{"$f":"P106*$H$151","v":846.14400000000001},{"$f":"P106^2*L106/2000","v":4654.3005000000003},{"$f":"Q106^2*L106/2000","v":3221.8185093119996},{"$f":"(G106/F106/I106)","v":4754.792015791023},{"$f":"(P106^2/J106/1000)","v":13.790520000000001},630]
[103,{"$f":"(T107*U107*L107/10000)*(T107/6000)","v":46.635480300041401},"6,5x65 RWS",4.5449999999999999,4.0570000000000004,{"$f":"E107/D107","v":0.89262926292629274},4150,4083,{"$f":"H107/G107","v":0.983855421686747},57,"R904",{"$f":"$E$155","v":7.2},{"$f":"$F$155","v":116},{"$f":"$D$155","v":0.26400000000000001},{"$f":"$G$155","v":0.46},996,{"$f":"P107*$H$155","v":856.56},{"$f":"P107^2*L107/2000","v":3571.2575999999999},{"$f":"Q107^2*L107/2000","v":2641.3021209599997},{"$f":"(G107/F107/I107)","v":4725.4774315381273},{"$f":"(P107^2/J107/1000)","v":17.40378947368421},650]
[104,{"$f":"(T108*U108*L108/10000)*(T108/6000)","v":46.595114234658766},".300 Weatherby Magnum",6.4859999999999998,6.0460000000000003,{"$f":"E108/D108","v":0.93216157878507566},4400,4377,{"$f":"H108/G108","v":0.99477272727272725},79,"R903",{"$f":"$E$151","v":9},{"$f":"$F$151","v":140},{"$f":"$D$151","v":0.308},{"$f":"$G$151","v":0.38},1044,{"$f":"P108*$H$151","v":868.60799999999995},{"$f":"P108^2*L108/2000","v":4904.7120000000004},{"$f":"Q108^2*L108/2000","v":3395.1593594879996},{"$f":"(G108/F108/I108)","v":4745.0151987606096},{"$f":"(P108^2/J108/1000)","v":13.796658227848102},630]
[105,{"$f":"(T109*U109*L109/10000)*(T109/6000)","v":46.292992978701498},"6,5x55 SE",3.6230000000000002,3.2440000000000002,{"$f":"E109/D109","v":0.89539056030913611},3800,3672,{"$f":"H109/G109","v":0.96631578947368424},40.5,"N150",{"$f":"$E$155","v":7.2},{"$f":"$F$155","v":116},{"$f":"$D$155","v":0.26400000000000001},{"$f":"$G$155","v":0.46},900,{"$f":"P109*$H$155","v":774},{"$f":"P109^2*L109/2000","v":2916},{"$f":"Q109^2*L109/2000","v":2156.6736000000001},{"$f":"(G109/F109/I109)","v":4391.895612882774},{"$f":"(P109^2/J109/1000)","v":20},600]
[106,{"$f":"(T110*U110*L110/10000)*(T110/6000)","v":45.921747174083734},"7,82 Warbird",7.8890000000000002,7.2930000000000001,{"$f":"E110/D110","v":0.92445176828495368},4400,4356,{"$f":"H110/G110","v":0.99},99.5,"R904",{"$f":"$E$151","v":9},{"$f":"$F$151","v":140},{"$f":"$D$151","v":0.308},{"$f":"$G$151","v":0.38},1148,{"$f":"P110*$H$151","v":955.13599999999997},{"$f":"P110^2*L110/2000","v":5930.5680000000002},{"$f":"Q110^2*L110/2000","v":4105.2815032319995},{"$f":"(G110/F110/I110)","v":4807.654219418926},{"$f":"(P110^2/J110/1000)","v":13.245266331658291},685]
[107,{"$f":"(T111*U111*L111/10000)*(T111/6000)","v":43.505149818200572},"7,82 Warbird",7.8890000000000002,7.2930000000000001,{"$f":"E111/D111","v":0.92445176828495368},4400,4368,{"$f":"H111/G111","v":0.99272727272727268},103,"N160",{"$f":"$E$151","v":9},{"$f":"$F$151","v":140},{"$f":"$D$151","v":0.308},{"$f":"$G$151","v":0.38},1140,{"$f":"P111*$H$151","v":948.4799999999999},{"$f":"P111^2*L111/2000","v":5848.2},{"$f":"Q111^2*L111/2000","v":4048.2643967999993},{"$f":"(G111/F111/I111)","v":4794.4463781567856},{"$f":"(P111^2/J111/1000)","v":12.617475728155339},685]
[108,{"$f":"(T112*U112*L112/10000)*(T112/6000)","v":43.309568947420154},"6,5x57",3.831,3.4540000000000002,{"$f":"E112/D112","v":0.9015922735578179},3900,3830,{"$f":"H112/G112","v":0.982051282051282},47.5,"R903",{"$f":"$E$155","v":7.2},{"$f":"$F$155","v":116},{"$f":"$D$155","v":0.26400000000000001},{"$f":"$G$155","v":0.46},940,{"$f":"P112*$H$155","v":808.4},{"$f":"P112^2*L112/2000","v":3180.96},{"$f":"Q112^2*L112/2000","v":2352.6380159999999},{"$f":"(G112/F112/I112)","v":4404.7398029453871},{"$f":"(P112^2/J112/1000)","v":18.602105263157892},600]
[109,{"$f":"(T113*U113*L113/10000)*(T113/6000)","v":43.166092204304832},"6,5x57",3.831,3.4540000000000002,{"$f":"E113/D113","v":0.9015922735578179},3900,3779,{"$f":"H113/G113","v":0.96897435897435902},50,"N550",{"$f":"$E$155","v":7.2},{"$f":"$F$155","v":116},{"$f":"$D$155","v":0.26400000000000001},{"$f":"$G$155","v":0.46},950,{"$f":"P113*$H$155","v":817},{"$f":"P113^2*L113/2000","v":3249},{"$f":"Q113^2*L113/2000","v":2402.9603999999999},{"$f":"(G113/F113/I113)","v":4464.184558158463},{"$f":"(P113^2/J113/1000)","v":18.05},600]
[110,{"$f":"(T114*U114*L114/10000)*(T114/6000)","v":43.016732196332192},"6,5x55 SE",3.6230000000000002,3.2440000000000002,{"$f":"E114/D114","v":0.89539056030913611},3800,3784,{"$f":"H114/G114","v":0.99578947368421056},41.5,"R907",{"$f":"$E$155","v":7.2},{"$f":"$F$155","v":116},{"$f":"$D$155","v":0.26400000000000001},{"$f":"$G$155","v":0.46},905,{"$f":"P114*$H$155","v":778.3},{"$f":"P114^2*L114/2000","v":2948.49},{"$f":"Q114^2*L114/2000","v":2180.7032039999999},{"$f":"(G114/F114/I114)","v":4261.9029308947001},{"$f":"(P114^2/J114/1000)","v":19.735542168674698},600]
[111,{"$f":"(T115*U115*L115/10000)*(T115/6000)","v":42.98437117646823},"6,5x55 SE",3.6230000000000002,3.2440000000000002,{"$f":"E115/D115","v":0.89539056030913611},3800,3656,{"$f":"H115/G115","v":0.96210526315789469},44,"R902",{"$f":"$E$155","v":7.2},{"$f":"$F$155","v":116},{"$f":"$D$155","v":0.26400000000000001},{"$f":"$G$155","v":0.46},900,{"$f":"P115*$H$155","v":774},{"$f":"P115^2*L115/2000","v":2916},{"$f":"Q115^2*L115/2000","v":2156.6736000000001},{"$f":"(G115/F115/I115)","v":4411.1161626109269},{"$f":"(P115^2/J115/1000)","v":18.409090909090907},600]
[112,{"$f":"(T116*U116*L116/10000)*(T116/6000)","v":42.910482691172405},"6,5x68",5.5839999999999996,5.101,{"$f":"E116/D116","v":0.91350286532951297},4300,4242,{"$f":"H116/G116","v":0.98651162790697677},71,"R905",{"$f":"$E$155","v":7.2},{"$f":"$F$155","v":116},{"$f":"$D$155","v":0.26400000000000001},{"$f":"$G$155","v":0.46},1056,{"$f":"P116*$H$155","v":908.16},{"$f":"P116^2*L116/2000","v":4014.4895999999999},{"$f":"Q116^2*L116/2000","v":2969.1165081600002},{"$f":"(G116/F116/I116)","v":4771.5154353534317},{"$f":"(P116^2/J116/1000)","v":15.706140845070422},650]
[113,{"$f":"(T117*U117*L117/10000)*(T117/6000)","v":41.704561288747939},"6,5x68",5.5839999999999996,5.101,{"$f":"E117/D117","v":0.91350286532951297},4300,4242,{"$f":"H117/G117","v":0.98651162790697677},69.5,"N160",{"$f":"$E$155","v":7.2},{"$f":"$F$155","v":116},{"$f":"$D$155","v":0.26400000000000001},{"$f":"$G$155","v":0.46},1030,{"$f":"P117*$H$155","v":885.8},{"$f":"P117^2*L117/2000","v":3819.24},{"$f":"Q117^2*L117/2000","v":2824.7099039999998},{"$f":"(G117/F117/I117)","v":4771.5154353534317},{"$f":"(P117^2/J117/1000)","v":15.26474820143885},650]
[114,{"$f":"(T118*U118*L118/10000)*(T118/6000)","v":41.605174239996124},".300 Weatherby Magnum",6.4859999999999998,6.0460000000000003,{"$f":"E118/D118","v":0.93216157878507566},4400,4380,{"$f":"H118/G118","v":0.99545454545454548},86,"R904",{"$f":"$E$151","v":9},{"$f":"$F$151","v":140},{"$f":"$D$151","v":0.308},{"$f":"$G$151","v":0.38},1030,{"$f":"P118*$H$151","v":856.95999999999992},{"$f":"P118^2*L118/2000","v":4774.05},{"$f":"Q118^2*L118/2000","v":3304.7119871999994},{"$f":"(G118/F118/I118)","v":4741.7651883504996},{"$f":"(P118^2/J118/1000)","v":12.336046511627906},630]
[115,{"$f":"(T119*U119*L119/10000)*(T119/6000)","v":39.239959811861837},"10.3x60R",5.9550000000000001,5.069,{"$f":"E119/D119","v":0.85121746431570111},2700,2018,{"$f":"H119/G119","v":0.74740740740740741},71,"R907",{"$f":"$E$145","v":16.5},{"$f":"$F$145","v":254},{"$f":"$D$145","v":0.41299999999999998},{"$f":"$G$145","v":0.34499999999999997},750,{"$f":"P119*$H$145","v":606.75},{"$f":"P119^2*L119/2000","v":4640.625},{"$f":"Q119^2*L119/2000","v":3037.2008906249998},{"$f":"(G119/F119/I119)","v":4243.9068310242346},{"$f":"(P119^2/J119/1000)","v":7.922535211267606},685]
[116,{"$f":"(T120*U120*L120/10000)*(T120/6000)","v":39.239959811861837},"10.3x60R",5.9550000000000001,5.069,{"$f":"E120/D120","v":0.85121746431570111},2700,2018,{"$f":"H120/G120","v":0.74740740740740741},71,"R903",{"$f":"$E$145","v":16.5},{"$f":"$F$145","v":254},{"$f":"$D$145","v":0.41299999999999998},{"$f":"$G$145","v":0.34499999999999997},750,{"$f":"P120*$H$145","v":606.75},{"$f":"P120^2*L120/2000","v":4640.625},{"$f":"Q120^2*L120/2000","v":3037.2008906249998},{"$f":"(G120/F120/I120)","v":4243.9068310242346},{"$f":"(P120^2/J120/1000)","v":7.922535211267606},685]
[117,{"$f":"(T121*U121*L121/10000)*(T121/6000)","v":38.9560617213669},"8x57IRS",4.0910000000000002,3.665,{"$f":"E121/D121","v":0.89586898068931797},3300,3139,{"$f":"H121/G121","v":0.95121212121212118},47.5,"R902",{"$f":"$E$150","v":11.34},{"$f":"$F$150","v":175},{"$f":"$D$150","v":0.32300000000000001},{"$f":"$G$150","v":0.44},808,{"$f":"P121*$H$150","v":688.41599999999994},{"$f":"P121^2*L121/2000","v":3701.7388799999999},{"$f":"Q121^2*L121/2000","v":2687.1070599475197},{"$f":"(G121/F121/I121)","v":3872.5056901968678},{"$f":"(P121^2/J121/1000)","v":13.744505263157894},630]
[118,{"$f":"(T122*U122*L122/10000)*(T122/6000)","v":36.048205385739138},"6,5x68R",5.3890000000000002,4.9029999999999996,{"$f":"E122/D122","v":0.90981629244757833},3900,3786,{"$f":"H122/G122","v":0.97076923076923072},67,"R905",{"$f":"$E$155","v":7.2},{"$f":"$F$155","v":116},{"$f":"$D$155","v":0.26400000000000001},{"$f":"$G$155","v":0.46},1016,{"$f":"P122*$H$155","v":873.76},{"$f":"P122^2*L122/2000","v":3716.1215999999999},{"$f":"Q122^2*L122/2000","v":2748.4435353600002},{"$f":"(G122/F122/I122)","v":4415.6525662835229},{"$f":"(P122^2/J122/1000)","v":15.406805970149254},650]
[119,{"$f":"(T123*U123*L123/10000)*(T123/6000)","v":35.301537446595994},"10.3x60R",5.9550000000000001,5.069,{"$f":"E123/D123","v":0.85121746431570111},2700,2156,{"$f":"H123/G123","v":0.79851851851851852},72.5,"R903",{"$f":"$E$145","v":16.5},{"$f":"$F$145","v":254},{"$f":"$D$145","v":0.41299999999999998},{"$f":"$G$145","v":0.34499999999999997},768,{"$f":"P123*$H$145","v":621.31200000000001},{"$f":"P123^2*L123/2000","v":4866.0479999999998},{"$f":"Q123^2*L123/2000","v":3184.7359610880003},{"$f":"(G123/F123/I123)","v":3972.2652991683235},{"$f":"(P123^2/J123/1000)","v":8.1355034482758626},685]
[120,{"$f":"(T124*U124*L124/10000)*(T124/6000)","v":35.164265558122437},"10.3x60R",5.9550000000000001,5.069,{"$f":"E124/D124","v":0.85121746431570111},2700,2361,{"$f":"H124/G124","v":0.87444444444444447},58.5,"N130",{"$f":"$E$145","v":16.5},{"$f":"$F$145","v":254},{"$f":"$D$145","v":0.41299999999999998},{"$f":"$G$145","v":0.34499999999999997},754,{"$f":"P124*$H$145","v":609.98599999999999},{"$f":"P124^2*L124/2000","v":4690.2569999999996},{"$f":"Q124^2*L124/2000","v":3069.6840916169999},{"$f":"(G124/F124/I124)","v":3627.3629754370627},{"$f":"(P124^2/J124/1000)","v":9.7182222222222219},685]
[121,{"$f":"(T125*U125*L125/10000)*(T125/6000)","v":34.744308130524935},"6,5x68R",5.3890000000000002,4.9029999999999996,{"$f":"E125/D125","v":0.90981629244757833},3900,3812,{"$f":"H125/G125","v":0.97743589743589743},65.5,"N160",{"$f":"$E$155","v":7.2},{"$f":"$F$155","v":116},{"$f":"$D$155","v":0.26400000000000001},{"$f":"$G$155","v":0.46},993,{"$f":"P125*$H$155","v":853.98},{"$f":"P125^2*L125/2000","v":3549.7763999999997},{"$f":"Q125^2*L125/2000","v":2625.4146254400002},{"$f":"(G125/F125/I125)","v":4385.5353137327957},{"$f":"(P125^2/J125/1000)","v":15.05418320610687},650]
[122,{"$f":"(T126*U126*L126/10000)*(T126/6000)","v":34.592716625421183},"10.3x60R",5.9550000000000001,5.2809999999999997,{"$f":"E126/D126","v":0.886817800167926},2700,2063,{"$f":"H126/G126","v":0.76407407407407413},71,"R907",{"$f":"$E$145","v":16.5},{"$f":"$F$145","v":254},{"$f":"$D$145","v":0.41299999999999998},{"$f":"$G$145","v":0.34499999999999997},750,{"$f":"P126*$H$145","v":606.75},{"$f":"P126^2*L126/2000","v":4640.625},{"$f":"Q126^2*L126/2000","v":3037.2008906249998},{"$f":"(G126/F126/I126)","v":3984.6841166757831},{"$f":"(P126^2/J126/1000)","v":7.922535211267606},685]
[123,{"$f":"(T127*U127*L127/10000)*(T127/6000)","v":34.586348540226084},"10.3x60R",5.9550000000000001,5.069,{"$f":"E127/D127","v":0.85121746431570111},2700,2274,{"$f":"H127/G127","v":0.84222222222222221},66,"R902",{"$f":"$E$145","v":16.5},{"$f":"$F$145","v":254},{"$f":"$D$145","v":0.41299999999999998},{"$f":"$G$145","v":0.34499999999999997},765,{"$f":"P127*$H$145","v":618.88499999999999},{"$f":"P127^2*L127/2000","v":4828.1062499999998},{"$f":"Q127^2*L127/2000","v":3159.9038066062499},{"$f":"(G127/F127/I127)","v":3766.1407146028605},{"$f":"(P127^2/J127/1000)","v":8.8670454545454547},685]
[124,{"$f":"(T128*U128*L128/10000)*(T128/6000)","v":33.648031629933769},".416 Rigby",8.2780000000000005,7.319,{"$f":"E128/D128","v":0.88415076105339452},3250,3177,{"$f":"H128/G128","v":0.97753846153846158},99.5,"R903",{"$f":"$E$144","v":17.5},{"$f":"$F$144","v":270},{"$f":"$D$144","v":0.41599999999999998},{"$f":"$G$144","v":0.375},901,{"$f":"P128*$H$144","v":746.92899999999997},{"$f":"P128^2*L128/2000","v":7103.25875},{"$f":"Q128^2*L128/2000","v":4881.6506466087494},{"$f":"(G128/F128/I128)","v":3760.3059512448208},{"$f":"(P128^2/J128/1000)","v":8.1588040201005025},685]
[125,{"$f":"(T129*U129*L129/10000)*(T129/6000)","v":31.878365326087756},"6,5x57R",3.831,3.4540000000000002,{"$f":"E129/D129","v":0.9015922735578179},3300,3141,{"$f":"H129/G129","v":0.95181818181818179},43.5,"R903",{"$f":"$E$155","v":7.2},{"$f":"$F$155","v":116},{"$f":"$D$155","v":0.26400000000000001},{"$f":"$G$155","v":0.46},884,{"$f":"P129*$H$155","v":760.24},{"$f":"P129^2*L129/2000","v":2813.2416000000003},{"$f":"Q129^2*L129/2000","v":2080.6734873599999},{"$f":"(G129/F129/I129)","v":3845.4729618746919},{"$f":"(P129^2/J129/1000)","v":17.964505747126438},600]
[126,{"$f":"(T130*U130*L130/10000)*(T130/6000)","v":31.32810463413918},"6,5x57R",3.831,3.4540000000000002,{"$f":"E130/D130","v":0.9015922735578179},3300,3228,{"$f":"H130/G130","v":0.97818181818181815},40.5,"N135",{"$f":"$E$155","v":7.2},{"$f":"$F$155","v":116},{"$f":"$D$155","v":0.26400000000000001},{"$f":"$G$155","v":0.46},869,{"$f":"P130*$H$155","v":747.34},{"$f":"P130^2*L130/2000","v":2718.5796},{"$f":"Q130^2*L130/2000","v":2010.6614721600004},{"$f":"(G130/F130/I130)","v":3741.8310326048349},{"$f":"(P130^2/J130/1000)","v":18.645950617283951},600]
[127,{"$f":"(T131*U131*L131/10000)*(T131/6000)","v":30.030119103269286},"10.3x60R",5.9550000000000001,5.069,{"$f":"E131/D131","v":0.85121746431570111},2700,2684,{"$f":"H131/G131","v":0.99407407407407411},56,"R901",{"$f":"$E$145","v":16.5},{"$f":"$F$145","v":254},{"$f":"$D$145","v":0.41299999999999998},{"$f":"$G$145","v":0.34499999999999997},775,{"$f":"P131*$H$145","v":626.97500000000002},{"$f":"P131^2*L131/2000","v":4955.15625},{"$f":"Q131^2*L131/2000","v":3243.05561765625},{"$f":"(G131/F131/I131)","v":3190.8360599876696},{"$f":"(P131^2/J131/1000)","v":10.725446428571429},685]
[128,{"$f":"(T132*U132*L132/10000)*(T132/6000)","v":28.996204816247598},"10.3x60R",5.9550000000000001,5.069,{"$f":"E132/D132","v":0.85121746431570111},2700,2520,{"$f":"H132/G132","v":0.93333333333333335},67.5,"R902",{"$f":"$E$145","v":16.5},{"$f":"$F$145","v":254},{"$f":"$D$145","v":0.41299999999999998},{"$f":"$G$145","v":0.34499999999999997},785,{"$f":"P132*$H$145","v":635.06500000000005},{"$f":"P132^2*L132/2000","v":5083.8562499999998},{"$f":"Q132^2*L132/2000","v":3327.2873223562506},{"$f":"(G132/F132/I132)","v":3398.4936448440099},{"$f":"(P132^2/J132/1000)","v":9.1292592592592587},685]
[129,{"$f":"(T133*U133*L133/10000)*(T133/6000)","v":27.838015869964597},"10.3x60R",5.9550000000000001,5.069,{"$f":"E133/D133","v":0.85121746431570111},2700,2582,{"$f":"H133/G133","v":0.95629629629629631},68,"R902",{"$f":"$E$145","v":16.5},{"$f":"$F$145","v":254},{"$f":"$D$145","v":0.41299999999999998},{"$f":"$G$145","v":0.34499999999999997},791,{"$f":"P133*$H$145","v":639.9190000000001},{"$f":"P133^2*L133/2000","v":5161.8682500000004},{"$f":"Q133^2*L133/2000","v":3378.3446941282514},{"$f":"(G133/F133/I133)","v":3316.8876781591421},{"$f":"(P133^2/J133/1000)","v":9.2011911764705872},685]
[130,{"$f":"(T134*U134*L134/10000)*(T134/6000)","v":27.441506823120214},"10.3x60R",5.9550000000000001,5.069,{"$f":"E134/D134","v":0.85121746431570111},2700,2700,{"$f":"H134/G134","v":1},65.5,"R901",{"$f":"$E$145","v":16.5},{"$f":"$F$145","v":254},{"$f":"$D$145","v":0.41299999999999998},{"$f":"$G$145","v":0.34499999999999997},806,{"$f":"P134*$H$145","v":652.05400000000009},{"$f":"P134^2*L134/2000","v":5359.4970000000003},{"$f":"Q134^2*L134/2000","v":3507.6889560570007},{"$f":"(G134/F134/I134)","v":3171.9274018544093},{"$f":"(P134^2/J134/1000)","v":9.9181068702290069},685]
[131,{"$f":"(T135*U135*L135/10000)*(T135/6000)","v":27.029833028238404},".500/416 NE",8.7650000000000006,7.81,{"$f":"E135/D135","v":0.8910439247005133},3100,3067,{"$f":"H135/G135","v":0.98935483870967744},98,"N150",{"$f":"$E$144","v":17.5},{"$f":"$F$144","v":270},{"$f":"$D$144","v":0.41599999999999998},{"$f":"$G$144","v":0.375},857,{"$f":"P135*$H$144","v":710.45299999999997},{"$f":"P135^2*L135/2000","v":6426.42875},{"$f":"Q135^2*L135/2000","v":4416.5053205787499},{"$f":"(G135/F135/I135)","v":3516.4989999277764},{"$f":"(P135^2/J135/1000)","v":7.494377551020408},600]
[132,{"$f":"(T136*U136*L136/10000)*(T136/6000)","v":27.000005676513837},".500/416 NE",8.7650000000000006,7.81,{"$f":"E136/D136","v":0.8910439247005133},3100,3036,{"$f":"H136/G136","v":0.97935483870967743},102,"R903",{"$f":"$E$144","v":17.5},{"$f":"$F$144","v":270},{"$f":"$D$144","v":0.41599999999999998},{"$f":"$G$144","v":0.375},865,{"$f":"P136*$H$144","v":717.08499999999992},{"$f":"P136^2*L136/2000","v":6546.96875},{"$f":"Q136^2*L136/2000","v":4499.3453507187487},{"$f":"(G136/F136/I136)","v":3552.4052808888309},{"$f":"(P136^2/J136/1000)","v":7.3355392156862749},600]
[133,{"$f":"(T137*U137*L137/10000)*(T137/6000)","v":26.074147741726058},".500/416 NE",8.7650000000000006,7.81,{"$f":"E137/D137","v":0.8910439247005133},3100,3018,{"$f":"H137/G137","v":0.97354838709677416},102,"R907",{"$f":"$E$144","v":17.5},{"$f":"$F$144","v":270},{"$f":"$D$144","v":0.41599999999999998},{"$f":"$G$144","v":0.375},845,{"$f":"P137*$H$144","v":700.505},{"$f":"P137^2*L137/2000","v":6247.71875},{"$f":"Q137^2*L137/2000","v":4293.6884814687501},{"$f":"(G137/F137/I137)","v":3573.5925887271342},{"$f":"(P137^2/J137/1000)","v":7.0002450980392164},600]
[]
[]
[]
[]
[]
[null,null,"Geschoss: Gian-Marchet®","Kal.","Masse\nGramm","Masse\nGrains","BC","BC-Faktor"]
[null,null,"Okavango",0.41599999999999998,17.5,270,0.375,0.82899999999999996]
[null,null,"Original",0.41299999999999998,16.5,254,0.34499999999999997,0.80900000000000005]
[null,null,"Otjiruse",0.375,15.5,239,0.4,0.84099999999999997]
[null,null,"Ole",0.36599999999999999,13,200,0.4,0.82099999999999995]
[null,null,"Drückjagd",0.36599999999999999,14.5,224,0.33,0.81899999999999995]
[null,null,"Highland",0.33800000000000002,12.7,196,0.46,0.85499999999999998]
[null,null,"Fontana",0.32300000000000001,11.34,175,0.44,0.85199999999999998]
[null,null,"Jenatsch",0.308,9,140,0.38,0.83199999999999996]
[null,null,"Guisan",0.307,9.8000000000000007,142,0.42,0.84299999999999997]
[null,null,"Von Planta",0.28399999999999997,8.3000000000000007,128,0.44,0.85399999999999998]
[null,null,"Von Travers",0.27700000000000002,8,123,0.44,0.85499999999999998]
[null,null,"Von Salis",0.26400000000000001,7.2,116,0.46,0.86]

{"sheet":"Graphik-Effizienz-Faktor","index":1,"n_rows":136,"n_cols":22,"rows_kept":136,"cut":false,"hidden":false,"merged":[]}
[]
[null,null,null,null,null,null,null,null,null,null,null,null,null,null,null,null,null,null,null,null,"Copyright© by\nGian-Marchet® 2008\nAlle Rechte vorbehalten\nAll Rights reserved"]
[]
[null,null,null,null,null,null,null,null,null,null,null,null,null,null,null,null,null,null,null,1,{"$f":"'Effizienz-Faktor-Neu'!C5","v":".416/323 Gian-Marchet®"},{"$f":"'Effizienz-Faktor-Neu'!B5","v":113.48717338956372}]
[null,null,null,null,null,null,null,null,null,null,null,null,null,null,null,null,null,null,null,2,{"$f":"'Effizienz-Faktor-Neu'!C6","v":".416/323 Gian-Marchet®"},{"$f":"'Effizienz-Faktor-Neu'!B6","v":108.17700389339612}]
[null,null,null,null,null,null,null,null,null,null,null,null,null,null,null,null,null,null,null,3,{"$f":"'Effizienz-Faktor-Neu'!C7","v":".376 Steyr"},{"$f":"'Effizienz-Faktor-Neu'!B7","v":106.63169865253798}]
[null,null,null,null,null,null,null,null,null,null,null,null,null,null,null,null,null,null,null,4,{"$f":"'Effizienz-Faktor-Neu'!C8","v":"10,3x72 Gian-Marchet®"},{"$f":"'Effizienz-Faktor-Neu'!B8","v":102.02217532677469}]
[null,null,null,null,null,null,null,null,null,null,null,null,null,null,null,null,null,null,null,5,{"$f":"'Effizienz-Faktor-Neu'!C9","v":".416 Taylor"},{"$f":"'Effizienz-Faktor-Neu'!B9","v":100.28259087905903}]
[null,null,null,null,null,null,null,null,null,null,null,null,null,null,null,null,null,null,null,6,{"$f":"'Effizienz-Faktor-Neu'!C10","v":".416 Taylor"},{"$f":"'Effizienz-Faktor-Neu'!B10","v":95.966025047624413}]
[null,null,null,null,null,null,null,null,null,null,null,null,null,null,null,null,null,null,null,7,{"$f":"'Effizienz-Faktor-Neu'!C11","v":".416 Remington Magnum"},{"$f":"'Effizienz-Faktor-Neu'!B11","v":93.633004916881035}]
[null,null,null,null,null,null,null,null,null,null,null,null,null,null,null,null,null,null,null,8,{"$f":"'Effizienz-Faktor-Neu'!C12","v":".375 Holland & Holland Magnum"},{"$f":"'Effizienz-Faktor-Neu'!B12","v":92.166509710854285}]
[null,null,null,null,null,null,null,null,null,null,null,null,null,null,null,null,null,null,null,9,{"$f":"'Effizienz-Faktor-Neu'!C13","v":".375 Holland & Holland Magnum"},{"$f":"'Effizienz-Faktor-Neu'!B13","v":86.423664125652394}]
[null,null,null,null,null,null,null,null,null,null,null,null,null,null,null,null,null,null,null,10,{"$f":"'Effizienz-Faktor-Neu'!C14","v":"9,3x64"},{"$f":"'Effizienz-Faktor-Neu'!B14","v":84.212024655224766}]
[null,null,null,null,null,null,null,null,null,null,null,null,null,null,null,null,null,null,null,11,{"$f":"'Effizienz-Faktor-Neu'!C15","v":"9,3x64"},{"$f":"'Effizienz-Faktor-Neu'!B15","v":83.210203135332648}]
[null,null,null,null,null,null,null,null,null,null,null,null,null,null,null,null,null,null,null,12,{"$f":"'Effizienz-Faktor-Neu'!C16","v":".416 Remington Magnum"},{"$f":"'Effizienz-Faktor-Neu'!B16","v":81.469320630561924}]
[null,null,null,null,null,null,null,null,null,null,null,null,null,null,null,null,null,null,null,13,{"$f":"'Effizienz-Faktor-Neu'!C17","v":".375 Holland & Holland Magnum"},{"$f":"'Effizienz-Faktor-Neu'!B17","v":81.201220680456771}]
[null,null,null,null,null,null,null,null,null,null,null,null,null,null,null,null,null,null,null,14,{"$f":"'Effizienz-Faktor-Neu'!C18","v":".338 Winchester Magnum"},{"$f":"'Effizienz-Faktor-Neu'!B18","v":80.247567037388549}]
[null,null,null,null,null,null,null,null,null,null,null,null,null,null,null,null,null,null,null,15,{"$f":"'Effizienz-Faktor-Neu'!C19","v":"10,3x72 Gian-Marchet®"},{"$f":"'Effizienz-Faktor-Neu'!B19","v":79.937904707671024}]
[null,null,null,null,null,null,null,null,null,null,null,null,null,null,null,null,null,null,null,16,{"$f":"'Effizienz-Faktor-Neu'!C20","v":".416 Remington Magnum"},{"$f":"'Effizienz-Faktor-Neu'!B20","v":79.412171052802151}]
[null,null,null,null,null,null,null,null,null,null,null,null,null,null,null,null,null,null,null,17,{"$f":"'Effizienz-Faktor-Neu'!C21","v":".308 Winchester"},{"$f":"'Effizienz-Faktor-Neu'!B21","v":78.804796976988939}]
[null,null,null,null,null,null,null,null,null,null,null,null,null,null,null,null,null,null,null,18,{"$f":"'Effizienz-Faktor-Neu'!C22","v":".416 Remington Magnum"},{"$f":"'Effizienz-Faktor-Neu'!B22","v":78.180031605465615}]
[null,null,null,null,null,null,null,null,null,null,null,null,null,null,null,null,null,null,null,19,{"$f":"'Effizienz-Faktor-Neu'!C23","v":"9,3x64"},{"$f":"'Effizienz-Faktor-Neu'!B23","v":78.166206863228339}]
[null,null,null,null,null,null,null,null,null,null,null,null,null,null,null,null,null,null,null,20,{"$f":"'Effizienz-Faktor-Neu'!C24","v":".375 Ruger"},{"$f":"'Effizienz-Faktor-Neu'!B24","v":77.997673902309614}]
[null,null,null,null,null,null,null,null,null,null,null,null,null,null,null,null,null,null,null,21,{"$f":"'Effizienz-Faktor-Neu'!C25","v":"8x68S"},{"$f":"'Effizienz-Faktor-Neu'!B25","v":74.054005816955566}]
[null,null,null,null,null,null,null,null,null,null,null,null,null,null,null,null,null,null,null,22,{"$f":"'Effizienz-Faktor-Neu'!C26","v":".375 Ruger"},{"$f":"'Effizienz-Faktor-Neu'!B26","v":72.534243045128335}]
[null,null,null,null,null,null,null,null,null,null,null,null,null,null,null,null,null,null,null,23,{"$f":"'Effizienz-Faktor-Neu'!C27","v":".308 Winchester"},{"$f":"'Effizienz-Faktor-Neu'!B27","v":70.70669208975707}]
[null,null,null,null,null,null,null,null,null,null,null,null,null,null,null,null,null,null,null,24,{"$f":"'Effizienz-Faktor-Neu'!C28","v":"10,57 Meteor"},{"$f":"'Effizienz-Faktor-Neu'!B28","v":70.587710240402771}]
[null,null,null,null,null,null,null,null,null,null,null,null,null,null,null,null,null,null,null,25,{"$f":"'Effizienz-Faktor-Neu'!C29","v":"10,57 Meteor"},{"$f":"'Effizienz-Faktor-Neu'!B29","v":70.285195237660147}]
[null,null,null,null,null,null,null,null,null,null,null,null,null,null,null,null,null,null,null,26,{"$f":"'Effizienz-Faktor-Neu'!C30","v":"7mm-08"},{"$f":"'Effizienz-Faktor-Neu'!B30","v":70.15126082988786}]
[null,null,null,null,null,null,null,null,null,null,null,null,null,null,null,null,null,null,null,27,{"$f":"'Effizienz-Faktor-Neu'!C31","v":"8x64S"},{"$f":"'Effizienz-Faktor-Neu'!B31","v":68.890782187844692}]
[null,null,null,null,null,null,null,null,null,null,null,null,null,null,null,null,null,null,null,28,{"$f":"'Effizienz-Faktor-Neu'!C32","v":".378 Weatherby Magnum"},{"$f":"'Effizienz-Faktor-Neu'!B32","v":68.839699076287133}]
[null,null,null,null,null,null,null,null,null,null,null,null,null,null,null,null,null,null,null,29,{"$f":"'Effizienz-Faktor-Neu'!C33","v":".300 Weatherby Magnum"},{"$f":"'Effizienz-Faktor-Neu'!B33","v":68.826541164116037}]
[null,null,null,null,null,null,null,null,null,null,null,null,null,null,null,null,null,null,null,30,{"$f":"'Effizienz-Faktor-Neu'!C34","v":".300 WSM"},{"$f":"'Effizienz-Faktor-Neu'!B34","v":68.507575171577983}]
[null,null,null,null,null,null,null,null,null,null,null,null,null,null,null,null,null,null,null,31,{"$f":"'Effizienz-Faktor-Neu'!C35","v":"7mm-08"},{"$f":"'Effizienz-Faktor-Neu'!B35","v":68.18372035720418}]
[null,null,null,null,null,null,null,null,null,null,null,null,null,null,null,null,null,null,null,32,{"$f":"'Effizienz-Faktor-Neu'!C36","v":".375 Remington Ultra Magnum"},{"$f":"'Effizienz-Faktor-Neu'!B36","v":67.689661471884406}]
[null,null,null,null,null,null,null,null,null,null,null,null,null,null,null,null,null,null,null,33,{"$f":"'Effizienz-Faktor-Neu'!C37","v":"7mm-08"},{"$f":"'Effizienz-Faktor-Neu'!B37","v":67.44520423222103}]
[null,null,null,null,null,null,null,null,null,null,null,null,null,null,null,null,null,null,null,34,{"$f":"'Effizienz-Faktor-Neu'!C38","v":".416 Weatherby Magnum"},{"$f":"'Effizienz-Faktor-Neu'!B38","v":67.343777066960641}]
[null,null,null,null,null,null,null,null,null,null,null,null,null,null,null,null,null,null,null,35,{"$f":"'Effizienz-Faktor-Neu'!C39","v":".284 Winchester"},{"$f":"'Effizienz-Faktor-Neu'!B39","v":67.022149178150414}]
[null,null,null,null,null,null,null,null,null,null,null,null,null,null,null,null,null,null,null,36,{"$f":"'Effizienz-Faktor-Neu'!C40","v":".338 Lapua Magnum"},{"$f":"'Effizienz-Faktor-Neu'!B40","v":66.928375551907578}]
[null,null,null,null,null,null,null,null,null,null,null,null,null,null,null,null,null,null,null,37,{"$f":"'Effizienz-Faktor-Neu'!C41","v":"8x68S"},{"$f":"'Effizienz-Faktor-Neu'!B41","v":66.755384459747631}]
[null,null,null,null,null,null,null,null,null,null,null,null,null,null,null,null,null,null,null,38,{"$f":"'Effizienz-Faktor-Neu'!C42","v":".375 Remington Ultra Magnum"},{"$f":"'Effizienz-Faktor-Neu'!B42","v":66.56471031428849}]
[null,null,null,null,null,null,null,null,null,null,null,null,null,null,null,null,null,null,null,39,{"$f":"'Effizienz-Faktor-Neu'!C43","v":".375 Remington Ultra Magnum"},{"$f":"'Effizienz-Faktor-Neu'!B43","v":65.97020179438563}]
[null,null,null,null,null,null,null,null,null,null,null,null,null,null,null,null,null,null,null,40,{"$f":"'Effizienz-Faktor-Neu'!C44","v":".338 Lapua Magnum"},{"$f":"'Effizienz-Faktor-Neu'!B44","v":65.953433621889104}]
[null,null,null,null,null,null,null,null,null,null,null,null,null,null,null,null,null,null,null,41,{"$f":"'Effizienz-Faktor-Neu'!C45","v":"9,3x62 Drückjagd"},{"$f":"'Effizienz-Faktor-Neu'!B45","v":65.603505560185155}]
[null,null,null,null,null,null,null,null,null,null,null,null,null,null,null,null,null,null,null,42,{"$f":"'Effizienz-Faktor-Neu'!C46","v":".378 Weatherby Magnum"},{"$f":"'Effizienz-Faktor-Neu'!B46","v":65.51157895203005}]
[null,null,null,null,null,null,null,null,null,null,null,null,null,null,null,null,null,null,null,43,{"$f":"'Effizienz-Faktor-Neu'!C47","v":".338 Lapua Magnum"},{"$f":"'Effizienz-Faktor-Neu'!B47","v":65.208641569067524}]
[null,null,null,null,null,null,null,null,null,null,null,null,null,null,null,null,null,null,null,44,{"$f":"'Effizienz-Faktor-Neu'!C48","v":"9,3x62"},{"$f":"'Effizienz-Faktor-Neu'!B48","v":65.060284042298292}]
[null,null,null,null,null,null,null,null,null,null,null,null,null,null,null,null,null,null,null,45,{"$f":"'Effizienz-Faktor-Neu'!C49","v":"8x64S"},{"$f":"'Effizienz-Faktor-Neu'!B49","v":64.91533294318512}]
[null,null,null,null,null,null,null,null,null,null,null,null,null,null,null,null,null,null,null,46,{"$f":"'Effizienz-Faktor-Neu'!C50","v":".338 Winchester Magnum"},{"$f":"'Effizienz-Faktor-Neu'!B50","v":64.134880725273248}]
[null,null,null,null,null,null,null,null,null,null,null,null,null,null,null,null,null,null,null,47,{"$f":"'Effizienz-Faktor-Neu'!C51","v":"9,3x62"},{"$f":"'Effizienz-Faktor-Neu'!B51","v":63.553343122146046}]
[null,null,null,null,null,null,null,null,null,null,null,null,null,null,null,null,null,null,null,48,{"$f":"'Effizienz-Faktor-Neu'!C52","v":".338 Winchester Magnum"},{"$f":"'Effizienz-Faktor-Neu'!B52","v":63.022812663888274}]
[null,null,null,null,null,null,null,null,null,null,null,null,null,null,null,null,null,null,null,49,{"$f":"'Effizienz-Faktor-Neu'!C53","v":"8x57IS"},{"$f":"'Effizienz-Faktor-Neu'!B53","v":62.442046637333803}]
[null,null,null,null,null,null,null,null,null,null,null,null,null,null,null,null,null,null,null,50,{"$f":"'Effizienz-Faktor-Neu'!C54","v":"9,3x62"},{"$f":"'Effizienz-Faktor-Neu'!B54","v":62.205639614151792}]
[null,null,null,null,null,null,null,null,null,null,null,null,null,null,null,null,null,null,null,51,{"$f":"'Effizienz-Faktor-Neu'!C55","v":"7x64"},{"$f":"'Effizienz-Faktor-Neu'!B55","v":61.352034631074481}]
[null,null,null,null,null,null,null,null,null,null,null,null,null,null,null,null,null,null,null,52,{"$f":"'Effizienz-Faktor-Neu'!C56","v":"7x64"},{"$f":"'Effizienz-Faktor-Neu'!B56","v":61.058138277703129}]
[null,null,null,null,null,null,null,null,null,null,null,null,null,null,null,null,null,null,null,53,{"$f":"'Effizienz-Faktor-Neu'!C57","v":".260 Remington"},{"$f":"'Effizienz-Faktor-Neu'!B57","v":60.850505875983508}]
[null,null,null,null,null,null,null,null,null,null,null,null,null,null,null,null,null,null,null,54,{"$f":"'Effizienz-Faktor-Neu'!C58","v":"10,3x74R"},{"$f":"'Effizienz-Faktor-Neu'!B58","v":60.775575016005149}]
[null,null,null,null,null,null,null,null,null,null,null,null,null,null,null,null,null,null,null,55,{"$f":"'Effizienz-Faktor-Neu'!C59","v":"7x64"},{"$f":"'Effizienz-Faktor-Neu'!B59","v":60.399215764776173}]
[null,null,null,null,null,null,null,null,null,null,null,null,null,null,null,null,null,null,null,56,{"$f":"'Effizienz-Faktor-Neu'!C60","v":".260 Remington"},{"$f":"'Effizienz-Faktor-Neu'!B60","v":60.040703053935388}]
[null,null,null,null,null,null,null,null,null,null,null,null,null,null,null,null,null,null,null,57,{"$f":"'Effizienz-Faktor-Neu'!C61","v":"8x57IS"},{"$f":"'Effizienz-Faktor-Neu'!B61","v":59.732089932684168}]
[null,null,null,null,null,null,null,null,null,null,null,null,null,null,null,null,null,null,null,58,{"$f":"'Effizienz-Faktor-Neu'!C62","v":"7x64"},{"$f":"'Effizienz-Faktor-Neu'!B62","v":59.730868565580742}]
[null,null,null,null,null,null,null,null,null,null,null,null,null,null,null,null,null,null,null,59,{"$f":"'Effizienz-Faktor-Neu'!C63","v":"7mm STW"},{"$f":"'Effizienz-Faktor-Neu'!B63","v":59.212666892393749}]
[null,null,null,null,null,null,null,null,null,null,null,null,null,null,null,null,null,null,null,60,{"$f":"'Effizienz-Faktor-Neu'!C64","v":"8x57IS"},{"$f":"'Effizienz-Faktor-Neu'!B64","v":58.816829043380714}]
[null,null,null,null,null,null,null,null,null,null,null,null,null,null,null,null,null,null,null,61,{"$f":"'Effizienz-Faktor-Neu'!C65","v":"8x57IS"},{"$f":"'Effizienz-Faktor-Neu'!B65","v":58.734889503885874}]
[null,null,null,null,null,null,null,null,null,null,null,null,null,null,null,null,null,null,null,62,{"$f":"'Effizienz-Faktor-Neu'!C66","v":"9,3x62"},{"$f":"'Effizienz-Faktor-Neu'!B66","v":58.506663370222014}]
[null,null,null,null,null,null,null,null,null,null,null,null,null,null,null,null,null,null,null,63,{"$f":"'Effizienz-Faktor-Neu'!C67","v":"7,5x55"},{"$f":"'Effizienz-Faktor-Neu'!B67","v":57.918961907724594}]
[null,null,null,null,null,null,null,null,null,null,null,null,null,null,null,null,null,null,null,64,{"$f":"'Effizienz-Faktor-Neu'!C68","v":".300 WSM"},{"$f":"'Effizienz-Faktor-Neu'!B68","v":57.775099490438663}]
[null,null,null,null,null,null,null,null,null,null,null,null,null,null,null,null,null,null,null,65,{"$f":"'Effizienz-Faktor-Neu'!C69","v":"7mm WSM"},{"$f":"'Effizienz-Faktor-Neu'!B69","v":57.347413196020241}]
[null,null,null,null,null,null,null,null,null,null,null,null,null,null,null,null,null,null,null,66,{"$f":"'Effizienz-Faktor-Neu'!C70","v":".260 Remington"},{"$f":"'Effizienz-Faktor-Neu'!B70","v":56.679218962477997}]
[null,null,null,null,null,null,null,null,null,null,null,null,null,null,null,null,null,null,null,64,{"$f":"'Effizienz-Faktor-Neu'!C71","v":"7mm WSM"},{"$f":"'Effizienz-Faktor-Neu'!B71","v":56.629026377931694}]
[null,null,null,null,null,null,null,null,null,null,null,null,null,null,null,null,null,null,null,68,{"$f":"'Effizienz-Faktor-Neu'!C72","v":"7mm Remington Magnum"},{"$f":"'Effizienz-Faktor-Neu'!B72","v":56.275897755747486}]
[null,null,null,null,null,null,null,null,null,null,null,null,null,null,null,null,null,null,null,69,{"$f":"'Effizienz-Faktor-Neu'!C73","v":"8x57IS"},{"$f":"'Effizienz-Faktor-Neu'!B73","v":55.9711669047499}]
[null,null,null,null,null,null,null,null,null,null,null,null,null,null,null,null,null,null,null,70,{"$f":"'Effizienz-Faktor-Neu'!C74","v":"8x57IS"},{"$f":"'Effizienz-Faktor-Neu'!B74","v":55.871445421863363}]
[null,null,null,null,null,null,null,null,null,null,null,null,null,null,null,null,null,null,null,71,{"$f":"'Effizienz-Faktor-Neu'!C75","v":"8mm Remington Magnum"},{"$f":"'Effizienz-Faktor-Neu'!B75","v":55.58110683576006}]
[null,null,null,null,null,null,null,null,null,null,null,null,null,null,null,null,null,null,null,72,{"$f":"'Effizienz-Faktor-Neu'!C76","v":"8x57IS"},{"$f":"'Effizienz-Faktor-Neu'!B76","v":55.17470249934054}]
[null,null,null,null,null,null,null,null,null,null,null,null,null,null,null,null,null,null,null,73,{"$f":"'Effizienz-Faktor-Neu'!C77","v":".270 Winchester"},{"$f":"'Effizienz-Faktor-Neu'!B77","v":55.146653631876703}]
[null,null,null,null,null,null,null,null,null,null,null,null,null,null,null,null,null,null,null,74,{"$f":"'Effizienz-Faktor-Neu'!C78","v":".300 WSM"},{"$f":"'Effizienz-Faktor-Neu'!B78","v":55.080056632478438}]
[null,null,null,null,null,null,null,null,null,null,null,null,null,null,null,null,null,null,null,75,{"$f":"'Effizienz-Faktor-Neu'!C79","v":"6,5x64 Brenneke"},{"$f":"'Effizienz-Faktor-Neu'!B79","v":54.832919905425783}]
[null,null,null,null,null,null,null,null,null,null,null,null,null,null,null,null,null,null,null,76,{"$f":"'Effizienz-Faktor-Neu'!C80","v":"7x64"},{"$f":"'Effizienz-Faktor-Neu'!B80","v":54.264161954038329}]
[null,null,null,null,null,null,null,null,null,null,null,null,null,null,null,null,null,null,null,77,{"$f":"'Effizienz-Faktor-Neu'!C81","v":"6,5x64 Brenneke"},{"$f":"'Effizienz-Faktor-Neu'!B81","v":54.122631056031544}]
[null,null,null,null,null,null,null,null,null,null,null,null,null,null,null,null,null,null,null,78,{"$f":"'Effizienz-Faktor-Neu'!C82","v":".300 Winchester Magnum"},{"$f":"'Effizienz-Faktor-Neu'!B82","v":53.526835070900539}]
[null,null,null,null,null,null,null,null,null,null,null,null,null,null,null,null,null,null,null,79,{"$f":"'Effizienz-Faktor-Neu'!C83","v":"6,5x64 Brenneke"},{"$f":"'Effizienz-Faktor-Neu'!B83","v":53.424844584608856}]
[null,null,null,null,null,null,null,null,null,null,null,null,null,null,null,null,null,null,null,80,{"$f":"'Effizienz-Faktor-Neu'!C84","v":"7mm Weatherby Magnum"},{"$f":"'Effizienz-Faktor-Neu'!B84","v":52.717674236653558}]
[null,null,null,null,null,null,null,null,null,null,null,null,null,null,null,null,null,null,null,81,{"$f":"'Effizienz-Faktor-Neu'!C85","v":".300 Winchester Magnum"},{"$f":"'Effizienz-Faktor-Neu'!B85","v":52.398403159185634}]
[null,null,null,null,null,null,null,null,null,null,null,null,null,null,null,null,null,null,null,82,{"$f":"'Effizienz-Faktor-Neu'!C86","v":"7x57"},{"$f":"'Effizienz-Faktor-Neu'!B86","v":52.228121003003722}]
[null,null,null,null,null,null,null,null,null,null,null,null,null,null,null,null,null,null,null,83,{"$f":"'Effizienz-Faktor-Neu'!C87","v":".30-06 Springfield"},{"$f":"'Effizienz-Faktor-Neu'!B87","v":51.461929648951049}]
[null,null,null,null,null,null,null,null,null,null,null,null,null,null,null,null,null,null,null,84,{"$f":"'Effizienz-Faktor-Neu'!C88","v":".30-06 Springfield"},{"$f":"'Effizienz-Faktor-Neu'!B88","v":51.246441413691215}]
[null,null,null,null,null,null,null,null,null,null,null,null,null,null,null,null,null,null,null,85,{"$f":"'Effizienz-Faktor-Neu'!C89","v":"9,3x74R"},{"$f":"'Effizienz-Faktor-Neu'!B89","v":50.982227021097579}]
[null,null,null,null,null,null,null,null,null,null,null,null,null,null,null,null,null,null,null,86,{"$f":"'Effizienz-Faktor-Neu'!C90","v":".30-06 Springfield"},{"$f":"'Effizienz-Faktor-Neu'!B90","v":50.712503520980029}]
[null,null,null,null,null,null,null,null,null,null,null,null,null,null,null,null,null,null,null,87,{"$f":"'Effizienz-Faktor-Neu'!C91","v":"7,5x55"},{"$f":"'Effizienz-Faktor-Neu'!B91","v":50.620581174628803}]
[null,null,null,null,null,null,null,null,null,null,null,null,null,null,null,null,null,null,null,88,{"$f":"'Effizienz-Faktor-Neu'!C92","v":"9,3x74R"},{"$f":"'Effizienz-Faktor-Neu'!B92","v":50.521105283727067}]
[null,null,null,null,null,null,null,null,null,null,null,null,null,null,null,null,null,null,null,89,{"$f":"'Effizienz-Faktor-Neu'!C93","v":"9,3x74R"},{"$f":"'Effizienz-Faktor-Neu'!B93","v":50.518224411155316}]
[null,null,null,null,null,null,null,null,null,null,null,null,null,null,null,null,null,null,null,90,{"$f":"'Effizienz-Faktor-Neu'!C94","v":"6,5x65 RWS"},{"$f":"'Effizienz-Faktor-Neu'!B94","v":50.234847554141602}]
[null,null,null,null,null,null,null,null,null,null,null,null,null,null,null,null,null,null,null,91,{"$f":"'Effizienz-Faktor-Neu'!C95","v":".30 R Blaser"},{"$f":"'Effizienz-Faktor-Neu'!B95","v":49.597523658769887}]
[null,null,null,null,null,null,null,null,null,null,null,null,null,null,null,null,null,null,null,92,{"$f":"'Effizienz-Faktor-Neu'!C96","v":"8x75RS"},{"$f":"'Effizienz-Faktor-Neu'!B96","v":49.488566597878545}]
[null,null,null,null,null,null,null,null,null,null,null,null,null,null,null,null,null,null,null,93,{"$f":"'Effizienz-Faktor-Neu'!C97","v":"7x66 SE von Hofe"},{"$f":"'Effizienz-Faktor-Neu'!B97","v":49.170464609650594}]
[null,null,null,null,null,null,null,null,null,null,null,null,null,null,null,null,null,null,null,94,{"$f":"'Effizienz-Faktor-Neu'!C98","v":"6,5-284Norma"},{"$f":"'Effizienz-Faktor-Neu'!B98","v":48.675919381321279}]
[null,null,null,null,null,null,null,null,null,null,null,null,null,null,null,null,null,null,null,95,{"$f":"'Effizienz-Faktor-Neu'!C99","v":".300 Weatherby Magnum"},{"$f":"'Effizienz-Faktor-Neu'!B99","v":48.617994289130976}]
[null,null,null,null,null,null,null,null,null,null,null,null,null,null,null,null,null,null,null,96,{"$f":"'Effizienz-Faktor-Neu'!C100","v":".270 Winchester"},{"$f":"'Effizienz-Faktor-Neu'!B100","v":48.596859457844062}]
[null,null,null,null,null,null,null,null,null,null,null,null,null,null,null,null,null,null,null,97,{"$f":"'Effizienz-Faktor-Neu'!C101","v":"7,5x55"},{"$f":"'Effizienz-Faktor-Neu'!B101","v":48.563738571712072}]
[null,null,null,null,null,null,null,null,null,null,null,null,null,null,null,null,null,null,null,98,{"$f":"'Effizienz-Faktor-Neu'!C102","v":"8x75RS"},{"$f":"'Effizienz-Faktor-Neu'!B102","v":48.052402417023636}]
[null,null,null,null,null,null,null,null,null,null,null,null,null,null,null,null,null,null,null,99,{"$f":"'Effizienz-Faktor-Neu'!C103","v":"7x65R"},{"$f":"'Effizienz-Faktor-Neu'!B103","v":47.526298887374246}]
[null,null,null,null,null,null,null,null,null,null,null,null,null,null,null,null,null,null,null,100,{"$f":"'Effizienz-Faktor-Neu'!C104","v":"7x66 SE von Hofe"},{"$f":"'Effizienz-Faktor-Neu'!B104","v":47.131384223327423}]
[null,null,null,null,null,null,null,null,null,null,null,null,null,null,null,null,null,null,null,101,{"$f":"'Effizienz-Faktor-Neu'!C105","v":"6,5-284Norma"},{"$f":"'Effizienz-Faktor-Neu'!B105","v":46.94409622058388}]
[null,null,null,null,null,null,null,null,null,null,null,null,null,null,null,null,null,null,null,102,{"$f":"'Effizienz-Faktor-Neu'!C106","v":".300 Weatherby Magnum"},{"$f":"'Effizienz-Faktor-Neu'!B106","v":46.766508881804931}]
[null,null,null,null,null,null,null,null,null,null,null,null,null,null,null,null,null,null,null,103,{"$f":"'Effizienz-Faktor-Neu'!C107","v":"6,5x65 RWS"},{"$f":"'Effizienz-Faktor-Neu'!B107","v":46.635480300041401}]
[null,null,null,null,null,null,null,null,null,null,null,null,null,null,null,null,null,null,null,104,{"$f":"'Effizienz-Faktor-Neu'!C108","v":".300 Weatherby Magnum"},{"$f":"'Effizienz-Faktor-Neu'!B108","v":46.595114234658766}]
[null,null,null,null,null,null,null,null,null,null,null,null,null,null,null,null,null,null,null,105,{"$f":"'Effizienz-Faktor-Neu'!C109","v":"6,5x55 SE"},{"$f":"'Effizienz-Faktor-Neu'!B109","v":46.292992978701498}]
[null,null,null,null,null,null,null,null,null,null,null,null,null,null,null,null,null,null,null,106,{"$f":"'Effizienz-Faktor-Neu'!C110","v":"7,82 Warbird"},{"$f":"'Effizienz-Faktor-Neu'!B110","v":45.921747174083734}]
[null,null,null,null,null,null,null,null,null,null,null,null,null,null,null,null,null,null,null,107,{"$f":"'Effizienz-Faktor-Neu'!C111","v":"7,82 Warbird"},{"$f":"'Effizienz-Faktor-Neu'!B111","v":43.505149818200572}]
[null,null,null,null,null,null,null,null,null,null,null,null,null,null,null,null,null,null,null,108,{"$f":"'Effizienz-Faktor-Neu'!C112","v":"6,5x57"},{"$f":"'Effizienz-Faktor-Neu'!B112","v":43.309568947420154}]
[null,null,null,null,null,null,null,null,null,null,null,null,null,null,null,null,null,null,null,109,{"$f":"'Effizienz-Faktor-Neu'!C113","v":"6,5x57"},{"$f":"'Effizienz-Faktor-Neu'!B113","v":43.166092204304832}]
[null,null,null,null,null,null,null,null,null,null,null,null,null,null,null,null,null,null,null,110,{"$f":"'Effizienz-Faktor-Neu'!C114","v":"6,5x55 SE"},{"$f":"'Effizienz-Faktor-Neu'!B114","v":43.016732196332192}]
[null,null,null,null,null,null,null,null,null,null,null,null,null,null,null,null,null,null,null,111,{"$f":"'Effizienz-Faktor-Neu'!C115","v":"6,5x55 SE"},{"$f":"'Effizienz-Faktor-Neu'!B115","v":42.98437117646823}]
[null,null,null,null,null,null,null,null,null,null,null,null,null,null,null,null,null,null,null,112,{"$f":"'Effizienz-Faktor-Neu'!C116","v":"6,5x68"},{"$f":"'Effizienz-Faktor-Neu'!B116","v":42.910482691172405}]
[null,null,null,null,null,null,null,null,null,null,null,null,null,null,null,null,null,null,null,113,{"$f":"'Effizienz-Faktor-Neu'!C117","v":"6,5x68"},{"$f":"'Effizienz-Faktor-Neu'!B117","v":41.704561288747939}]
[null,null,null,null,null,null,null,null,null,null,null,null,null,null,null,null,null,null,null,114,{"$f":"'Effizienz-Faktor-Neu'!C118","v":".300 Weatherby Magnum"},{"$f":"'Effizienz-Faktor-Neu'!B118","v":41.605174239996124}]
[null,null,null,null,null,null,null,null,null,null,null,null,null,null,null,null,null,null,null,115,{"$f":"'Effizienz-Faktor-Neu'!C119","v":"10.3x60R"},{"$f":"'Effizienz-Faktor-Neu'!B119","v":39.239959811861837}]
[null,null,null,null,null,null,null,null,null,null,null,null,null,null,null,null,null,null,null,116,{"$f":"'Effizienz-Faktor-Neu'!C120","v":"10.3x60R"},{"$f":"'Effizienz-Faktor-Neu'!B120","v":39.239959811861837}]
[null,null,null,null,null,null,null,null,null,null,null,null,null,null,null,null,null,null,null,117,{"$f":"'Effizienz-Faktor-Neu'!C121","v":"8x57IRS"},{"$f":"'Effizienz-Faktor-Neu'!B121","v":38.9560617213669}]
[null,null,null,null,null,null,null,null,null,null,null,null,null,null,null,null,null,null,null,118,{"$f":"'Effizienz-Faktor-Neu'!C122","v":"6,5x68R"},{"$f":"'Effizienz-Faktor-Neu'!B122","v":36.048205385739138}]
[null,null,null,null,null,null,null,null,null,null,null,null,null,null,null,null,null,null,null,119,{"$f":"'Effizienz-Faktor-Neu'!C123","v":"10.3x60R"},{"$f":"'Effizienz-Faktor-Neu'!B123","v":35.301537446595994}]
[null,null,null,null,null,null,null,null,null,null,null,null,null,null,null,null,null,null,null,120,{"$f":"'Effizienz-Faktor-Neu'!C124","v":"10.3x60R"},{"$f":"'Effizienz-Faktor-Neu'!B124","v":35.164265558122437}]
[null,null,null,null,null,null,null,null,null,null,null,null,null,null,null,null,null,null,null,121,{"$f":"'Effizienz-Faktor-Neu'!C125","v":"6,5x68R"},{"$f":"'Effizienz-Faktor-Neu'!B125","v":34.744308130524935}]
[null,null,null,null,null,null,null,null,null,null,null,null,null,null,null,null,null,null,null,122,{"$f":"'Effizienz-Faktor-Neu'!C126","v":"10.3x60R"},{"$f":"'Effizienz-Faktor-Neu'!B126","v":34.592716625421183}]
[null,null,null,null,null,null,null,null,null,null,null,null,null,null,null,null,null,null,null,123,{"$f":"'Effizienz-Faktor-Neu'!C127","v":"10.3x60R"},{"$f":"'Effizienz-Faktor-Neu'!B127","v":34.586348540226084}]
[null,null,null,null,null,null,null,null,null,null,null,null,null,null,null,null,null,null,null,124,{"$f":"'Effizienz-Faktor-Neu'!C128","v":".416 Rigby"},{"$f":"'Effizienz-Faktor-Neu'!B128","v":33.648031629933769}]
[null,null,null,null,null,null,null,null,null,null,null,null,null,null,null,null,null,null,null,125,{"$f":"'Effizienz-Faktor-Neu'!C129","v":"6,5x57R"},{"$f":"'Effizienz-Faktor-Neu'!B129","v":31.878365326087756}]
[null,null,null,null,null,null,null,null,null,null,null,null,null,null,null,null,null,null,null,126,{"$f":"'Effizienz-Faktor-Neu'!C130","v":"6,5x57R"},{"$f":"'Effizienz-Faktor-Neu'!B130","v":31.32810463413918}]
[null,null,null,null,null,null,null,null,null,null,null,null,null,null,null,null,null,null,null,127,{"$f":"'Effizienz-Faktor-Neu'!C131","v":"10.3x60R"},{"$f":"'Effizienz-Faktor-Neu'!B131","v":30.030119103269286}]
[null,null,null,null,null,null,null,null,null,null,null,null,null,null,null,null,null,null,null,128,{"$f":"'Effizienz-Faktor-Neu'!C132","v":"10.3x60R"},{"$f":"'Effizienz-Faktor-Neu'!B132","v":28.996204816247598}]
[null,null,null,null,null,null,null,null,null,null,null,null,null,null,null,null,null,null,null,129,{"$f":"'Effizienz-Faktor-Neu'!C133","v":"10.3x60R"},{"$f":"'Effizienz-Faktor-Neu'!B133","v":27.838015869964597}]
[null,null,null,null,null,null,null,null,null,null,null,null,null,null,null,null,null,null,null,130,{"$f":"'Effizienz-Faktor-Neu'!C134","v":"10.3x60R"},{"$f":"'Effizienz-Faktor-Neu'!B134","v":27.441506823120214}]
[null,null,null,null,null,null,null,null,null,null,null,null,null,null,null,null,null,null,null,131,{"$f":"'Effizienz-Faktor-Neu'!C135","v":".500/416 NE"},{"$f":"'Effizienz-Faktor-Neu'!B135","v":27.029833028238404}]
[null,null,null,null,null,null,null,null,null,null,null,null,null,null,null,null,null,null,null,132,{"$f":"'Effizienz-Faktor-Neu'!C136","v":".500/416 NE"},{"$f":"'Effizienz-Faktor-Neu'!B136","v":27.000005676513837}]
[null,null,null,null,null,null,null,null,null,null,null,null,null,null,null,null,null,null,null,133,{"$f":"'Effizienz-Faktor-Neu'!C137","v":".500/416 NE"},{"$f":"'Effizienz-Faktor-Neu'!B137","v":26.074147741726058}]

{"sheet":"Graphik-V° vs. TPL","index":2,"n_rows":136,"n_cols":22,"rows_kept":136,"cut":false,"hidden":false,"merged":[]}
[]
[null,null,null,null,null,null,null,null,null,null,null,null,null,null,null,null,null,null,null,null,"Copyright© by\nGian-Marchet® 2008\nAlle Rechte vorbehalten\nAll Rights reserved"]
[]
[null,null,null,null,null,null,null,null,null,null,null,null,null,null,null,null,null,null,null,1,{"$f":"'Effizienz-Faktor-Neu'!C137","v":".500/416 NE"},{"$f":"'Effizienz-Faktor-Neu'!U137","v":7.0002450980392164}]
[null,null,null,null,null,null,null,null,null,null,null,null,null,null,null,null,null,null,null,2,{"$f":"'Effizienz-Faktor-Neu'!C136","v":".500/416 NE"},{"$f":"'Effizienz-Faktor-Neu'!U136","v":7.3355392156862749}]
[null,null,null,null,null,null,null,null,null,null,null,null,null,null,null,null,null,null,null,3,{"$f":"'Effizienz-Faktor-Neu'!C135","v":".500/416 NE"},{"$f":"'Effizienz-Faktor-Neu'!U135","v":7.494377551020408}]
[null,null,null,null,null,null,null,null,null,null,null,null,null,null,null,null,null,null,null,4,{"$f":"'Effizienz-Faktor-Neu'!C119","v":"10.3x60R"},{"$f":"'Effizienz-Faktor-Neu'!U119","v":7.922535211267606}]
[null,null,null,null,null,null,null,null,null,null,null,null,null,null,null,null,null,null,null,5,{"$f":"'Effizienz-Faktor-Neu'!C120","v":"10.3x60R"},{"$f":"'Effizienz-Faktor-Neu'!U120","v":7.922535211267606}]
[null,null,null,null,null,null,null,null,null,null,null,null,null,null,null,null,null,null,null,6,{"$f":"'Effizienz-Faktor-Neu'!C126","v":"10.3x60R"},{"$f":"'Effizienz-Faktor-Neu'!U126","v":7.922535211267606}]
[null,null,null,null,null,null,null,null,null,null,null,null,null,null,null,null,null,null,null,7,{"$f":"'Effizienz-Faktor-Neu'!C123","v":"10.3x60R"},{"$f":"'Effizienz-Faktor-Neu'!U123","v":8.1355034482758626}]
[null,null,null,null,null,null,null,null,null,null,null,null,null,null,null,null,null,null,null,8,{"$f":"'Effizienz-Faktor-Neu'!C128","v":".416 Rigby"},{"$f":"'Effizienz-Faktor-Neu'!U128","v":8.1588040201005025}]
[null,null,null,null,null,null,null,null,null,null,null,null,null,null,null,null,null,null,null,9,{"$f":"'Effizienz-Faktor-Neu'!C29","v":"10,57 Meteor"},{"$f":"'Effizienz-Faktor-Neu'!U29","v":8.8020833333333339}]
[null,null,null,null,null,null,null,null,null,null,null,null,null,null,null,null,null,null,null,10,{"$f":"'Effizienz-Faktor-Neu'!C127","v":"10.3x60R"},{"$f":"'Effizienz-Faktor-Neu'!U127","v":8.8670454545454547}]
[null,null,null,null,null,null,null,null,null,null,null,null,null,null,null,null,null,null,null,11,{"$f":"'Effizienz-Faktor-Neu'!C46","v":".378 Weatherby Magnum"},{"$f":"'Effizienz-Faktor-Neu'!U46","v":9.060377358490566}]
[null,null,null,null,null,null,null,null,null,null,null,null,null,null,null,null,null,null,null,12,{"$f":"'Effizienz-Faktor-Neu'!C38","v":".416 Weatherby Magnum"},{"$f":"'Effizienz-Faktor-Neu'!U38","v":9.0827981651376142}]
[null,null,null,null,null,null,null,null,null,null,null,null,null,null,null,null,null,null,null,13,{"$f":"'Effizienz-Faktor-Neu'!C132","v":"10.3x60R"},{"$f":"'Effizienz-Faktor-Neu'!U132","v":9.1292592592592587}]
[null,null,null,null,null,null,null,null,null,null,null,null,null,null,null,null,null,null,null,14,{"$f":"'Effizienz-Faktor-Neu'!C133","v":"10.3x60R"},{"$f":"'Effizienz-Faktor-Neu'!U133","v":9.2011911764705872}]
[null,null,null,null,null,null,null,null,null,null,null,null,null,null,null,null,null,null,null,15,{"$f":"'Effizienz-Faktor-Neu'!C42","v":".375 Remington Ultra Magnum"},{"$f":"'Effizienz-Faktor-Neu'!U42","v":9.3906701570680635}]
[null,null,null,null,null,null,null,null,null,null,null,null,null,null,null,null,null,null,null,16,{"$f":"'Effizienz-Faktor-Neu'!C28","v":"10,57 Meteor"},{"$f":"'Effizienz-Faktor-Neu'!U28","v":9.4156862745098042}]
[null,null,null,null,null,null,null,null,null,null,null,null,null,null,null,null,null,null,null,17,{"$f":"'Effizienz-Faktor-Neu'!C43","v":".375 Remington Ultra Magnum"},{"$f":"'Effizienz-Faktor-Neu'!U43","v":9.432142076502732}]
[null,null,null,null,null,null,null,null,null,null,null,null,null,null,null,null,null,null,null,18,{"$f":"'Effizienz-Faktor-Neu'!C22","v":".416 Remington Magnum"},{"$f":"'Effizienz-Faktor-Neu'!U22","v":9.5235465116279059}]
[null,null,null,null,null,null,null,null,null,null,null,null,null,null,null,null,null,null,null,19,{"$f":"'Effizienz-Faktor-Neu'!C11","v":".416 Remington Magnum"},{"$f":"'Effizienz-Faktor-Neu'!U11","v":9.5695364238410594}]
[null,null,null,null,null,null,null,null,null,null,null,null,null,null,null,null,null,null,null,20,{"$f":"'Effizienz-Faktor-Neu'!C36","v":".375 Remington Ultra Magnum"},{"$f":"'Effizienz-Faktor-Neu'!U36","v":9.5980552486187847}]
[null,null,null,null,null,null,null,null,null,null,null,null,null,null,null,null,null,null,null,21,{"$f":"'Effizienz-Faktor-Neu'!C32","v":".378 Weatherby Magnum"},{"$f":"'Effizienz-Faktor-Neu'!U32","v":9.6387614678899087}]
[null,null,null,null,null,null,null,null,null,null,null,null,null,null,null,null,null,null,null,22,{"$f":"'Effizienz-Faktor-Neu'!C124","v":"10.3x60R"},{"$f":"'Effizienz-Faktor-Neu'!U124","v":9.7182222222222219}]
[null,null,null,null,null,null,null,null,null,null,null,null,null,null,null,null,null,null,null,23,{"$f":"'Effizienz-Faktor-Neu'!C26","v":".375 Ruger"},{"$f":"'Effizienz-Faktor-Neu'!U26","v":9.8381538461538458}]
[null,null,null,null,null,null,null,null,null,null,null,null,null,null,null,null,null,null,null,24,{"$f":"'Effizienz-Faktor-Neu'!C134","v":"10.3x60R"},{"$f":"'Effizienz-Faktor-Neu'!U134","v":9.9181068702290069}]
[null,null,null,null,null,null,null,null,null,null,null,null,null,null,null,null,null,null,null,25,{"$f":"'Effizienz-Faktor-Neu'!C16","v":".416 Remington Magnum"},{"$f":"'Effizienz-Faktor-Neu'!U16","v":9.9881097560975611}]
[null,null,null,null,null,null,null,null,null,null,null,null,null,null,null,null,null,null,null,26,{"$f":"'Effizienz-Faktor-Neu'!C20","v":".416 Remington Magnum"},{"$f":"'Effizienz-Faktor-Neu'!U20","v":10.042999999999999}]
[null,null,null,null,null,null,null,null,null,null,null,null,null,null,null,null,null,null,null,27,{"$f":"'Effizienz-Faktor-Neu'!C58","v":"10,3x74R"},{"$f":"'Effizienz-Faktor-Neu'!U58","v":10.158582089552239}]
[null,null,null,null,null,null,null,null,null,null,null,null,null,null,null,null,null,null,null,28,{"$f":"'Effizienz-Faktor-Neu'!C10","v":".416 Taylor"},{"$f":"'Effizienz-Faktor-Neu'!U10","v":10.381432835820895}]
[null,null,null,null,null,null,null,null,null,null,null,null,null,null,null,null,null,null,null,29,{"$f":"'Effizienz-Faktor-Neu'!C9","v":".416 Taylor"},{"$f":"'Effizienz-Faktor-Neu'!U9","v":10.394414285714285}]
[null,null,null,null,null,null,null,null,null,null,null,null,null,null,null,null,null,null,null,30,{"$f":"'Effizienz-Faktor-Neu'!C8","v":"10,3x72 Gian-Marchet®"},{"$f":"'Effizienz-Faktor-Neu'!U8","v":10.464864864864865}]
[null,null,null,null,null,null,null,null,null,null,null,null,null,null,null,null,null,null,null,31,{"$f":"'Effizienz-Faktor-Neu'!C24","v":".375 Ruger"},{"$f":"'Effizienz-Faktor-Neu'!U24","v":10.584}]
[null,null,null,null,null,null,null,null,null,null,null,null,null,null,null,null,null,null,null,32,{"$f":"'Effizienz-Faktor-Neu'!C12","v":".375 Holland & Holland Magnum"},{"$f":"'Effizienz-Faktor-Neu'!U12","v":10.641726618705036}]
[null,null,null,null,null,null,null,null,null,null,null,null,null,null,null,null,null,null,null,33,{"$f":"'Effizienz-Faktor-Neu'!C19","v":"10,3x72 Gian-Marchet®"},{"$f":"'Effizienz-Faktor-Neu'!U19","v":10.656493150684932}]
[null,null,null,null,null,null,null,null,null,null,null,null,null,null,null,null,null,null,null,34,{"$f":"'Effizienz-Faktor-Neu'!C13","v":".375 Holland & Holland Magnum"},{"$f":"'Effizienz-Faktor-Neu'!U13","v":10.69090909090909}]
[null,null,null,null,null,null,null,null,null,null,null,null,null,null,null,null,null,null,null,35,{"$f":"'Effizienz-Faktor-Neu'!C131","v":"10.3x60R"},{"$f":"'Effizienz-Faktor-Neu'!U131","v":10.725446428571429}]
[null,null,null,null,null,null,null,null,null,null,null,null,null,null,null,null,null,null,null,36,{"$f":"'Effizienz-Faktor-Neu'!C17","v":".375 Holland & Holland Magnum"},{"$f":"'Effizienz-Faktor-Neu'!U17","v":10.783450704225352}]
[null,null,null,null,null,null,null,null,null,null,null,null,null,null,null,null,null,null,null,37,{"$f":"'Effizienz-Faktor-Neu'!C5","v":".416/323 Gian-Marchet®"},{"$f":"'Effizienz-Faktor-Neu'!U5","v":11.061818181818182}]
[null,null,null,null,null,null,null,null,null,null,null,null,null,null,null,null,null,null,null,38,{"$f":"'Effizienz-Faktor-Neu'!C45","v":"9,3x62 Drückjagd"},{"$f":"'Effizienz-Faktor-Neu'!U45","v":11.466852173913043}]
[null,null,null,null,null,null,null,null,null,null,null,null,null,null,null,null,null,null,null,39,{"$f":"'Effizienz-Faktor-Neu'!C47","v":".338 Lapua Magnum"},{"$f":"'Effizienz-Faktor-Neu'!U47","v":11.47301052631579}]
[null,null,null,null,null,null,null,null,null,null,null,null,null,null,null,null,null,null,null,40,{"$f":"'Effizienz-Faktor-Neu'!C40","v":".338 Lapua Magnum"},{"$f":"'Effizienz-Faktor-Neu'!U40","v":11.500318681318682}]
[null,null,null,null,null,null,null,null,null,null,null,null,null,null,null,null,null,null,null,41,{"$f":"'Effizienz-Faktor-Neu'!C89","v":"9,3x74R"},{"$f":"'Effizienz-Faktor-Neu'!U89","v":11.564816666666667}]
[null,null,null,null,null,null,null,null,null,null,null,null,null,null,null,null,null,null,null,42,{"$f":"'Effizienz-Faktor-Neu'!C44","v":".338 Lapua Magnum"},{"$f":"'Effizienz-Faktor-Neu'!U44","v":11.673611111111111}]
[null,null,null,null,null,null,null,null,null,null,null,null,null,null,null,null,null,null,null,43,{"$f":"'Effizienz-Faktor-Neu'!C93","v":"9,3x74R"},{"$f":"'Effizienz-Faktor-Neu'!U93","v":11.803017857142857}]
[null,null,null,null,null,null,null,null,null,null,null,null,null,null,null,null,null,null,null,44,{"$f":"'Effizienz-Faktor-Neu'!C18","v":".338 Winchester Magnum"},{"$f":"'Effizienz-Faktor-Neu'!U18","v":11.908128571428572}]
[null,null,null,null,null,null,null,null,null,null,null,null,null,null,null,null,null,null,null,45,{"$f":"'Effizienz-Faktor-Neu'!C66","v":"9,3x62"},{"$f":"'Effizienz-Faktor-Neu'!U66","v":11.918376068376068}]
[null,null,null,null,null,null,null,null,null,null,null,null,null,null,null,null,null,null,null,46,{"$f":"'Effizienz-Faktor-Neu'!C7","v":".376 Steyr"},{"$f":"'Effizienz-Faktor-Neu'!U7","v":11.955018867924528}]
[null,null,null,null,null,null,null,null,null,null,null,null,null,null,null,null,null,null,null,47,{"$f":"'Effizienz-Faktor-Neu'!C54","v":"9,3x62"},{"$f":"'Effizienz-Faktor-Neu'!U54","v":12.001543408360128}]
[null,null,null,null,null,null,null,null,null,null,null,null,null,null,null,null,null,null,null,48,{"$f":"'Effizienz-Faktor-Neu'!C15","v":"9,3x64"},{"$f":"'Effizienz-Faktor-Neu'!U15","v":12.125525179856115}]
[null,null,null,null,null,null,null,null,null,null,null,null,null,null,null,null,null,null,null,49,{"$f":"'Effizienz-Faktor-Neu'!C14","v":"9,3x64"},{"$f":"'Effizienz-Faktor-Neu'!U14","v":12.1968}]
[null,null,null,null,null,null,null,null,null,null,null,null,null,null,null,null,null,null,null,50,{"$f":"'Effizienz-Faktor-Neu'!C92","v":"9,3x74R"},{"$f":"'Effizienz-Faktor-Neu'!U92","v":12.240166666666665}]
[null,null,null,null,null,null,null,null,null,null,null,null,null,null,null,null,null,null,null,51,{"$f":"'Effizienz-Faktor-Neu'!C48","v":"9,3x62"},{"$f":"'Effizienz-Faktor-Neu'!U48","v":12.263513513513514}]
[null,null,null,null,null,null,null,null,null,null,null,null,null,null,null,null,null,null,null,52,{"$f":"'Effizienz-Faktor-Neu'!C118","v":".300 Weatherby Magnum"},{"$f":"'Effizienz-Faktor-Neu'!U118","v":12.336046511627906}]
[null,null,null,null,null,null,null,null,null,null,null,null,null,null,null,null,null,null,null,53,{"$f":"'Effizienz-Faktor-Neu'!C51","v":"9,3x62"},{"$f":"'Effizienz-Faktor-Neu'!U51","v":12.390254237288136}]
[null,null,null,null,null,null,null,null,null,null,null,null,null,null,null,null,null,null,null,54,{"$f":"'Effizienz-Faktor-Neu'!C75","v":"8mm Remington Magnum"},{"$f":"'Effizienz-Faktor-Neu'!U75","v":12.528640522875818}]
[null,null,null,null,null,null,null,null,null,null,null,null,null,null,null,null,null,null,null,55,{"$f":"'Effizienz-Faktor-Neu'!C111","v":"7,82 Warbird"},{"$f":"'Effizienz-Faktor-Neu'!U111","v":12.617475728155339}]
[null,null,null,null,null,null,null,null,null,null,null,null,null,null,null,null,null,null,null,56,{"$f":"'Effizienz-Faktor-Neu'!C6","v":".416/323 Gian-Marchet®"},{"$f":"'Effizienz-Faktor-Neu'!U6","v":12.683420479302834}]
[null,null,null,null,null,null,null,null,null,null,null,null,null,null,null,null,null,null,null,57,{"$f":"'Effizienz-Faktor-Neu'!C25","v":"8x68S"},{"$f":"'Effizienz-Faktor-Neu'!U25","v":12.899281690140846}]
[null,null,null,null,null,null,null,null,null,null,null,null,null,null,null,null,null,null,null,58,{"$f":"'Effizienz-Faktor-Neu'!C23","v":"9,3x64"},{"$f":"'Effizienz-Faktor-Neu'!U23","v":12.938882352941176}]
[null,null,null,null,null,null,null,null,null,null,null,null,null,null,null,null,null,null,null,59,{"$f":"'Effizienz-Faktor-Neu'!C41","v":"8x68S"},{"$f":"'Effizienz-Faktor-Neu'!U41","v":12.938882352941176}]
[null,null,null,null,null,null,null,null,null,null,null,null,null,null,null,null,null,null,null,60,{"$f":"'Effizienz-Faktor-Neu'!C52","v":".338 Winchester Magnum"},{"$f":"'Effizienz-Faktor-Neu'!U52","v":12.983685039370078}]
[null,null,null,null,null,null,null,null,null,null,null,null,null,null,null,null,null,null,null,61,{"$f":"'Effizienz-Faktor-Neu'!C102","v":"8x75RS"},{"$f":"'Effizienz-Faktor-Neu'!U102","v":13.000396825396825}]
[null,null,null,null,null,null,null,null,null,null,null,null,null,null,null,null,null,null,null,62,{"$f":"'Effizienz-Faktor-Neu'!C33","v":".300 Weatherby Magnum"},{"$f":"'Effizienz-Faktor-Neu'!U33","v":13.075557065217392}]
[null,null,null,null,null,null,null,null,null,null,null,null,null,null,null,null,null,null,null,63,{"$f":"'Effizienz-Faktor-Neu'!C50","v":".338 Winchester Magnum"},{"$f":"'Effizienz-Faktor-Neu'!U50","v":13.127070866141732}]
[null,null,null,null,null,null,null,null,null,null,null,null,null,null,null,null,null,null,null,64,{"$f":"'Effizienz-Faktor-Neu'!C110","v":"7,82 Warbird"},{"$f":"'Effizienz-Faktor-Neu'!U110","v":13.245266331658291}]
[null,null,null,null,null,null,null,null,null,null,null,null,null,null,null,null,null,null,null,65,{"$f":"'Effizienz-Faktor-Neu'!C96","v":"8x75RS"},{"$f":"'Effizienz-Faktor-Neu'!U96","v":13.54017094017094}]
[null,null,null,null,null,null,null,null,null,null,null,null,null,null,null,null,null,null,null,66,{"$f":"'Effizienz-Faktor-Neu'!C49","v":"8x64S"},{"$f":"'Effizienz-Faktor-Neu'!U49","v":13.600018867924527}]
[null,null,null,null,null,null,null,null,null,null,null,null,null,null,null,null,null,null,null,64,{"$f":"'Effizienz-Faktor-Neu'!C121","v":"8x57IRS"},{"$f":"'Effizienz-Faktor-Neu'!U121","v":13.744505263157894}]
[null,null,null,null,null,null,null,null,null,null,null,null,null,null,null,null,null,null,null,68,{"$f":"'Effizienz-Faktor-Neu'!C106","v":".300 Weatherby Magnum"},{"$f":"'Effizienz-Faktor-Neu'!U106","v":13.790520000000001}]
[null,null,null,null,null,null,null,null,null,null,null,null,null,null,null,null,null,null,null,69,{"$f":"'Effizienz-Faktor-Neu'!C108","v":".300 Weatherby Magnum"},{"$f":"'Effizienz-Faktor-Neu'!U108","v":13.796658227848102}]
[null,null,null,null,null,null,null,null,null,null,null,null,null,null,null,null,null,null,null,70,{"$f":"'Effizienz-Faktor-Neu'!C63","v":"7mm STW"},{"$f":"'Effizienz-Faktor-Neu'!U63","v":13.832012195121951}]
[null,null,null,null,null,null,null,null,null,null,null,null,null,null,null,null,null,null,null,71,{"$f":"'Effizienz-Faktor-Neu'!C53","v":"8x57IS"},{"$f":"'Effizienz-Faktor-Neu'!U53","v":13.850181818181818}]
[null,null,null,null,null,null,null,null,null,null,null,null,null,null,null,null,null,null,null,72,{"$f":"'Effizienz-Faktor-Neu'!C31","v":"8x64S"},{"$f":"'Effizienz-Faktor-Neu'!U31","v":13.89423076923077}]
[null,null,null,null,null,null,null,null,null,null,null,null,null,null,null,null,null,null,null,73,{"$f":"'Effizienz-Faktor-Neu'!C104","v":"7x66 SE von Hofe"},{"$f":"'Effizienz-Faktor-Neu'!U104","v":14.000320512820513}]
[null,null,null,null,null,null,null,null,null,null,null,null,null,null,null,null,null,null,null,74,{"$f":"'Effizienz-Faktor-Neu'!C74","v":"8x57IS"},{"$f":"'Effizienz-Faktor-Neu'!U74","v":14.139108910891089}]
[null,null,null,null,null,null,null,null,null,null,null,null,null,null,null,null,null,null,null,75,{"$f":"'Effizienz-Faktor-Neu'!C99","v":".300 Weatherby Magnum"},{"$f":"'Effizienz-Faktor-Neu'!U99","v":14.336486486486487}]
[null,null,null,null,null,null,null,null,null,null,null,null,null,null,null,null,null,null,null,76,{"$f":"'Effizienz-Faktor-Neu'!C34","v":".300 WSM"},{"$f":"'Effizienz-Faktor-Neu'!U34","v":14.647813953488372}]
[null,null,null,null,null,null,null,null,null,null,null,null,null,null,null,null,null,null,null,77,{"$f":"'Effizienz-Faktor-Neu'!C100","v":".270 Winchester"},{"$f":"'Effizienz-Faktor-Neu'!U100","v":14.674796747967479}]
[null,null,null,null,null,null,null,null,null,null,null,null,null,null,null,null,null,null,null,78,{"$f":"'Effizienz-Faktor-Neu'!C76","v":"8x57IS"},{"$f":"'Effizienz-Faktor-Neu'!U76","v":14.688979999999999}]
[null,null,null,null,null,null,null,null,null,null,null,null,null,null,null,null,null,null,null,79,{"$f":"'Effizienz-Faktor-Neu'!C97","v":"7x66 SE von Hofe"},{"$f":"'Effizienz-Faktor-Neu'!U97","v":14.714119205298013}]
[null,null,null,null,null,null,null,null,null,null,null,null,null,null,null,null,null,null,null,80,{"$f":"'Effizienz-Faktor-Neu'!C73","v":"8x57IS"},{"$f":"'Effizienz-Faktor-Neu'!U73","v":14.831882845188286}]
[null,null,null,null,null,null,null,null,null,null,null,null,null,null,null,null,null,null,null,81,{"$f":"'Effizienz-Faktor-Neu'!C61","v":"8x57IS"},{"$f":"'Effizienz-Faktor-Neu'!U61","v":14.884930693069307}]
[null,null,null,null,null,null,null,null,null,null,null,null,null,null,null,null,null,null,null,82,{"$f":"'Effizienz-Faktor-Neu'!C65","v":"8x57IS"},{"$f":"'Effizienz-Faktor-Neu'!U65","v":14.918877551020408}]
[null,null,null,null,null,null,null,null,null,null,null,null,null,null,null,null,null,null,null,83,{"$f":"'Effizienz-Faktor-Neu'!C101","v":"7,5x55"},{"$f":"'Effizienz-Faktor-Neu'!U101","v":15.05218018018018}]
[null,null,null,null,null,null,null,null,null,null,null,null,null,null,null,null,null,null,null,84,{"$f":"'Effizienz-Faktor-Neu'!C125","v":"6,5x68R"},{"$f":"'Effizienz-Faktor-Neu'!U125","v":15.05418320610687}]
[null,null,null,null,null,null,null,null,null,null,null,null,null,null,null,null,null,null,null,85,{"$f":"'Effizienz-Faktor-Neu'!C85","v":".300 Winchester Magnum"},{"$f":"'Effizienz-Faktor-Neu'!U85","v":15.097804511278195}]
[null,null,null,null,null,null,null,null,null,null,null,null,null,null,null,null,null,null,null,86,{"$f":"'Effizienz-Faktor-Neu'!C117","v":"6,5x68"},{"$f":"'Effizienz-Faktor-Neu'!U117","v":15.26474820143885}]
[null,null,null,null,null,null,null,null,null,null,null,null,null,null,null,null,null,null,null,87,{"$f":"'Effizienz-Faktor-Neu'!C122","v":"6,5x68R"},{"$f":"'Effizienz-Faktor-Neu'!U122","v":15.406805970149254}]
[null,null,null,null,null,null,null,null,null,null,null,null,null,null,null,null,null,null,null,88,{"$f":"'Effizienz-Faktor-Neu'!C91","v":"7,5x55"},{"$f":"'Effizienz-Faktor-Neu'!U91","v":15.504166666666666}]
[null,null,null,null,null,null,null,null,null,null,null,null,null,null,null,null,null,null,null,89,{"$f":"'Effizienz-Faktor-Neu'!C82","v":".300 Winchester Magnum"},{"$f":"'Effizienz-Faktor-Neu'!U82","v":15.553218045112782}]
[null,null,null,null,null,null,null,null,null,null,null,null,null,null,null,null,null,null,null,90,{"$f":"'Effizienz-Faktor-Neu'!C64","v":"8x57IS"},{"$f":"'Effizienz-Faktor-Neu'!U64","v":15.553723404255319}]
[null,null,null,null,null,null,null,null,null,null,null,null,null,null,null,null,null,null,null,91,{"$f":"'Effizienz-Faktor-Neu'!C78","v":".300 WSM"},{"$f":"'Effizienz-Faktor-Neu'!U78","v":15.576323987538942}]
[null,null,null,null,null,null,null,null,null,null,null,null,null,null,null,null,null,null,null,92,{"$f":"'Effizienz-Faktor-Neu'!C84","v":"7mm Weatherby Magnum"},{"$f":"'Effizienz-Faktor-Neu'!U84","v":15.680970149253731}]
[null,null,null,null,null,null,null,null,null,null,null,null,null,null,null,null,null,null,null,93,{"$f":"'Effizienz-Faktor-Neu'!C116","v":"6,5x68"},{"$f":"'Effizienz-Faktor-Neu'!U116","v":15.706140845070422}]
[null,null,null,null,null,null,null,null,null,null,null,null,null,null,null,null,null,null,null,94,{"$f":"'Effizienz-Faktor-Neu'!C87","v":".30-06 Springfield"},{"$f":"'Effizienz-Faktor-Neu'!U87","v":15.801541284403669}]
[null,null,null,null,null,null,null,null,null,null,null,null,null,null,null,null,null,null,null,95,{"$f":"'Effizienz-Faktor-Neu'!C72","v":"7mm Remington Magnum"},{"$f":"'Effizienz-Faktor-Neu'!U72","v":15.936585365853658}]
[null,null,null,null,null,null,null,null,null,null,null,null,null,null,null,null,null,null,null,96,{"$f":"'Effizienz-Faktor-Neu'!C69","v":"7mm WSM"},{"$f":"'Effizienz-Faktor-Neu'!U69","v":15.937574803149605}]
[null,null,null,null,null,null,null,null,null,null,null,null,null,null,null,null,null,null,null,97,{"$f":"'Effizienz-Faktor-Neu'!C67","v":"7,5x55"},{"$f":"'Effizienz-Faktor-Neu'!U67","v":16.059313725490195}]
[null,null,null,null,null,null,null,null,null,null,null,null,null,null,null,null,null,null,null,98,{"$f":"'Effizienz-Faktor-Neu'!C88","v":".30-06 Springfield"},{"$f":"'Effizienz-Faktor-Neu'!U88","v":16.099654545454545}]
[null,null,null,null,null,null,null,null,null,null,null,null,null,null,null,null,null,null,null,99,{"$f":"'Effizienz-Faktor-Neu'!C95","v":".30 R Blaser"},{"$f":"'Effizienz-Faktor-Neu'!U95","v":16.216683760683761}]
[null,null,null,null,null,null,null,null,null,null,null,null,null,null,null,null,null,null,null,100,{"$f":"'Effizienz-Faktor-Neu'!C68","v":".300 WSM"},{"$f":"'Effizienz-Faktor-Neu'!U68","v":16.323161290322581}]
[null,null,null,null,null,null,null,null,null,null,null,null,null,null,null,null,null,null,null,101,{"$f":"'Effizienz-Faktor-Neu'!C90","v":".30-06 Springfield"},{"$f":"'Effizienz-Faktor-Neu'!U90","v":16.337287822878228}]
[null,null,null,null,null,null,null,null,null,null,null,null,null,null,null,null,null,null,null,102,{"$f":"'Effizienz-Faktor-Neu'!C77","v":".270 Winchester"},{"$f":"'Effizienz-Faktor-Neu'!U77","v":16.362962962962964}]
[null,null,null,null,null,null,null,null,null,null,null,null,null,null,null,null,null,null,null,103,{"$f":"'Effizienz-Faktor-Neu'!C71","v":"7mm WSM"},{"$f":"'Effizienz-Faktor-Neu'!U71","v":16.396958677685951}]
[null,null,null,null,null,null,null,null,null,null,null,null,null,null,null,null,null,null,null,104,{"$f":"'Effizienz-Faktor-Neu'!C103","v":"7x65R"},{"$f":"'Effizienz-Faktor-Neu'!U103","v":16.671698113207547}]
[null,null,null,null,null,null,null,null,null,null,null,null,null,null,null,null,null,null,null,105,{"$f":"'Effizienz-Faktor-Neu'!C59","v":"7x64"},{"$f":"'Effizienz-Faktor-Neu'!U59","v":16.975869158878503}]
[null,null,null,null,null,null,null,null,null,null,null,null,null,null,null,null,null,null,null,106,{"$f":"'Effizienz-Faktor-Neu'!C62","v":"7x64"},{"$f":"'Effizienz-Faktor-Neu'!U62","v":17.089920792079205}]
[null,null,null,null,null,null,null,null,null,null,null,null,null,null,null,null,null,null,null,107,{"$f":"'Effizienz-Faktor-Neu'!C80","v":"7x64"},{"$f":"'Effizienz-Faktor-Neu'!U80","v":17.264220183486238}]
[null,null,null,null,null,null,null,null,null,null,null,null,null,null,null,null,null,null,null,108,{"$f":"'Effizienz-Faktor-Neu'!C107","v":"6,5x65 RWS"},{"$f":"'Effizienz-Faktor-Neu'!U107","v":17.40378947368421}]
[null,null,null,null,null,null,null,null,null,null,null,null,null,null,null,null,null,null,null,109,{"$f":"'Effizienz-Faktor-Neu'!C55","v":"7x64"},{"$f":"'Effizienz-Faktor-Neu'!U55","v":17.571564356435644}]
[null,null,null,null,null,null,null,null,null,null,null,null,null,null,null,null,null,null,null,110,{"$f":"'Effizienz-Faktor-Neu'!C56","v":"7x64"},{"$f":"'Effizienz-Faktor-Neu'!U56","v":17.709619999999997}]
[null,null,null,null,null,null,null,null,null,null,null,null,null,null,null,null,null,null,null,111,{"$f":"'Effizienz-Faktor-Neu'!C129","v":"6,5x57R"},{"$f":"'Effizienz-Faktor-Neu'!U129","v":17.964505747126438}]
[null,null,null,null,null,null,null,null,null,null,null,null,null,null,null,null,null,null,null,112,{"$f":"'Effizienz-Faktor-Neu'!C39","v":".284 Winchester"},{"$f":"'Effizienz-Faktor-Neu'!U39","v":17.994306122448979}]
[null,null,null,null,null,null,null,null,null,null,null,null,null,null,null,null,null,null,null,113,{"$f":"'Effizienz-Faktor-Neu'!C113","v":"6,5x57"},{"$f":"'Effizienz-Faktor-Neu'!U113","v":18.05}]
[null,null,null,null,null,null,null,null,null,null,null,null,null,null,null,null,null,null,null,114,{"$f":"'Effizienz-Faktor-Neu'!C86","v":"7x57"},{"$f":"'Effizienz-Faktor-Neu'!U86","v":18.120805369127517}]
[null,null,null,null,null,null,null,null,null,null,null,null,null,null,null,null,null,null,null,115,{"$f":"'Effizienz-Faktor-Neu'!C94","v":"6,5x65 RWS"},{"$f":"'Effizienz-Faktor-Neu'!U94","v":18.2182}]
[null,null,null,null,null,null,null,null,null,null,null,null,null,null,null,null,null,null,null,116,{"$f":"'Effizienz-Faktor-Neu'!C81","v":"6,5x64 Brenneke"},{"$f":"'Effizienz-Faktor-Neu'!U81","v":18.370666666666668}]
[null,null,null,null,null,null,null,null,null,null,null,null,null,null,null,null,null,null,null,117,{"$f":"'Effizienz-Faktor-Neu'!C115","v":"6,5x55 SE"},{"$f":"'Effizienz-Faktor-Neu'!U115","v":18.409090909090907}]
[null,null,null,null,null,null,null,null,null,null,null,null,null,null,null,null,null,null,null,118,{"$f":"'Effizienz-Faktor-Neu'!C21","v":".308 Winchester"},{"$f":"'Effizienz-Faktor-Neu'!U21","v":18.420930232558142}]
[null,null,null,null,null,null,null,null,null,null,null,null,null,null,null,null,null,null,null,119,{"$f":"'Effizienz-Faktor-Neu'!C83","v":"6,5x64 Brenneke"},{"$f":"'Effizienz-Faktor-Neu'!U83","v":18.506942307692309}]
[null,null,null,null,null,null,null,null,null,null,null,null,null,null,null,null,null,null,null,120,{"$f":"'Effizienz-Faktor-Neu'!C112","v":"6,5x57"},{"$f":"'Effizienz-Faktor-Neu'!U112","v":18.602105263157892}]
[null,null,null,null,null,null,null,null,null,null,null,null,null,null,null,null,null,null,null,121,{"$f":"'Effizienz-Faktor-Neu'!C105","v":"6,5-284Norma"},{"$f":"'Effizienz-Faktor-Neu'!U105","v":18.616897196261682}]
[null,null,null,null,null,null,null,null,null,null,null,null,null,null,null,null,null,null,null,122,{"$f":"'Effizienz-Faktor-Neu'!C130","v":"6,5x57R"},{"$f":"'Effizienz-Faktor-Neu'!U130","v":18.645950617283951}]
[null,null,null,null,null,null,null,null,null,null,null,null,null,null,null,null,null,null,null,123,{"$f":"'Effizienz-Faktor-Neu'!C27","v":".308 Winchester"},{"$f":"'Effizienz-Faktor-Neu'!U27","v":18.660240963855419}]
[null,null,null,null,null,null,null,null,null,null,null,null,null,null,null,null,null,null,null,124,{"$f":"'Effizienz-Faktor-Neu'!C79","v":"6,5x64 Brenneke"},{"$f":"'Effizienz-Faktor-Neu'!U79","v":18.691588785046729}]
[null,null,null,null,null,null,null,null,null,null,null,null,null,null,null,null,null,null,null,125,{"$f":"'Effizienz-Faktor-Neu'!C98","v":"6,5-284Norma"},{"$f":"'Effizienz-Faktor-Neu'!U98","v":18.979029702970298}]
[null,null,null,null,null,null,null,null,null,null,null,null,null,null,null,null,null,null,null,126,{"$f":"'Effizienz-Faktor-Neu'!C30","v":"7mm-08"},{"$f":"'Effizienz-Faktor-Neu'!U30","v":19.129662650602413}]
[null,null,null,null,null,null,null,null,null,null,null,null,null,null,null,null,null,null,null,127,{"$f":"'Effizienz-Faktor-Neu'!C114","v":"6,5x55 SE"},{"$f":"'Effizienz-Faktor-Neu'!U114","v":19.735542168674698}]
[null,null,null,null,null,null,null,null,null,null,null,null,null,null,null,null,null,null,null,128,{"$f":"'Effizienz-Faktor-Neu'!C70","v":".260 Remington"},{"$f":"'Effizienz-Faktor-Neu'!U70","v":19.785623529411765}]
[null,null,null,null,null,null,null,null,null,null,null,null,null,null,null,null,null,null,null,129,{"$f":"'Effizienz-Faktor-Neu'!C37","v":"7mm-08"},{"$f":"'Effizienz-Faktor-Neu'!U37","v":19.918421052631579}]
[null,null,null,null,null,null,null,null,null,null,null,null,null,null,null,null,null,null,null,130,{"$f":"'Effizienz-Faktor-Neu'!C109","v":"6,5x55 SE"},{"$f":"'Effizienz-Faktor-Neu'!U109","v":20}]
[null,null,null,null,null,null,null,null,null,null,null,null,null,null,null,null,null,null,null,131,{"$f":"'Effizienz-Faktor-Neu'!C35","v":"7mm-08"},{"$f":"'Effizienz-Faktor-Neu'!U35","v":20.205025000000003}]
[null,null,null,null,null,null,null,null,null,null,null,null,null,null,null,null,null,null,null,132,{"$f":"'Effizienz-Faktor-Neu'!C60","v":".260 Remington"},{"$f":"'Effizienz-Faktor-Neu'!U60","v":20.989728395061729}]
[null,null,null,null,null,null,null,null,null,null,null,null,null,null,null,null,null,null,null,133,{"$f":"'Effizienz-Faktor-Neu'!C57","v":".260 Remington"},{"$f":"'Effizienz-Faktor-Neu'!U57","v":21.252099999999999}]

{"sheet":"Graphik Brennraum vs. Gasdruck","index":3,"n_rows":136,"n_cols":22,"rows_kept":136,"cut":false,"hidden":false,"merged":[]}
[]
[null,null,null,null,null,null,null,null,null,null,null,null,null,null,null,null,null,null,null,null,"Copyright© by\nGian-Marchet® 2008\nAlle Rechte vorbehalten\nAll Rights reserved"]
[]
[null,null,null,null,null,null,null,null,null,null,null,null,null,null,null,null,null,null,null,1,{"$f":"'Effizienz-Faktor-Neu'!C134","v":"10.3x60R"},{"$f":"'Effizienz-Faktor-Neu'!T134","v":3171.9274018544093}]
[null,null,null,null,null,null,null,null,null,null,null,null,null,null,null,null,null,null,null,2,{"$f":"'Effizienz-Faktor-Neu'!C131","v":"10.3x60R"},{"$f":"'Effizienz-Faktor-Neu'!T131","v":3190.8360599876696}]
[null,null,null,null,null,null,null,null,null,null,null,null,null,null,null,null,null,null,null,3,{"$f":"'Effizienz-Faktor-Neu'!C133","v":"10.3x60R"},{"$f":"'Effizienz-Faktor-Neu'!T133","v":3316.8876781591421}]
[null,null,null,null,null,null,null,null,null,null,null,null,null,null,null,null,null,null,null,4,{"$f":"'Effizienz-Faktor-Neu'!C132","v":"10.3x60R"},{"$f":"'Effizienz-Faktor-Neu'!T132","v":3398.4936448440099}]
[null,null,null,null,null,null,null,null,null,null,null,null,null,null,null,null,null,null,null,5,{"$f":"'Effizienz-Faktor-Neu'!C135","v":".500/416 NE"},{"$f":"'Effizienz-Faktor-Neu'!T135","v":3516.4989999277764}]
[null,null,null,null,null,null,null,null,null,null,null,null,null,null,null,null,null,null,null,6,{"$f":"'Effizienz-Faktor-Neu'!C136","v":".500/416 NE"},{"$f":"'Effizienz-Faktor-Neu'!T136","v":3552.4052808888309}]
[null,null,null,null,null,null,null,null,null,null,null,null,null,null,null,null,null,null,null,7,{"$f":"'Effizienz-Faktor-Neu'!C137","v":".500/416 NE"},{"$f":"'Effizienz-Faktor-Neu'!T137","v":3573.5925887271342}]
[null,null,null,null,null,null,null,null,null,null,null,null,null,null,null,null,null,null,null,8,{"$f":"'Effizienz-Faktor-Neu'!C124","v":"10.3x60R"},{"$f":"'Effizienz-Faktor-Neu'!T124","v":3627.3629754370627}]
[null,null,null,null,null,null,null,null,null,null,null,null,null,null,null,null,null,null,null,9,{"$f":"'Effizienz-Faktor-Neu'!C130","v":"6,5x57R"},{"$f":"'Effizienz-Faktor-Neu'!T130","v":3741.8310326048349}]
[null,null,null,null,null,null,null,null,null,null,null,null,null,null,null,null,null,null,null,10,{"$f":"'Effizienz-Faktor-Neu'!C128","v":".416 Rigby"},{"$f":"'Effizienz-Faktor-Neu'!T128","v":3760.3059512448208}]
[null,null,null,null,null,null,null,null,null,null,null,null,null,null,null,null,null,null,null,11,{"$f":"'Effizienz-Faktor-Neu'!C127","v":"10.3x60R"},{"$f":"'Effizienz-Faktor-Neu'!T127","v":3766.1407146028605}]
[null,null,null,null,null,null,null,null,null,null,null,null,null,null,null,null,null,null,null,12,{"$f":"'Effizienz-Faktor-Neu'!C129","v":"6,5x57R"},{"$f":"'Effizienz-Faktor-Neu'!T129","v":3845.4729618746919}]
[null,null,null,null,null,null,null,null,null,null,null,null,null,null,null,null,null,null,null,13,{"$f":"'Effizienz-Faktor-Neu'!C121","v":"8x57IRS"},{"$f":"'Effizienz-Faktor-Neu'!T121","v":3872.5056901968678}]
[null,null,null,null,null,null,null,null,null,null,null,null,null,null,null,null,null,null,null,14,{"$f":"'Effizienz-Faktor-Neu'!C123","v":"10.3x60R"},{"$f":"'Effizienz-Faktor-Neu'!T123","v":3972.2652991683235}]
[null,null,null,null,null,null,null,null,null,null,null,null,null,null,null,null,null,null,null,15,{"$f":"'Effizienz-Faktor-Neu'!C126","v":"10.3x60R"},{"$f":"'Effizienz-Faktor-Neu'!T126","v":3984.6841166757831}]
[null,null,null,null,null,null,null,null,null,null,null,null,null,null,null,null,null,null,null,16,{"$f":"'Effizienz-Faktor-Neu'!C119","v":"10.3x60R"},{"$f":"'Effizienz-Faktor-Neu'!T119","v":4243.9068310242346}]
[null,null,null,null,null,null,null,null,null,null,null,null,null,null,null,null,null,null,null,17,{"$f":"'Effizienz-Faktor-Neu'!C120","v":"10.3x60R"},{"$f":"'Effizienz-Faktor-Neu'!T120","v":4243.9068310242346}]
[null,null,null,null,null,null,null,null,null,null,null,null,null,null,null,null,null,null,null,18,{"$f":"'Effizienz-Faktor-Neu'!C114","v":"6,5x55 SE"},{"$f":"'Effizienz-Faktor-Neu'!T114","v":4261.9029308947001}]
[null,null,null,null,null,null,null,null,null,null,null,null,null,null,null,null,null,null,null,19,{"$f":"'Effizienz-Faktor-Neu'!C92","v":"9,3x74R"},{"$f":"'Effizienz-Faktor-Neu'!T92","v":4364.6226795476514}]
[null,null,null,null,null,null,null,null,null,null,null,null,null,null,null,null,null,null,null,20,{"$f":"'Effizienz-Faktor-Neu'!C125","v":"6,5x68R"},{"$f":"'Effizienz-Faktor-Neu'!T125","v":4385.5353137327957}]
[null,null,null,null,null,null,null,null,null,null,null,null,null,null,null,null,null,null,null,21,{"$f":"'Effizienz-Faktor-Neu'!C109","v":"6,5x55 SE"},{"$f":"'Effizienz-Faktor-Neu'!T109","v":4391.895612882774}]
[null,null,null,null,null,null,null,null,null,null,null,null,null,null,null,null,null,null,null,22,{"$f":"'Effizienz-Faktor-Neu'!C96","v":"8x75RS"},{"$f":"'Effizienz-Faktor-Neu'!T96","v":4397.5365906623238}]
[null,null,null,null,null,null,null,null,null,null,null,null,null,null,null,null,null,null,null,23,{"$f":"'Effizienz-Faktor-Neu'!C112","v":"6,5x57"},{"$f":"'Effizienz-Faktor-Neu'!T112","v":4404.7398029453871}]
[null,null,null,null,null,null,null,null,null,null,null,null,null,null,null,null,null,null,null,24,{"$f":"'Effizienz-Faktor-Neu'!C115","v":"6,5x55 SE"},{"$f":"'Effizienz-Faktor-Neu'!T115","v":4411.1161626109269}]
[null,null,null,null,null,null,null,null,null,null,null,null,null,null,null,null,null,null,null,25,{"$f":"'Effizienz-Faktor-Neu'!C122","v":"6,5x68R"},{"$f":"'Effizienz-Faktor-Neu'!T122","v":4415.6525662835229}]
[null,null,null,null,null,null,null,null,null,null,null,null,null,null,null,null,null,null,null,26,{"$f":"'Effizienz-Faktor-Neu'!C102","v":"8x75RS"},{"$f":"'Effizienz-Faktor-Neu'!T102","v":4422.3014789444114}]
[null,null,null,null,null,null,null,null,null,null,null,null,null,null,null,null,null,null,null,27,{"$f":"'Effizienz-Faktor-Neu'!C101","v":"7,5x55"},{"$f":"'Effizienz-Faktor-Neu'!T101","v":4444.4593607210154}]
[null,null,null,null,null,null,null,null,null,null,null,null,null,null,null,null,null,null,null,28,{"$f":"'Effizienz-Faktor-Neu'!C93","v":"9,3x74R"},{"$f":"'Effizienz-Faktor-Neu'!T93","v":4444.5874521576188}]
[null,null,null,null,null,null,null,null,null,null,null,null,null,null,null,null,null,null,null,29,{"$f":"'Effizienz-Faktor-Neu'!C76","v":"8x57IS"},{"$f":"'Effizienz-Faktor-Neu'!T76","v":4458.0329924235639}]
[null,null,null,null,null,null,null,null,null,null,null,null,null,null,null,null,null,null,null,30,{"$f":"'Effizienz-Faktor-Neu'!C113","v":"6,5x57"},{"$f":"'Effizienz-Faktor-Neu'!T113","v":4464.184558158463}]
[null,null,null,null,null,null,null,null,null,null,null,null,null,null,null,null,null,null,null,31,{"$f":"'Effizienz-Faktor-Neu'!C73","v":"8x57IS"},{"$f":"'Effizienz-Faktor-Neu'!T73","v":4468.4112378792843}]
[null,null,null,null,null,null,null,null,null,null,null,null,null,null,null,null,null,null,null,32,{"$f":"'Effizienz-Faktor-Neu'!C91","v":"7,5x55"},{"$f":"'Effizienz-Faktor-Neu'!T91","v":4470.9718623305225}]
[null,null,null,null,null,null,null,null,null,null,null,null,null,null,null,null,null,null,null,33,{"$f":"'Effizienz-Faktor-Neu'!C64","v":"8x57IS"},{"$f":"'Effizienz-Faktor-Neu'!T64","v":4473.0393178770873}]
[null,null,null,null,null,null,null,null,null,null,null,null,null,null,null,null,null,null,null,34,{"$f":"'Effizienz-Faktor-Neu'!C89","v":"9,3x74R"},{"$f":"'Effizienz-Faktor-Neu'!T89","v":4510.7003148671974}]
[null,null,null,null,null,null,null,null,null,null,null,null,null,null,null,null,null,null,null,35,{"$f":"'Effizienz-Faktor-Neu'!C95","v":".30 R Blaser"},{"$f":"'Effizienz-Faktor-Neu'!T95","v":4515.4739719504205}]
[null,null,null,null,null,null,null,null,null,null,null,null,null,null,null,null,null,null,null,36,{"$f":"'Effizienz-Faktor-Neu'!C103","v":"7x65R"},{"$f":"'Effizienz-Faktor-Neu'!T103","v":4539.5589239553719}]
[null,null,null,null,null,null,null,null,null,null,null,null,null,null,null,null,null,null,null,37,{"$f":"'Effizienz-Faktor-Neu'!C90","v":".30-06 Springfield"},{"$f":"'Effizienz-Faktor-Neu'!T90","v":4549.0626263546637}]
[null,null,null,null,null,null,null,null,null,null,null,null,null,null,null,null,null,null,null,38,{"$f":"'Effizienz-Faktor-Neu'!C65","v":"8x57IS"},{"$f":"'Effizienz-Faktor-Neu'!T65","v":4564.0364189276916}]
[null,null,null,null,null,null,null,null,null,null,null,null,null,null,null,null,null,null,null,39,{"$f":"'Effizienz-Faktor-Neu'!C86","v":"7x57"},{"$f":"'Effizienz-Faktor-Neu'!T86","v":4564.5716853328431}]
[null,null,null,null,null,null,null,null,null,null,null,null,null,null,null,null,null,null,null,40,{"$f":"'Effizienz-Faktor-Neu'!C74","v":"8x57IS"},{"$f":"'Effizienz-Faktor-Neu'!T74","v":4572.492812504318}]
[null,null,null,null,null,null,null,null,null,null,null,null,null,null,null,null,null,null,null,41,{"$f":"'Effizienz-Faktor-Neu'!C105","v":"6,5-284Norma"},{"$f":"'Effizienz-Faktor-Neu'!T105","v":4584.0169821092441}]
[null,null,null,null,null,null,null,null,null,null,null,null,null,null,null,null,null,null,null,42,{"$f":"'Effizienz-Faktor-Neu'!C88","v":".30-06 Springfield"},{"$f":"'Effizienz-Faktor-Neu'!T88","v":4606.5728997599062}]
[null,null,null,null,null,null,null,null,null,null,null,null,null,null,null,null,null,null,null,43,{"$f":"'Effizienz-Faktor-Neu'!C61","v":"8x57IS"},{"$f":"'Effizienz-Faktor-Neu'!T61","v":4607.8628555991763}]
[null,null,null,null,null,null,null,null,null,null,null,null,null,null,null,null,null,null,null,44,{"$f":"'Effizienz-Faktor-Neu'!C98","v":"6,5-284Norma"},{"$f":"'Effizienz-Faktor-Neu'!T98","v":4623.0592109147838}]
[null,null,null,null,null,null,null,null,null,null,null,null,null,null,null,null,null,null,null,45,{"$f":"'Effizienz-Faktor-Neu'!C87","v":".30-06 Springfield"},{"$f":"'Effizienz-Faktor-Neu'!T87","v":4659.5897234144322}]
[null,null,null,null,null,null,null,null,null,null,null,null,null,null,null,null,null,null,null,46,{"$f":"'Effizienz-Faktor-Neu'!C58","v":"10,3x74R"},{"$f":"'Effizienz-Faktor-Neu'!T58","v":4664.2481091769878}]
[null,null,null,null,null,null,null,null,null,null,null,null,null,null,null,null,null,null,null,47,{"$f":"'Effizienz-Faktor-Neu'!C67","v":"7,5x55"},{"$f":"'Effizienz-Faktor-Neu'!T67","v":4699.0436672199967}]
[null,null,null,null,null,null,null,null,null,null,null,null,null,null,null,null,null,null,null,48,{"$f":"'Effizienz-Faktor-Neu'!C107","v":"6,5x65 RWS"},{"$f":"'Effizienz-Faktor-Neu'!T107","v":4725.4774315381273}]
[null,null,null,null,null,null,null,null,null,null,null,null,null,null,null,null,null,null,null,49,{"$f":"'Effizienz-Faktor-Neu'!C118","v":".300 Weatherby Magnum"},{"$f":"'Effizienz-Faktor-Neu'!T118","v":4741.7651883504996}]
[null,null,null,null,null,null,null,null,null,null,null,null,null,null,null,null,null,null,null,50,{"$f":"'Effizienz-Faktor-Neu'!C108","v":".300 Weatherby Magnum"},{"$f":"'Effizienz-Faktor-Neu'!T108","v":4745.0151987606096}]
[null,null,null,null,null,null,null,null,null,null,null,null,null,null,null,null,null,null,null,51,{"$f":"'Effizienz-Faktor-Neu'!C99","v":".300 Weatherby Magnum"},{"$f":"'Effizienz-Faktor-Neu'!T99","v":4754.792015791023}]
[null,null,null,null,null,null,null,null,null,null,null,null,null,null,null,null,null,null,null,52,{"$f":"'Effizienz-Faktor-Neu'!C106","v":".300 Weatherby Magnum"},{"$f":"'Effizienz-Faktor-Neu'!T106","v":4754.792015791023}]
[null,null,null,null,null,null,null,null,null,null,null,null,null,null,null,null,null,null,null,53,{"$f":"'Effizienz-Faktor-Neu'!C66","v":"9,3x62"},{"$f":"'Effizienz-Faktor-Neu'!T66","v":4759.9026668679371}]
[null,null,null,null,null,null,null,null,null,null,null,null,null,null,null,null,null,null,null,54,{"$f":"'Effizienz-Faktor-Neu'!C80","v":"7x64"},{"$f":"'Effizienz-Faktor-Neu'!T80","v":4766.7200442836529}]
[null,null,null,null,null,null,null,null,null,null,null,null,null,null,null,null,null,null,null,55,{"$f":"'Effizienz-Faktor-Neu'!C116","v":"6,5x68"},{"$f":"'Effizienz-Faktor-Neu'!T116","v":4771.5154353534317}]
[null,null,null,null,null,null,null,null,null,null,null,null,null,null,null,null,null,null,null,56,{"$f":"'Effizienz-Faktor-Neu'!C117","v":"6,5x68"},{"$f":"'Effizienz-Faktor-Neu'!T117","v":4771.5154353534317}]
[null,null,null,null,null,null,null,null,null,null,null,null,null,null,null,null,null,null,null,57,{"$f":"'Effizienz-Faktor-Neu'!C52","v":".338 Winchester Magnum"},{"$f":"'Effizienz-Faktor-Neu'!T52","v":4788.7665906372422}]
[null,null,null,null,null,null,null,null,null,null,null,null,null,null,null,null,null,null,null,58,{"$f":"'Effizienz-Faktor-Neu'!C82","v":".300 Winchester Magnum"},{"$f":"'Effizienz-Faktor-Neu'!T82","v":4789.9394424366756}]
[null,null,null,null,null,null,null,null,null,null,null,null,null,null,null,null,null,null,null,59,{"$f":"'Effizienz-Faktor-Neu'!C94","v":"6,5x65 RWS"},{"$f":"'Effizienz-Faktor-Neu'!T94","v":4793.5712678186765}]
[null,null,null,null,null,null,null,null,null,null,null,null,null,null,null,null,null,null,null,60,{"$f":"'Effizienz-Faktor-Neu'!C111","v":"7,82 Warbird"},{"$f":"'Effizienz-Faktor-Neu'!T111","v":4794.4463781567856}]
[null,null,null,null,null,null,null,null,null,null,null,null,null,null,null,null,null,null,null,61,{"$f":"'Effizienz-Faktor-Neu'!C50","v":".338 Winchester Magnum"},{"$f":"'Effizienz-Faktor-Neu'!T50","v":4804.3760742854201}]
[null,null,null,null,null,null,null,null,null,null,null,null,null,null,null,null,null,null,null,62,{"$f":"'Effizienz-Faktor-Neu'!C110","v":"7,82 Warbird"},{"$f":"'Effizienz-Faktor-Neu'!T110","v":4807.654219418926}]
[null,null,null,null,null,null,null,null,null,null,null,null,null,null,null,null,null,null,null,63,{"$f":"'Effizienz-Faktor-Neu'!C85","v":".300 Winchester Magnum"},{"$f":"'Effizienz-Faktor-Neu'!T85","v":4810.1264969821823}]
[null,null,null,null,null,null,null,null,null,null,null,null,null,null,null,null,null,null,null,64,{"$f":"'Effizienz-Faktor-Neu'!C75","v":"8mm Remington Magnum"},{"$f":"'Effizienz-Faktor-Neu'!T75","v":4844.8542800666028}]
[null,null,null,null,null,null,null,null,null,null,null,null,null,null,null,null,null,null,null,65,{"$f":"'Effizienz-Faktor-Neu'!C78","v":".300 WSM"},{"$f":"'Effizienz-Faktor-Neu'!T78","v":4855.3335867580481}]
[null,null,null,null,null,null,null,null,null,null,null,null,null,null,null,null,null,null,null,66,{"$f":"'Effizienz-Faktor-Neu'!C68","v":".300 WSM"},{"$f":"'Effizienz-Faktor-Neu'!T68","v":4857.6093465831045}]
[null,null,null,null,null,null,null,null,null,null,null,null,null,null,null,null,null,null,null,64,{"$f":"'Effizienz-Faktor-Neu'!C45","v":"9,3x62 Drückjagd"},{"$f":"'Effizienz-Faktor-Neu'!T45","v":4865.5623314380391}]
[null,null,null,null,null,null,null,null,null,null,null,null,null,null,null,null,null,null,null,68,{"$f":"'Effizienz-Faktor-Neu'!C51","v":"9,3x62"},{"$f":"'Effizienz-Faktor-Neu'!T51","v":4865.5623314380391}]
[null,null,null,null,null,null,null,null,null,null,null,null,null,null,null,null,null,null,null,69,{"$f":"'Effizienz-Faktor-Neu'!C60","v":".260 Remington"},{"$f":"'Effizienz-Faktor-Neu'!T60","v":4882.3493554717343}]
[null,null,null,null,null,null,null,null,null,null,null,null,null,null,null,null,null,null,null,70,{"$f":"'Effizienz-Faktor-Neu'!C53","v":"8x57IS"},{"$f":"'Effizienz-Faktor-Neu'!T53","v":4884.0480196893732}]
[null,null,null,null,null,null,null,null,null,null,null,null,null,null,null,null,null,null,null,71,{"$f":"'Effizienz-Faktor-Neu'!C57","v":".260 Remington"},{"$f":"'Effizienz-Faktor-Neu'!T57","v":4884.7298280975119}]
[null,null,null,null,null,null,null,null,null,null,null,null,null,null,null,null,null,null,null,72,{"$f":"'Effizienz-Faktor-Neu'!C70","v":".260 Remington"},{"$f":"'Effizienz-Faktor-Neu'!T70","v":4885.9209351026566}]
[null,null,null,null,null,null,null,null,null,null,null,null,null,null,null,null,null,null,null,73,{"$f":"'Effizienz-Faktor-Neu'!C54","v":"9,3x62"},{"$f":"'Effizienz-Faktor-Neu'!T54","v":4891.0294620984587}]
[null,null,null,null,null,null,null,null,null,null,null,null,null,null,null,null,null,null,null,74,{"$f":"'Effizienz-Faktor-Neu'!C83","v":"6,5x64 Brenneke"},{"$f":"'Effizienz-Faktor-Neu'!T83","v":4904.7138525122782}]
[null,null,null,null,null,null,null,null,null,null,null,null,null,null,null,null,null,null,null,75,{"$f":"'Effizienz-Faktor-Neu'!C97","v":"7x66 SE von Hofe"},{"$f":"'Effizienz-Faktor-Neu'!T97","v":4914.9782454771284}]
[null,null,null,null,null,null,null,null,null,null,null,null,null,null,null,null,null,null,null,76,{"$f":"'Effizienz-Faktor-Neu'!C84","v":"7mm Weatherby Magnum"},{"$f":"'Effizienz-Faktor-Neu'!T84","v":4929.7879168735981}]
[null,null,null,null,null,null,null,null,null,null,null,null,null,null,null,null,null,null,null,77,{"$f":"'Effizienz-Faktor-Neu'!C104","v":"7x66 SE von Hofe"},{"$f":"'Effizienz-Faktor-Neu'!T104","v":4933.1314430596849}]
[null,null,null,null,null,null,null,null,null,null,null,null,null,null,null,null,null,null,null,78,{"$f":"'Effizienz-Faktor-Neu'!C35","v":"7mm-08"},{"$f":"'Effizienz-Faktor-Neu'!T35","v":4939.0932995063204}]
[null,null,null,null,null,null,null,null,null,null,null,null,null,null,null,null,null,null,null,79,{"$f":"'Effizienz-Faktor-Neu'!C79","v":"6,5x64 Brenneke"},{"$f":"'Effizienz-Faktor-Neu'!T79","v":4944.3243681857748}]
[null,null,null,null,null,null,null,null,null,null,null,null,null,null,null,null,null,null,null,80,{"$f":"'Effizienz-Faktor-Neu'!C37","v":"7mm-08"},{"$f":"'Effizienz-Faktor-Neu'!T37","v":4947.4870001852578}]
[null,null,null,null,null,null,null,null,null,null,null,null,null,null,null,null,null,null,null,81,{"$f":"'Effizienz-Faktor-Neu'!C48","v":"9,3x62"},{"$f":"'Effizienz-Faktor-Neu'!T48","v":4948.2823153337249}]
[null,null,null,null,null,null,null,null,null,null,null,null,null,null,null,null,null,null,null,82,{"$f":"'Effizienz-Faktor-Neu'!C81","v":"6,5x64 Brenneke"},{"$f":"'Effizienz-Faktor-Neu'!T81","v":4954.9168269607499}]
[null,null,null,null,null,null,null,null,null,null,null,null,null,null,null,null,null,null,null,83,{"$f":"'Effizienz-Faktor-Neu'!C100","v":".270 Winchester"},{"$f":"'Effizienz-Faktor-Neu'!T100","v":4983.6632195399852}]
[null,null,null,null,null,null,null,null,null,null,null,null,null,null,null,null,null,null,null,84,{"$f":"'Effizienz-Faktor-Neu'!C56","v":"7x64"},{"$f":"'Effizienz-Faktor-Neu'!T56","v":4992.3351924018116}]
[null,null,null,null,null,null,null,null,null,null,null,null,null,null,null,null,null,null,null,85,{"$f":"'Effizienz-Faktor-Neu'!C71","v":"7mm WSM"},{"$f":"'Effizienz-Faktor-Neu'!T71","v":4996.5987540932892}]
[null,null,null,null,null,null,null,null,null,null,null,null,null,null,null,null,null,null,null,86,{"$f":"'Effizienz-Faktor-Neu'!C55","v":"7x64"},{"$f":"'Effizienz-Faktor-Neu'!T55","v":5023.9562665872809}]
[null,null,null,null,null,null,null,null,null,null,null,null,null,null,null,null,null,null,null,87,{"$f":"'Effizienz-Faktor-Neu'!C49","v":"8x64S"},{"$f":"'Effizienz-Faktor-Neu'!T49","v":5025.4272101239994}]
[null,null,null,null,null,null,null,null,null,null,null,null,null,null,null,null,null,null,null,88,{"$f":"'Effizienz-Faktor-Neu'!C27","v":".308 Winchester"},{"$f":"'Effizienz-Faktor-Neu'!T27","v":5026.0407637275648}]
[null,null,null,null,null,null,null,null,null,null,null,null,null,null,null,null,null,null,null,89,{"$f":"'Effizienz-Faktor-Neu'!C62","v":"7x64"},{"$f":"'Effizienz-Faktor-Neu'!T62","v":5026.5032659619765}]
[null,null,null,null,null,null,null,null,null,null,null,null,null,null,null,null,null,null,null,90,{"$f":"'Effizienz-Faktor-Neu'!C77","v":".270 Winchester"},{"$f":"'Effizienz-Faktor-Neu'!T77","v":5027.5828954037397}]
[null,null,null,null,null,null,null,null,null,null,null,null,null,null,null,null,null,null,null,91,{"$f":"'Effizienz-Faktor-Neu'!C38","v":".416 Weatherby Magnum"},{"$f":"'Effizienz-Faktor-Neu'!T38","v":5041.914821967368}]
[null,null,null,null,null,null,null,null,null,null,null,null,null,null,null,null,null,null,null,92,{"$f":"'Effizienz-Faktor-Neu'!C72","v":"7mm Remington Magnum"},{"$f":"'Effizienz-Faktor-Neu'!T72","v":5052.4282904852844}]
[null,null,null,null,null,null,null,null,null,null,null,null,null,null,null,null,null,null,null,93,{"$f":"'Effizienz-Faktor-Neu'!C28","v":"10,57 Meteor"},{"$f":"'Effizienz-Faktor-Neu'!T28","v":5069.850560035542}]
[null,null,null,null,null,null,null,null,null,null,null,null,null,null,null,null,null,null,null,94,{"$f":"'Effizienz-Faktor-Neu'!C59","v":"7x64"},{"$f":"'Effizienz-Faktor-Neu'!T59","v":5071.4975407212269}]
[null,null,null,null,null,null,null,null,null,null,null,null,null,null,null,null,null,null,null,95,{"$f":"'Effizienz-Faktor-Neu'!C69","v":"7mm WSM"},{"$f":"'Effizienz-Faktor-Neu'!T69","v":5100.1432827298067}]
[null,null,null,null,null,null,null,null,null,null,null,null,null,null,null,null,null,null,null,96,{"$f":"'Effizienz-Faktor-Neu'!C31","v":"8x64S"},{"$f":"'Effizienz-Faktor-Neu'!T31","v":5121.91541255838}]
[null,null,null,null,null,null,null,null,null,null,null,null,null,null,null,null,null,null,null,97,{"$f":"'Effizienz-Faktor-Neu'!C30","v":"7mm-08"},{"$f":"'Effizienz-Faktor-Neu'!T30","v":5148.736471390368}]
[null,null,null,null,null,null,null,null,null,null,null,null,null,null,null,null,null,null,null,98,{"$f":"'Effizienz-Faktor-Neu'!C44","v":".338 Lapua Magnum"},{"$f":"'Effizienz-Faktor-Neu'!T44","v":5166.4217885778298}]
[null,null,null,null,null,null,null,null,null,null,null,null,null,null,null,null,null,null,null,99,{"$f":"'Effizienz-Faktor-Neu'!C47","v":".338 Lapua Magnum"},{"$f":"'Effizienz-Faktor-Neu'!T47","v":5181.8835040630993}]
[null,null,null,null,null,null,null,null,null,null,null,null,null,null,null,null,null,null,null,100,{"$f":"'Effizienz-Faktor-Neu'!C39","v":".284 Winchester"},{"$f":"'Effizienz-Faktor-Neu'!T39","v":5188.934657495538}]
[null,null,null,null,null,null,null,null,null,null,null,null,null,null,null,null,null,null,null,101,{"$f":"'Effizienz-Faktor-Neu'!C43","v":".375 Remington Ultra Magnum"},{"$f":"'Effizienz-Faktor-Neu'!T43","v":5203.2957974690707}]
[null,null,null,null,null,null,null,null,null,null,null,null,null,null,null,null,null,null,null,102,{"$f":"'Effizienz-Faktor-Neu'!C19","v":"10,3x72 Gian-Marchet®"},{"$f":"'Effizienz-Faktor-Neu'!T19","v":5222.793780840916}]
[null,null,null,null,null,null,null,null,null,null,null,null,null,null,null,null,null,null,null,103,{"$f":"'Effizienz-Faktor-Neu'!C41","v":"8x68S"},{"$f":"'Effizienz-Faktor-Neu'!T41","v":5224.7301734867933}]
[null,null,null,null,null,null,null,null,null,null,null,null,null,null,null,null,null,null,null,104,{"$f":"'Effizienz-Faktor-Neu'!C36","v":".375 Remington Ultra Magnum"},{"$f":"'Effizienz-Faktor-Neu'!T36","v":5224.9161401178344}]
[null,null,null,null,null,null,null,null,null,null,null,null,null,null,null,null,null,null,null,105,{"$f":"'Effizienz-Faktor-Neu'!C29","v":"10,57 Meteor"},{"$f":"'Effizienz-Faktor-Neu'!T29","v":5232.3379972622251}]
[null,null,null,null,null,null,null,null,null,null,null,null,null,null,null,null,null,null,null,106,{"$f":"'Effizienz-Faktor-Neu'!C42","v":".375 Remington Ultra Magnum"},{"$f":"'Effizienz-Faktor-Neu'!T42","v":5238.2172457742317}]
[null,null,null,null,null,null,null,null,null,null,null,null,null,null,null,null,null,null,null,107,{"$f":"'Effizienz-Faktor-Neu'!C40","v":".338 Lapua Magnum"},{"$f":"'Effizienz-Faktor-Neu'!T40","v":5243.5325615416787}]
[null,null,null,null,null,null,null,null,null,null,null,null,null,null,null,null,null,null,null,108,{"$f":"'Effizienz-Faktor-Neu'!C32","v":".378 Weatherby Magnum"},{"$f":"'Effizienz-Faktor-Neu'!T32","v":5257.976506603587}]
[null,null,null,null,null,null,null,null,null,null,null,null,null,null,null,null,null,null,null,109,{"$f":"'Effizienz-Faktor-Neu'!C23","v":"9,3x64"},{"$f":"'Effizienz-Faktor-Neu'!T23","v":5280.378886129387}]
[null,null,null,null,null,null,null,null,null,null,null,null,null,null,null,null,null,null,null,110,{"$f":"'Effizienz-Faktor-Neu'!C16","v":".416 Remington Magnum"},{"$f":"'Effizienz-Faktor-Neu'!T16","v":5288.2502087955827}]
[null,null,null,null,null,null,null,null,null,null,null,null,null,null,null,null,null,null,null,111,{"$f":"'Effizienz-Faktor-Neu'!C46","v":".378 Weatherby Magnum"},{"$f":"'Effizienz-Faktor-Neu'!T46","v":5290.4871817930507}]
[null,null,null,null,null,null,null,null,null,null,null,null,null,null,null,null,null,null,null,112,{"$f":"'Effizienz-Faktor-Neu'!C22","v":".416 Remington Magnum"},{"$f":"'Effizienz-Faktor-Neu'!T22","v":5305.2416207368433}]
[null,null,null,null,null,null,null,null,null,null,null,null,null,null,null,null,null,null,null,113,{"$f":"'Effizienz-Faktor-Neu'!C21","v":".308 Winchester"},{"$f":"'Effizienz-Faktor-Neu'!T21","v":5340.4139154853474}]
[null,null,null,null,null,null,null,null,null,null,null,null,null,null,null,null,null,null,null,114,{"$f":"'Effizienz-Faktor-Neu'!C24","v":".375 Ruger"},{"$f":"'Effizienz-Faktor-Neu'!T24","v":5341.0382236672458}]
[null,null,null,null,null,null,null,null,null,null,null,null,null,null,null,null,null,null,null,115,{"$f":"'Effizienz-Faktor-Neu'!C26","v":".375 Ruger"},{"$f":"'Effizienz-Faktor-Neu'!T26","v":5342.2537535315305}]
[null,null,null,null,null,null,null,null,null,null,null,null,null,null,null,null,null,null,null,116,{"$f":"'Effizienz-Faktor-Neu'!C20","v":".416 Remington Magnum"},{"$f":"'Effizienz-Faktor-Neu'!T20","v":5362.2302267052883}]
[null,null,null,null,null,null,null,null,null,null,null,null,null,null,null,null,null,null,null,117,{"$f":"'Effizienz-Faktor-Neu'!C17","v":".375 Holland & Holland Magnum"},{"$f":"'Effizienz-Faktor-Neu'!T17","v":5398.9856905039978}]
[null,null,null,null,null,null,null,null,null,null,null,null,null,null,null,null,null,null,null,118,{"$f":"'Effizienz-Faktor-Neu'!C6","v":".416/323 Gian-Marchet®"},{"$f":"'Effizienz-Faktor-Neu'!T6","v":5407.6164452053827}]
[null,null,null,null,null,null,null,null,null,null,null,null,null,null,null,null,null,null,null,119,{"$f":"'Effizienz-Faktor-Neu'!C25","v":"8x68S"},{"$f":"'Effizienz-Faktor-Neu'!T25","v":5511.3832554264491}]
[null,null,null,null,null,null,null,null,null,null,null,null,null,null,null,null,null,null,null,120,{"$f":"'Effizienz-Faktor-Neu'!C63","v":"7mm STW"},{"$f":"'Effizienz-Faktor-Neu'!T63","v":5562.8994273531816}]
[null,null,null,null,null,null,null,null,null,null,null,null,null,null,null,null,null,null,null,121,{"$f":"'Effizienz-Faktor-Neu'!C34","v":".300 WSM"},{"$f":"'Effizienz-Faktor-Neu'!T34","v":5583.8952267969044}]
[null,null,null,null,null,null,null,null,null,null,null,null,null,null,null,null,null,null,null,122,{"$f":"'Effizienz-Faktor-Neu'!C13","v":".375 Holland & Holland Magnum"},{"$f":"'Effizienz-Faktor-Neu'!T13","v":5593.9527720804463}]
[null,null,null,null,null,null,null,null,null,null,null,null,null,null,null,null,null,null,null,123,{"$f":"'Effizienz-Faktor-Neu'!C15","v":"9,3x64"},{"$f":"'Effizienz-Faktor-Neu'!T15","v":5627.8428423050755}]
[null,null,null,null,null,null,null,null,null,null,null,null,null,null,null,null,null,null,null,124,{"$f":"'Effizienz-Faktor-Neu'!C10","v":".416 Taylor"},{"$f":"'Effizienz-Faktor-Neu'!T10","v":5629.7188271419109}]
[null,null,null,null,null,null,null,null,null,null,null,null,null,null,null,null,null,null,null,125,{"$f":"'Effizienz-Faktor-Neu'!C18","v":".338 Winchester Magnum"},{"$f":"'Effizienz-Faktor-Neu'!T18","v":5642.4529232374225}]
[null,null,null,null,null,null,null,null,null,null,null,null,null,null,null,null,null,null,null,126,{"$f":"'Effizienz-Faktor-Neu'!C14","v":"9,3x64"},{"$f":"'Effizienz-Faktor-Neu'!T14","v":5645.0533708748153}]
[null,null,null,null,null,null,null,null,null,null,null,null,null,null,null,null,null,null,null,127,{"$f":"'Effizienz-Faktor-Neu'!C9","v":".416 Taylor"},{"$f":"'Effizienz-Faktor-Neu'!T9","v":5751.3442400948161}]
[null,null,null,null,null,null,null,null,null,null,null,null,null,null,null,null,null,null,null,128,{"$f":"'Effizienz-Faktor-Neu'!C12","v":".375 Holland & Holland Magnum"},{"$f":"'Effizienz-Faktor-Neu'!T12","v":5790.1564407376454}]
[null,null,null,null,null,null,null,null,null,null,null,null,null,null,null,null,null,null,null,129,{"$f":"'Effizienz-Faktor-Neu'!C11","v":".416 Remington Magnum"},{"$f":"'Effizienz-Faktor-Neu'!T11","v":5791.961035483343}]
[null,null,null,null,null,null,null,null,null,null,null,null,null,null,null,null,null,null,null,130,{"$f":"'Effizienz-Faktor-Neu'!C7","v":".376 Steyr"},{"$f":"'Effizienz-Faktor-Neu'!T7","v":5875.9461489570695}]
[null,null,null,null,null,null,null,null,null,null,null,null,null,null,null,null,null,null,null,131,{"$f":"'Effizienz-Faktor-Neu'!C33","v":".300 Weatherby Magnum"},{"$f":"'Effizienz-Faktor-Neu'!T33","v":5923.8253066101497}]
[null,null,null,null,null,null,null,null,null,null,null,null,null,null,null,null,null,null,null,132,{"$f":"'Effizienz-Faktor-Neu'!C5","v":".416/323 Gian-Marchet®"},{"$f":"'Effizienz-Faktor-Neu'!T5","v":5930.8471635943315}]
[null,null,null,null,null,null,null,null,null,null,null,null,null,null,null,null,null,null,null,133,{"$f":"'Effizienz-Faktor-Neu'!C8","v":"10,3x72 Gian-Marchet®"},{"$f":"'Effizienz-Faktor-Neu'!T8","v":5954.0726636245781}]